BEGIN:VCALENDAR
VERSION:2.0
PRODID:-//Meta-Games Unlimited - ECPv6.15.20//NONSGML v1.0//EN
CALSCALE:GREGORIAN
METHOD:PUBLISH
X-ORIGINAL-URL:https://www.mguinc.com
X-WR-CALDESC:Events for Meta-Games Unlimited
REFRESH-INTERVAL;VALUE=DURATION:PT1H
X-Robots-Tag:noindex
X-PUBLISHED-TTL:PT1H
BEGIN:VTIMEZONE
TZID:America/Chicago
BEGIN:DAYLIGHT
TZOFFSETFROM:-0600
TZOFFSETTO:-0500
TZNAME:CDT
DTSTART:20270314T080000
END:DAYLIGHT
BEGIN:STANDARD
TZOFFSETFROM:-0500
TZOFFSETTO:-0600
TZNAME:CST
DTSTART:20271107T070000
END:STANDARD
BEGIN:DAYLIGHT
TZOFFSETFROM:-0600
TZOFFSETTO:-0500
TZNAME:CDT
DTSTART:20280312T080000
END:DAYLIGHT
BEGIN:STANDARD
TZOFFSETFROM:-0500
TZOFFSETTO:-0600
TZNAME:CST
DTSTART:20281105T070000
END:STANDARD
BEGIN:DAYLIGHT
TZOFFSETFROM:-0600
TZOFFSETTO:-0500
TZNAME:CDT
DTSTART:20290311T080000
END:DAYLIGHT
BEGIN:STANDARD
TZOFFSETFROM:-0500
TZOFFSETTO:-0600
TZNAME:CST
DTSTART:20291104T070000
END:STANDARD
END:VTIMEZONE
BEGIN:VEVENT
DTSTART;TZID=America/Chicago:20280302T180000
DTEND;TZID=America/Chicago:20280302T220000
DTSTAMP:20260425T151903
CREATED:20230325T171833Z
LAST-MODIFIED:20251227T224027Z
UID:10001833-1835632800-1835647200@www.mguinc.com
SUMMARY:Marvel Crisis Protocol Meet-up
DESCRIPTION:Come in and meet up with local Marvel Crisis Protocol players every Thursday night. You can also get in touch with the players on the Ozark Mountain Irregular (our local skirmish miniature game group) Facebook group HERE
URL:https://www.mguinc.com/event/marvel-crisis-protocol-meet-up/2028-03-02/
LOCATION:Meta-Games\, 3309 E Sunshine\, Springfield\, MO\, 65804\, United States
ATTACH;FMTTYPE=image/jpeg:https://www.mguinc.com/wp-content/uploads/2023/03/mcpthur-1.jpg
END:VEVENT
BEGIN:VEVENT
DTSTART;TZID=America/Chicago:20280309T180000
DTEND;TZID=America/Chicago:20280309T220000
DTSTAMP:20260425T151903
CREATED:20230325T171833Z
LAST-MODIFIED:20251227T224027Z
UID:10001834-1836237600-1836252000@www.mguinc.com
SUMMARY:Marvel Crisis Protocol Meet-up
DESCRIPTION:Come in and meet up with local Marvel Crisis Protocol players every Thursday night. You can also get in touch with the players on the Ozark Mountain Irregular (our local skirmish miniature game group) Facebook group HERE
URL:https://www.mguinc.com/event/marvel-crisis-protocol-meet-up/2028-03-09/
LOCATION:Meta-Games\, 3309 E Sunshine\, Springfield\, MO\, 65804\, United States
ATTACH;FMTTYPE=image/jpeg:https://www.mguinc.com/wp-content/uploads/2023/03/mcpthur-1.jpg
END:VEVENT
BEGIN:VEVENT
DTSTART;TZID=America/Chicago:20280316T180000
DTEND;TZID=America/Chicago:20280316T220000
DTSTAMP:20260425T151903
CREATED:20230325T171833Z
LAST-MODIFIED:20251227T224027Z
UID:10001835-1836842400-1836856800@www.mguinc.com
SUMMARY:Marvel Crisis Protocol Meet-up
DESCRIPTION:Come in and meet up with local Marvel Crisis Protocol players every Thursday night. You can also get in touch with the players on the Ozark Mountain Irregular (our local skirmish miniature game group) Facebook group HERE
URL:https://www.mguinc.com/event/marvel-crisis-protocol-meet-up/2028-03-16/
LOCATION:Meta-Games\, 3309 E Sunshine\, Springfield\, MO\, 65804\, United States
ATTACH;FMTTYPE=image/jpeg:https://www.mguinc.com/wp-content/uploads/2023/03/mcpthur-1.jpg
END:VEVENT
BEGIN:VEVENT
DTSTART;TZID=America/Chicago:20280323T180000
DTEND;TZID=America/Chicago:20280323T220000
DTSTAMP:20260425T151903
CREATED:20230325T171833Z
LAST-MODIFIED:20251227T224027Z
UID:10001836-1837447200-1837461600@www.mguinc.com
SUMMARY:Marvel Crisis Protocol Meet-up
DESCRIPTION:Come in and meet up with local Marvel Crisis Protocol players every Thursday night. You can also get in touch with the players on the Ozark Mountain Irregular (our local skirmish miniature game group) Facebook group HERE
URL:https://www.mguinc.com/event/marvel-crisis-protocol-meet-up/2028-03-23/
LOCATION:Meta-Games\, 3309 E Sunshine\, Springfield\, MO\, 65804\, United States
ATTACH;FMTTYPE=image/jpeg:https://www.mguinc.com/wp-content/uploads/2023/03/mcpthur-1.jpg
END:VEVENT
BEGIN:VEVENT
DTSTART;TZID=America/Chicago:20280330T180000
DTEND;TZID=America/Chicago:20280330T220000
DTSTAMP:20260425T151903
CREATED:20230325T171833Z
LAST-MODIFIED:20251227T224027Z
UID:10002955-1838052000-1838066400@www.mguinc.com
SUMMARY:Marvel Crisis Protocol Meet-up
DESCRIPTION:Come in and meet up with local Marvel Crisis Protocol players every Thursday night. You can also get in touch with the players on the Ozark Mountain Irregular (our local skirmish miniature game group) Facebook group HERE
URL:https://www.mguinc.com/event/marvel-crisis-protocol-meet-up/2028-03-30/
LOCATION:Meta-Games\, 3309 E Sunshine\, Springfield\, MO\, 65804\, United States
ATTACH;FMTTYPE=image/jpeg:https://www.mguinc.com/wp-content/uploads/2023/03/mcpthur-1.jpg
END:VEVENT
BEGIN:VEVENT
DTSTART;TZID=America/Chicago:20280406T180000
DTEND;TZID=America/Chicago:20280406T220000
DTSTAMP:20260425T151903
CREATED:20230325T171833Z
LAST-MODIFIED:20251227T224027Z
UID:10002956-1838656800-1838671200@www.mguinc.com
SUMMARY:Marvel Crisis Protocol Meet-up
DESCRIPTION:Come in and meet up with local Marvel Crisis Protocol players every Thursday night. You can also get in touch with the players on the Ozark Mountain Irregular (our local skirmish miniature game group) Facebook group HERE
URL:https://www.mguinc.com/event/marvel-crisis-protocol-meet-up/2028-04-06/
LOCATION:Meta-Games\, 3309 E Sunshine\, Springfield\, MO\, 65804\, United States
ATTACH;FMTTYPE=image/jpeg:https://www.mguinc.com/wp-content/uploads/2023/03/mcpthur-1.jpg
END:VEVENT
BEGIN:VEVENT
DTSTART;TZID=America/Chicago:20280413T180000
DTEND;TZID=America/Chicago:20280413T220000
DTSTAMP:20260425T151903
CREATED:20230325T171833Z
LAST-MODIFIED:20251227T224027Z
UID:10002957-1839261600-1839276000@www.mguinc.com
SUMMARY:Marvel Crisis Protocol Meet-up
DESCRIPTION:Come in and meet up with local Marvel Crisis Protocol players every Thursday night. You can also get in touch with the players on the Ozark Mountain Irregular (our local skirmish miniature game group) Facebook group HERE
URL:https://www.mguinc.com/event/marvel-crisis-protocol-meet-up/2028-04-13/
LOCATION:Meta-Games\, 3309 E Sunshine\, Springfield\, MO\, 65804\, United States
ATTACH;FMTTYPE=image/jpeg:https://www.mguinc.com/wp-content/uploads/2023/03/mcpthur-1.jpg
END:VEVENT
BEGIN:VEVENT
DTSTART;TZID=America/Chicago:20280420T180000
DTEND;TZID=America/Chicago:20280420T220000
DTSTAMP:20260425T151903
CREATED:20230325T171833Z
LAST-MODIFIED:20251227T224027Z
UID:10002958-1839866400-1839880800@www.mguinc.com
SUMMARY:Marvel Crisis Protocol Meet-up
DESCRIPTION:Come in and meet up with local Marvel Crisis Protocol players every Thursday night. You can also get in touch with the players on the Ozark Mountain Irregular (our local skirmish miniature game group) Facebook group HERE
URL:https://www.mguinc.com/event/marvel-crisis-protocol-meet-up/2028-04-20/
LOCATION:Meta-Games\, 3309 E Sunshine\, Springfield\, MO\, 65804\, United States
ATTACH;FMTTYPE=image/jpeg:https://www.mguinc.com/wp-content/uploads/2023/03/mcpthur-1.jpg
END:VEVENT
BEGIN:VEVENT
DTSTART;TZID=America/Chicago:20280427T180000
DTEND;TZID=America/Chicago:20280427T220000
DTSTAMP:20260425T151903
CREATED:20230325T171833Z
LAST-MODIFIED:20251227T224027Z
UID:10002959-1840471200-1840485600@www.mguinc.com
SUMMARY:Marvel Crisis Protocol Meet-up
DESCRIPTION:Come in and meet up with local Marvel Crisis Protocol players every Thursday night. You can also get in touch with the players on the Ozark Mountain Irregular (our local skirmish miniature game group) Facebook group HERE
URL:https://www.mguinc.com/event/marvel-crisis-protocol-meet-up/2028-04-27/
LOCATION:Meta-Games\, 3309 E Sunshine\, Springfield\, MO\, 65804\, United States
ATTACH;FMTTYPE=image/jpeg:https://www.mguinc.com/wp-content/uploads/2023/03/mcpthur-1.jpg
END:VEVENT
BEGIN:VEVENT
DTSTART;TZID=America/Chicago:20280504T180000
DTEND;TZID=America/Chicago:20280504T220000
DTSTAMP:20260425T151903
CREATED:20230325T171833Z
LAST-MODIFIED:20251227T224027Z
UID:10002960-1841076000-1841090400@www.mguinc.com
SUMMARY:Marvel Crisis Protocol Meet-up
DESCRIPTION:Come in and meet up with local Marvel Crisis Protocol players every Thursday night. You can also get in touch with the players on the Ozark Mountain Irregular (our local skirmish miniature game group) Facebook group HERE
URL:https://www.mguinc.com/event/marvel-crisis-protocol-meet-up/2028-05-04/
LOCATION:Meta-Games\, 3309 E Sunshine\, Springfield\, MO\, 65804\, United States
ATTACH;FMTTYPE=image/jpeg:https://www.mguinc.com/wp-content/uploads/2023/03/mcpthur-1.jpg
END:VEVENT
BEGIN:VEVENT
DTSTART;TZID=America/Chicago:20280511T180000
DTEND;TZID=America/Chicago:20280511T220000
DTSTAMP:20260425T151903
CREATED:20230325T171833Z
LAST-MODIFIED:20251227T224027Z
UID:10002961-1841680800-1841695200@www.mguinc.com
SUMMARY:Marvel Crisis Protocol Meet-up
DESCRIPTION:Come in and meet up with local Marvel Crisis Protocol players every Thursday night. You can also get in touch with the players on the Ozark Mountain Irregular (our local skirmish miniature game group) Facebook group HERE
URL:https://www.mguinc.com/event/marvel-crisis-protocol-meet-up/2028-05-11/
LOCATION:Meta-Games\, 3309 E Sunshine\, Springfield\, MO\, 65804\, United States
ATTACH;FMTTYPE=image/jpeg:https://www.mguinc.com/wp-content/uploads/2023/03/mcpthur-1.jpg
END:VEVENT
BEGIN:VEVENT
DTSTART;TZID=America/Chicago:20280518T180000
DTEND;TZID=America/Chicago:20280518T220000
DTSTAMP:20260425T151903
CREATED:20230325T171833Z
LAST-MODIFIED:20251227T224027Z
UID:10002962-1842285600-1842300000@www.mguinc.com
SUMMARY:Marvel Crisis Protocol Meet-up
DESCRIPTION:Come in and meet up with local Marvel Crisis Protocol players every Thursday night. You can also get in touch with the players on the Ozark Mountain Irregular (our local skirmish miniature game group) Facebook group HERE
URL:https://www.mguinc.com/event/marvel-crisis-protocol-meet-up/2028-05-18/
LOCATION:Meta-Games\, 3309 E Sunshine\, Springfield\, MO\, 65804\, United States
ATTACH;FMTTYPE=image/jpeg:https://www.mguinc.com/wp-content/uploads/2023/03/mcpthur-1.jpg
END:VEVENT
BEGIN:VEVENT
DTSTART;TZID=America/Chicago:20280525T180000
DTEND;TZID=America/Chicago:20280525T220000
DTSTAMP:20260425T151903
CREATED:20230325T171833Z
LAST-MODIFIED:20251227T224027Z
UID:10002963-1842890400-1842904800@www.mguinc.com
SUMMARY:Marvel Crisis Protocol Meet-up
DESCRIPTION:Come in and meet up with local Marvel Crisis Protocol players every Thursday night. You can also get in touch with the players on the Ozark Mountain Irregular (our local skirmish miniature game group) Facebook group HERE
URL:https://www.mguinc.com/event/marvel-crisis-protocol-meet-up/2028-05-25/
LOCATION:Meta-Games\, 3309 E Sunshine\, Springfield\, MO\, 65804\, United States
ATTACH;FMTTYPE=image/jpeg:https://www.mguinc.com/wp-content/uploads/2023/03/mcpthur-1.jpg
END:VEVENT
BEGIN:VEVENT
DTSTART;TZID=America/Chicago:20280601T180000
DTEND;TZID=America/Chicago:20280601T220000
DTSTAMP:20260425T151903
CREATED:20230325T171833Z
LAST-MODIFIED:20251227T224027Z
UID:10002964-1843495200-1843509600@www.mguinc.com
SUMMARY:Marvel Crisis Protocol Meet-up
DESCRIPTION:Come in and meet up with local Marvel Crisis Protocol players every Thursday night. You can also get in touch with the players on the Ozark Mountain Irregular (our local skirmish miniature game group) Facebook group HERE
URL:https://www.mguinc.com/event/marvel-crisis-protocol-meet-up/2028-06-01/
LOCATION:Meta-Games\, 3309 E Sunshine\, Springfield\, MO\, 65804\, United States
ATTACH;FMTTYPE=image/jpeg:https://www.mguinc.com/wp-content/uploads/2023/03/mcpthur-1.jpg
END:VEVENT
BEGIN:VEVENT
DTSTART;TZID=America/Chicago:20280608T180000
DTEND;TZID=America/Chicago:20280608T220000
DTSTAMP:20260425T151903
CREATED:20230325T171833Z
LAST-MODIFIED:20251227T224027Z
UID:10002965-1844100000-1844114400@www.mguinc.com
SUMMARY:Marvel Crisis Protocol Meet-up
DESCRIPTION:Come in and meet up with local Marvel Crisis Protocol players every Thursday night. You can also get in touch with the players on the Ozark Mountain Irregular (our local skirmish miniature game group) Facebook group HERE
URL:https://www.mguinc.com/event/marvel-crisis-protocol-meet-up/2028-06-08/
LOCATION:Meta-Games\, 3309 E Sunshine\, Springfield\, MO\, 65804\, United States
ATTACH;FMTTYPE=image/jpeg:https://www.mguinc.com/wp-content/uploads/2023/03/mcpthur-1.jpg
END:VEVENT
BEGIN:VEVENT
DTSTART;TZID=America/Chicago:20280615T180000
DTEND;TZID=America/Chicago:20280615T220000
DTSTAMP:20260425T151903
CREATED:20230325T171833Z
LAST-MODIFIED:20251227T224027Z
UID:10002966-1844704800-1844719200@www.mguinc.com
SUMMARY:Marvel Crisis Protocol Meet-up
DESCRIPTION:Come in and meet up with local Marvel Crisis Protocol players every Thursday night. You can also get in touch with the players on the Ozark Mountain Irregular (our local skirmish miniature game group) Facebook group HERE
URL:https://www.mguinc.com/event/marvel-crisis-protocol-meet-up/2028-06-15/
LOCATION:Meta-Games\, 3309 E Sunshine\, Springfield\, MO\, 65804\, United States
ATTACH;FMTTYPE=image/jpeg:https://www.mguinc.com/wp-content/uploads/2023/03/mcpthur-1.jpg
END:VEVENT
BEGIN:VEVENT
DTSTART;TZID=America/Chicago:20280622T180000
DTEND;TZID=America/Chicago:20280622T220000
DTSTAMP:20260425T151903
CREATED:20230325T171833Z
LAST-MODIFIED:20251227T224027Z
UID:10002967-1845309600-1845324000@www.mguinc.com
SUMMARY:Marvel Crisis Protocol Meet-up
DESCRIPTION:Come in and meet up with local Marvel Crisis Protocol players every Thursday night. You can also get in touch with the players on the Ozark Mountain Irregular (our local skirmish miniature game group) Facebook group HERE
URL:https://www.mguinc.com/event/marvel-crisis-protocol-meet-up/2028-06-22/
LOCATION:Meta-Games\, 3309 E Sunshine\, Springfield\, MO\, 65804\, United States
ATTACH;FMTTYPE=image/jpeg:https://www.mguinc.com/wp-content/uploads/2023/03/mcpthur-1.jpg
END:VEVENT
BEGIN:VEVENT
DTSTART;TZID=America/Chicago:20280629T180000
DTEND;TZID=America/Chicago:20280629T220000
DTSTAMP:20260425T151903
CREATED:20230325T171833Z
LAST-MODIFIED:20251227T224027Z
UID:10002968-1845914400-1845928800@www.mguinc.com
SUMMARY:Marvel Crisis Protocol Meet-up
DESCRIPTION:Come in and meet up with local Marvel Crisis Protocol players every Thursday night. You can also get in touch with the players on the Ozark Mountain Irregular (our local skirmish miniature game group) Facebook group HERE
URL:https://www.mguinc.com/event/marvel-crisis-protocol-meet-up/2028-06-29/
LOCATION:Meta-Games\, 3309 E Sunshine\, Springfield\, MO\, 65804\, United States
ATTACH;FMTTYPE=image/jpeg:https://www.mguinc.com/wp-content/uploads/2023/03/mcpthur-1.jpg
END:VEVENT
BEGIN:VEVENT
DTSTART;TZID=America/Chicago:20280706T180000
DTEND;TZID=America/Chicago:20280706T220000
DTSTAMP:20260425T151903
CREATED:20230325T171833Z
LAST-MODIFIED:20251227T224027Z
UID:10002969-1846519200-1846533600@www.mguinc.com
SUMMARY:Marvel Crisis Protocol Meet-up
DESCRIPTION:Come in and meet up with local Marvel Crisis Protocol players every Thursday night. You can also get in touch with the players on the Ozark Mountain Irregular (our local skirmish miniature game group) Facebook group HERE
URL:https://www.mguinc.com/event/marvel-crisis-protocol-meet-up/2028-07-06/
LOCATION:Meta-Games\, 3309 E Sunshine\, Springfield\, MO\, 65804\, United States
ATTACH;FMTTYPE=image/jpeg:https://www.mguinc.com/wp-content/uploads/2023/03/mcpthur-1.jpg
END:VEVENT
BEGIN:VEVENT
DTSTART;TZID=America/Chicago:20280713T180000
DTEND;TZID=America/Chicago:20280713T220000
DTSTAMP:20260425T151903
CREATED:20230325T171833Z
LAST-MODIFIED:20251227T224027Z
UID:10002970-1847124000-1847138400@www.mguinc.com
SUMMARY:Marvel Crisis Protocol Meet-up
DESCRIPTION:Come in and meet up with local Marvel Crisis Protocol players every Thursday night. You can also get in touch with the players on the Ozark Mountain Irregular (our local skirmish miniature game group) Facebook group HERE
URL:https://www.mguinc.com/event/marvel-crisis-protocol-meet-up/2028-07-13/
LOCATION:Meta-Games\, 3309 E Sunshine\, Springfield\, MO\, 65804\, United States
ATTACH;FMTTYPE=image/jpeg:https://www.mguinc.com/wp-content/uploads/2023/03/mcpthur-1.jpg
END:VEVENT
BEGIN:VEVENT
DTSTART;TZID=America/Chicago:20280720T180000
DTEND;TZID=America/Chicago:20280720T220000
DTSTAMP:20260425T151903
CREATED:20230325T171833Z
LAST-MODIFIED:20251227T224027Z
UID:10002971-1847728800-1847743200@www.mguinc.com
SUMMARY:Marvel Crisis Protocol Meet-up
DESCRIPTION:Come in and meet up with local Marvel Crisis Protocol players every Thursday night. You can also get in touch with the players on the Ozark Mountain Irregular (our local skirmish miniature game group) Facebook group HERE
URL:https://www.mguinc.com/event/marvel-crisis-protocol-meet-up/2028-07-20/
LOCATION:Meta-Games\, 3309 E Sunshine\, Springfield\, MO\, 65804\, United States
ATTACH;FMTTYPE=image/jpeg:https://www.mguinc.com/wp-content/uploads/2023/03/mcpthur-1.jpg
END:VEVENT
BEGIN:VEVENT
DTSTART;TZID=America/Chicago:20280727T180000
DTEND;TZID=America/Chicago:20280727T220000
DTSTAMP:20260425T151903
CREATED:20230325T171833Z
LAST-MODIFIED:20251227T224027Z
UID:10002972-1848333600-1848348000@www.mguinc.com
SUMMARY:Marvel Crisis Protocol Meet-up
DESCRIPTION:Come in and meet up with local Marvel Crisis Protocol players every Thursday night. You can also get in touch with the players on the Ozark Mountain Irregular (our local skirmish miniature game group) Facebook group HERE
URL:https://www.mguinc.com/event/marvel-crisis-protocol-meet-up/2028-07-27/
LOCATION:Meta-Games\, 3309 E Sunshine\, Springfield\, MO\, 65804\, United States
ATTACH;FMTTYPE=image/jpeg:https://www.mguinc.com/wp-content/uploads/2023/03/mcpthur-1.jpg
END:VEVENT
BEGIN:VEVENT
DTSTART;TZID=America/Chicago:20280803T180000
DTEND;TZID=America/Chicago:20280803T220000
DTSTAMP:20260425T151903
CREATED:20230325T171833Z
LAST-MODIFIED:20251227T224027Z
UID:10002973-1848938400-1848952800@www.mguinc.com
SUMMARY:Marvel Crisis Protocol Meet-up
DESCRIPTION:Come in and meet up with local Marvel Crisis Protocol players every Thursday night. You can also get in touch with the players on the Ozark Mountain Irregular (our local skirmish miniature game group) Facebook group HERE
URL:https://www.mguinc.com/event/marvel-crisis-protocol-meet-up/2028-08-03/
LOCATION:Meta-Games\, 3309 E Sunshine\, Springfield\, MO\, 65804\, United States
ATTACH;FMTTYPE=image/jpeg:https://www.mguinc.com/wp-content/uploads/2023/03/mcpthur-1.jpg
END:VEVENT
BEGIN:VEVENT
DTSTART;TZID=America/Chicago:20280810T180000
DTEND;TZID=America/Chicago:20280810T220000
DTSTAMP:20260425T151903
CREATED:20230325T171833Z
LAST-MODIFIED:20251227T224027Z
UID:10002974-1849543200-1849557600@www.mguinc.com
SUMMARY:Marvel Crisis Protocol Meet-up
DESCRIPTION:Come in and meet up with local Marvel Crisis Protocol players every Thursday night. You can also get in touch with the players on the Ozark Mountain Irregular (our local skirmish miniature game group) Facebook group HERE
URL:https://www.mguinc.com/event/marvel-crisis-protocol-meet-up/2028-08-10/
LOCATION:Meta-Games\, 3309 E Sunshine\, Springfield\, MO\, 65804\, United States
ATTACH;FMTTYPE=image/jpeg:https://www.mguinc.com/wp-content/uploads/2023/03/mcpthur-1.jpg
END:VEVENT
BEGIN:VEVENT
DTSTART;TZID=America/Chicago:20280817T180000
DTEND;TZID=America/Chicago:20280817T220000
DTSTAMP:20260425T151903
CREATED:20230325T171833Z
LAST-MODIFIED:20251227T224027Z
UID:10002975-1850148000-1850162400@www.mguinc.com
SUMMARY:Marvel Crisis Protocol Meet-up
DESCRIPTION:Come in and meet up with local Marvel Crisis Protocol players every Thursday night. You can also get in touch with the players on the Ozark Mountain Irregular (our local skirmish miniature game group) Facebook group HERE
URL:https://www.mguinc.com/event/marvel-crisis-protocol-meet-up/2028-08-17/
LOCATION:Meta-Games\, 3309 E Sunshine\, Springfield\, MO\, 65804\, United States
ATTACH;FMTTYPE=image/jpeg:https://www.mguinc.com/wp-content/uploads/2023/03/mcpthur-1.jpg
END:VEVENT
BEGIN:VEVENT
DTSTART;TZID=America/Chicago:20280824T180000
DTEND;TZID=America/Chicago:20280824T220000
DTSTAMP:20260425T151903
CREATED:20230325T171833Z
LAST-MODIFIED:20251227T224027Z
UID:10002976-1850752800-1850767200@www.mguinc.com
SUMMARY:Marvel Crisis Protocol Meet-up
DESCRIPTION:Come in and meet up with local Marvel Crisis Protocol players every Thursday night. You can also get in touch with the players on the Ozark Mountain Irregular (our local skirmish miniature game group) Facebook group HERE
URL:https://www.mguinc.com/event/marvel-crisis-protocol-meet-up/2028-08-24/
LOCATION:Meta-Games\, 3309 E Sunshine\, Springfield\, MO\, 65804\, United States
ATTACH;FMTTYPE=image/jpeg:https://www.mguinc.com/wp-content/uploads/2023/03/mcpthur-1.jpg
END:VEVENT
BEGIN:VEVENT
DTSTART;TZID=America/Chicago:20280831T180000
DTEND;TZID=America/Chicago:20280831T220000
DTSTAMP:20260425T151903
CREATED:20230325T171833Z
LAST-MODIFIED:20251227T224027Z
UID:10002977-1851357600-1851372000@www.mguinc.com
SUMMARY:Marvel Crisis Protocol Meet-up
DESCRIPTION:Come in and meet up with local Marvel Crisis Protocol players every Thursday night. You can also get in touch with the players on the Ozark Mountain Irregular (our local skirmish miniature game group) Facebook group HERE
URL:https://www.mguinc.com/event/marvel-crisis-protocol-meet-up/2028-08-31/
LOCATION:Meta-Games\, 3309 E Sunshine\, Springfield\, MO\, 65804\, United States
ATTACH;FMTTYPE=image/jpeg:https://www.mguinc.com/wp-content/uploads/2023/03/mcpthur-1.jpg
END:VEVENT
BEGIN:VEVENT
DTSTART;TZID=America/Chicago:20280907T180000
DTEND;TZID=America/Chicago:20280907T220000
DTSTAMP:20260425T151903
CREATED:20230325T171833Z
LAST-MODIFIED:20251227T224027Z
UID:10002978-1851962400-1851976800@www.mguinc.com
SUMMARY:Marvel Crisis Protocol Meet-up
DESCRIPTION:Come in and meet up with local Marvel Crisis Protocol players every Thursday night. You can also get in touch with the players on the Ozark Mountain Irregular (our local skirmish miniature game group) Facebook group HERE
URL:https://www.mguinc.com/event/marvel-crisis-protocol-meet-up/2028-09-07/
LOCATION:Meta-Games\, 3309 E Sunshine\, Springfield\, MO\, 65804\, United States
ATTACH;FMTTYPE=image/jpeg:https://www.mguinc.com/wp-content/uploads/2023/03/mcpthur-1.jpg
END:VEVENT
BEGIN:VEVENT
DTSTART;TZID=America/Chicago:20280914T180000
DTEND;TZID=America/Chicago:20280914T220000
DTSTAMP:20260425T151903
CREATED:20230325T171833Z
LAST-MODIFIED:20251227T224027Z
UID:10002979-1852567200-1852581600@www.mguinc.com
SUMMARY:Marvel Crisis Protocol Meet-up
DESCRIPTION:Come in and meet up with local Marvel Crisis Protocol players every Thursday night. You can also get in touch with the players on the Ozark Mountain Irregular (our local skirmish miniature game group) Facebook group HERE
URL:https://www.mguinc.com/event/marvel-crisis-protocol-meet-up/2028-09-14/
LOCATION:Meta-Games\, 3309 E Sunshine\, Springfield\, MO\, 65804\, United States
ATTACH;FMTTYPE=image/jpeg:https://www.mguinc.com/wp-content/uploads/2023/03/mcpthur-1.jpg
END:VEVENT
BEGIN:VEVENT
DTSTART;TZID=America/Chicago:20280921T180000
DTEND;TZID=America/Chicago:20280921T220000
DTSTAMP:20260425T151903
CREATED:20230325T171833Z
LAST-MODIFIED:20251227T224027Z
UID:10002980-1853172000-1853186400@www.mguinc.com
SUMMARY:Marvel Crisis Protocol Meet-up
DESCRIPTION:Come in and meet up with local Marvel Crisis Protocol players every Thursday night. You can also get in touch with the players on the Ozark Mountain Irregular (our local skirmish miniature game group) Facebook group HERE
URL:https://www.mguinc.com/event/marvel-crisis-protocol-meet-up/2028-09-21/
LOCATION:Meta-Games\, 3309 E Sunshine\, Springfield\, MO\, 65804\, United States
ATTACH;FMTTYPE=image/jpeg:https://www.mguinc.com/wp-content/uploads/2023/03/mcpthur-1.jpg
END:VEVENT
END:VCALENDAR