BEGIN:VCALENDAR
VERSION:2.0
PRODID:-//Meta-Games Unlimited - ECPv6.15.20//NONSGML v1.0//EN
CALSCALE:GREGORIAN
METHOD:PUBLISH
X-WR-CALNAME:Meta-Games Unlimited
X-ORIGINAL-URL:https://www.mguinc.com
X-WR-CALDESC:Events for Meta-Games Unlimited
REFRESH-INTERVAL;VALUE=DURATION:PT1H
X-Robots-Tag:noindex
X-PUBLISHED-TTL:PT1H
BEGIN:VTIMEZONE
TZID:America/Chicago
BEGIN:DAYLIGHT
TZOFFSETFROM:-0600
TZOFFSETTO:-0500
TZNAME:CDT
DTSTART:20260308T080000
END:DAYLIGHT
BEGIN:STANDARD
TZOFFSETFROM:-0500
TZOFFSETTO:-0600
TZNAME:CST
DTSTART:20261101T070000
END:STANDARD
BEGIN:DAYLIGHT
TZOFFSETFROM:-0600
TZOFFSETTO:-0500
TZNAME:CDT
DTSTART:20270314T080000
END:DAYLIGHT
BEGIN:STANDARD
TZOFFSETFROM:-0500
TZOFFSETTO:-0600
TZNAME:CST
DTSTART:20271107T070000
END:STANDARD
BEGIN:DAYLIGHT
TZOFFSETFROM:-0600
TZOFFSETTO:-0500
TZNAME:CDT
DTSTART:20280312T080000
END:DAYLIGHT
BEGIN:STANDARD
TZOFFSETFROM:-0500
TZOFFSETTO:-0600
TZNAME:CST
DTSTART:20281105T070000
END:STANDARD
BEGIN:DAYLIGHT
TZOFFSETFROM:-0600
TZOFFSETTO:-0500
TZNAME:CDT
DTSTART:20290311T080000
END:DAYLIGHT
BEGIN:STANDARD
TZOFFSETFROM:-0500
TZOFFSETTO:-0600
TZNAME:CST
DTSTART:20291104T070000
END:STANDARD
END:VTIMEZONE
BEGIN:VEVENT
DTSTART;TZID=America/Chicago:20271209T180000
DTEND;TZID=America/Chicago:20271209T220000
DTSTAMP:20260425T113032
CREATED:20260103T181137Z
LAST-MODIFIED:20260103T181522Z
UID:10005226-1828375200-1828389600@www.mguinc.com
SUMMARY:Warhammer: Age of Sigmar Meet Up
DESCRIPTION:Come hang out and play Age of Sigmar with local crew.  You can also get in touch with our local players at the Queen City Sigmar Facebook group located HERE.
URL:https://www.mguinc.com/event/warhammer-age-of-sigmar-meet-up-3/2027-12-09/
LOCATION:Meta-Games Unlimited\, 3309-A E. Sunshine\, Springfield\, Missouri\, 65804
ATTACH;FMTTYPE=image/jpeg:https://www.mguinc.com/wp-content/uploads/2026/01/AOSThur-1.jpg
END:VEVENT
BEGIN:VEVENT
DTSTART;TZID=America/Chicago:20271216T180000
DTEND;TZID=America/Chicago:20271216T220000
DTSTAMP:20260425T113032
CREATED:20260103T181137Z
LAST-MODIFIED:20260103T181522Z
UID:10005227-1828980000-1828994400@www.mguinc.com
SUMMARY:Warhammer: Age of Sigmar Meet Up
DESCRIPTION:Come hang out and play Age of Sigmar with local crew.  You can also get in touch with our local players at the Queen City Sigmar Facebook group located HERE.
URL:https://www.mguinc.com/event/warhammer-age-of-sigmar-meet-up-3/2027-12-16/
LOCATION:Meta-Games Unlimited\, 3309-A E. Sunshine\, Springfield\, Missouri\, 65804
ATTACH;FMTTYPE=image/jpeg:https://www.mguinc.com/wp-content/uploads/2026/01/AOSThur-1.jpg
END:VEVENT
BEGIN:VEVENT
DTSTART;TZID=America/Chicago:20271223T180000
DTEND;TZID=America/Chicago:20271223T220000
DTSTAMP:20260425T113032
CREATED:20260103T181137Z
LAST-MODIFIED:20260103T181522Z
UID:10005228-1829584800-1829599200@www.mguinc.com
SUMMARY:Warhammer: Age of Sigmar Meet Up
DESCRIPTION:Come hang out and play Age of Sigmar with local crew.  You can also get in touch with our local players at the Queen City Sigmar Facebook group located HERE.
URL:https://www.mguinc.com/event/warhammer-age-of-sigmar-meet-up-3/2027-12-23/
LOCATION:Meta-Games Unlimited\, 3309-A E. Sunshine\, Springfield\, Missouri\, 65804
ATTACH;FMTTYPE=image/jpeg:https://www.mguinc.com/wp-content/uploads/2026/01/AOSThur-1.jpg
END:VEVENT
BEGIN:VEVENT
DTSTART;TZID=America/Chicago:20271230T180000
DTEND;TZID=America/Chicago:20271230T220000
DTSTAMP:20260425T113032
CREATED:20260103T181137Z
LAST-MODIFIED:20260103T181522Z
UID:10005229-1830189600-1830204000@www.mguinc.com
SUMMARY:Warhammer: Age of Sigmar Meet Up
DESCRIPTION:Come hang out and play Age of Sigmar with local crew.  You can also get in touch with our local players at the Queen City Sigmar Facebook group located HERE.
URL:https://www.mguinc.com/event/warhammer-age-of-sigmar-meet-up-3/2027-12-30/
LOCATION:Meta-Games Unlimited\, 3309-A E. Sunshine\, Springfield\, Missouri\, 65804
ATTACH;FMTTYPE=image/jpeg:https://www.mguinc.com/wp-content/uploads/2026/01/AOSThur-1.jpg
END:VEVENT
BEGIN:VEVENT
DTSTART;TZID=America/Chicago:20280106T180000
DTEND;TZID=America/Chicago:20280106T220000
DTSTAMP:20260425T113032
CREATED:20260103T181137Z
LAST-MODIFIED:20260103T181522Z
UID:10005230-1830794400-1830808800@www.mguinc.com
SUMMARY:Warhammer: Age of Sigmar Meet Up
DESCRIPTION:Come hang out and play Age of Sigmar with local crew.  You can also get in touch with our local players at the Queen City Sigmar Facebook group located HERE.
URL:https://www.mguinc.com/event/warhammer-age-of-sigmar-meet-up-3/2028-01-06/
LOCATION:Meta-Games Unlimited\, 3309-A E. Sunshine\, Springfield\, Missouri\, 65804
ATTACH;FMTTYPE=image/jpeg:https://www.mguinc.com/wp-content/uploads/2026/01/AOSThur-1.jpg
END:VEVENT
BEGIN:VEVENT
DTSTART;TZID=America/Chicago:20280113T180000
DTEND;TZID=America/Chicago:20280113T220000
DTSTAMP:20260425T113032
CREATED:20260103T181137Z
LAST-MODIFIED:20260103T181522Z
UID:10005231-1831399200-1831413600@www.mguinc.com
SUMMARY:Warhammer: Age of Sigmar Meet Up
DESCRIPTION:Come hang out and play Age of Sigmar with local crew.  You can also get in touch with our local players at the Queen City Sigmar Facebook group located HERE.
URL:https://www.mguinc.com/event/warhammer-age-of-sigmar-meet-up-3/2028-01-13/
LOCATION:Meta-Games Unlimited\, 3309-A E. Sunshine\, Springfield\, Missouri\, 65804
ATTACH;FMTTYPE=image/jpeg:https://www.mguinc.com/wp-content/uploads/2026/01/AOSThur-1.jpg
END:VEVENT
BEGIN:VEVENT
DTSTART;TZID=America/Chicago:20280120T180000
DTEND;TZID=America/Chicago:20280120T220000
DTSTAMP:20260425T113032
CREATED:20260103T181137Z
LAST-MODIFIED:20260103T181522Z
UID:10005232-1832004000-1832018400@www.mguinc.com
SUMMARY:Warhammer: Age of Sigmar Meet Up
DESCRIPTION:Come hang out and play Age of Sigmar with local crew.  You can also get in touch with our local players at the Queen City Sigmar Facebook group located HERE.
URL:https://www.mguinc.com/event/warhammer-age-of-sigmar-meet-up-3/2028-01-20/
LOCATION:Meta-Games Unlimited\, 3309-A E. Sunshine\, Springfield\, Missouri\, 65804
ATTACH;FMTTYPE=image/jpeg:https://www.mguinc.com/wp-content/uploads/2026/01/AOSThur-1.jpg
END:VEVENT
BEGIN:VEVENT
DTSTART;TZID=America/Chicago:20280127T180000
DTEND;TZID=America/Chicago:20280127T220000
DTSTAMP:20260425T113032
CREATED:20260103T181137Z
LAST-MODIFIED:20260103T181522Z
UID:10005233-1832608800-1832623200@www.mguinc.com
SUMMARY:Warhammer: Age of Sigmar Meet Up
DESCRIPTION:Come hang out and play Age of Sigmar with local crew.  You can also get in touch with our local players at the Queen City Sigmar Facebook group located HERE.
URL:https://www.mguinc.com/event/warhammer-age-of-sigmar-meet-up-3/2028-01-27/
LOCATION:Meta-Games Unlimited\, 3309-A E. Sunshine\, Springfield\, Missouri\, 65804
ATTACH;FMTTYPE=image/jpeg:https://www.mguinc.com/wp-content/uploads/2026/01/AOSThur-1.jpg
END:VEVENT
BEGIN:VEVENT
DTSTART;TZID=America/Chicago:20280203T180000
DTEND;TZID=America/Chicago:20280203T220000
DTSTAMP:20260425T113032
CREATED:20260103T181137Z
LAST-MODIFIED:20260103T181522Z
UID:10005234-1833213600-1833228000@www.mguinc.com
SUMMARY:Warhammer: Age of Sigmar Meet Up
DESCRIPTION:Come hang out and play Age of Sigmar with local crew.  You can also get in touch with our local players at the Queen City Sigmar Facebook group located HERE.
URL:https://www.mguinc.com/event/warhammer-age-of-sigmar-meet-up-3/2028-02-03/
LOCATION:Meta-Games Unlimited\, 3309-A E. Sunshine\, Springfield\, Missouri\, 65804
ATTACH;FMTTYPE=image/jpeg:https://www.mguinc.com/wp-content/uploads/2026/01/AOSThur-1.jpg
END:VEVENT
BEGIN:VEVENT
DTSTART;TZID=America/Chicago:20280210T180000
DTEND;TZID=America/Chicago:20280210T220000
DTSTAMP:20260425T113032
CREATED:20260103T181137Z
LAST-MODIFIED:20260103T181522Z
UID:10005235-1833818400-1833832800@www.mguinc.com
SUMMARY:Warhammer: Age of Sigmar Meet Up
DESCRIPTION:Come hang out and play Age of Sigmar with local crew.  You can also get in touch with our local players at the Queen City Sigmar Facebook group located HERE.
URL:https://www.mguinc.com/event/warhammer-age-of-sigmar-meet-up-3/2028-02-10/
LOCATION:Meta-Games Unlimited\, 3309-A E. Sunshine\, Springfield\, Missouri\, 65804
ATTACH;FMTTYPE=image/jpeg:https://www.mguinc.com/wp-content/uploads/2026/01/AOSThur-1.jpg
END:VEVENT
BEGIN:VEVENT
DTSTART;TZID=America/Chicago:20280217T180000
DTEND;TZID=America/Chicago:20280217T220000
DTSTAMP:20260425T113032
CREATED:20260103T181137Z
LAST-MODIFIED:20260103T181522Z
UID:10005236-1834423200-1834437600@www.mguinc.com
SUMMARY:Warhammer: Age of Sigmar Meet Up
DESCRIPTION:Come hang out and play Age of Sigmar with local crew.  You can also get in touch with our local players at the Queen City Sigmar Facebook group located HERE.
URL:https://www.mguinc.com/event/warhammer-age-of-sigmar-meet-up-3/2028-02-17/
LOCATION:Meta-Games Unlimited\, 3309-A E. Sunshine\, Springfield\, Missouri\, 65804
ATTACH;FMTTYPE=image/jpeg:https://www.mguinc.com/wp-content/uploads/2026/01/AOSThur-1.jpg
END:VEVENT
BEGIN:VEVENT
DTSTART;TZID=America/Chicago:20280224T180000
DTEND;TZID=America/Chicago:20280224T220000
DTSTAMP:20260425T113032
CREATED:20260103T181137Z
LAST-MODIFIED:20260103T181522Z
UID:10005237-1835028000-1835042400@www.mguinc.com
SUMMARY:Warhammer: Age of Sigmar Meet Up
DESCRIPTION:Come hang out and play Age of Sigmar with local crew.  You can also get in touch with our local players at the Queen City Sigmar Facebook group located HERE.
URL:https://www.mguinc.com/event/warhammer-age-of-sigmar-meet-up-3/2028-02-24/
LOCATION:Meta-Games Unlimited\, 3309-A E. Sunshine\, Springfield\, Missouri\, 65804
ATTACH;FMTTYPE=image/jpeg:https://www.mguinc.com/wp-content/uploads/2026/01/AOSThur-1.jpg
END:VEVENT
BEGIN:VEVENT
DTSTART;TZID=America/Chicago:20280302T180000
DTEND;TZID=America/Chicago:20280302T220000
DTSTAMP:20260425T113032
CREATED:20260103T181137Z
LAST-MODIFIED:20260103T181522Z
UID:10005238-1835632800-1835647200@www.mguinc.com
SUMMARY:Warhammer: Age of Sigmar Meet Up
DESCRIPTION:Come hang out and play Age of Sigmar with local crew.  You can also get in touch with our local players at the Queen City Sigmar Facebook group located HERE.
URL:https://www.mguinc.com/event/warhammer-age-of-sigmar-meet-up-3/2028-03-02/
LOCATION:Meta-Games Unlimited\, 3309-A E. Sunshine\, Springfield\, Missouri\, 65804
ATTACH;FMTTYPE=image/jpeg:https://www.mguinc.com/wp-content/uploads/2026/01/AOSThur-1.jpg
END:VEVENT
BEGIN:VEVENT
DTSTART;TZID=America/Chicago:20280309T180000
DTEND;TZID=America/Chicago:20280309T220000
DTSTAMP:20260425T113032
CREATED:20260103T181137Z
LAST-MODIFIED:20260103T181522Z
UID:10005239-1836237600-1836252000@www.mguinc.com
SUMMARY:Warhammer: Age of Sigmar Meet Up
DESCRIPTION:Come hang out and play Age of Sigmar with local crew.  You can also get in touch with our local players at the Queen City Sigmar Facebook group located HERE.
URL:https://www.mguinc.com/event/warhammer-age-of-sigmar-meet-up-3/2028-03-09/
LOCATION:Meta-Games Unlimited\, 3309-A E. Sunshine\, Springfield\, Missouri\, 65804
ATTACH;FMTTYPE=image/jpeg:https://www.mguinc.com/wp-content/uploads/2026/01/AOSThur-1.jpg
END:VEVENT
BEGIN:VEVENT
DTSTART;TZID=America/Chicago:20280316T180000
DTEND;TZID=America/Chicago:20280316T220000
DTSTAMP:20260425T113032
CREATED:20260103T181137Z
LAST-MODIFIED:20260103T181522Z
UID:10005240-1836842400-1836856800@www.mguinc.com
SUMMARY:Warhammer: Age of Sigmar Meet Up
DESCRIPTION:Come hang out and play Age of Sigmar with local crew.  You can also get in touch with our local players at the Queen City Sigmar Facebook group located HERE.
URL:https://www.mguinc.com/event/warhammer-age-of-sigmar-meet-up-3/2028-03-16/
LOCATION:Meta-Games Unlimited\, 3309-A E. Sunshine\, Springfield\, Missouri\, 65804
ATTACH;FMTTYPE=image/jpeg:https://www.mguinc.com/wp-content/uploads/2026/01/AOSThur-1.jpg
END:VEVENT
BEGIN:VEVENT
DTSTART;TZID=America/Chicago:20280323T180000
DTEND;TZID=America/Chicago:20280323T220000
DTSTAMP:20260425T113032
CREATED:20260103T181137Z
LAST-MODIFIED:20260103T181522Z
UID:10005241-1837447200-1837461600@www.mguinc.com
SUMMARY:Warhammer: Age of Sigmar Meet Up
DESCRIPTION:Come hang out and play Age of Sigmar with local crew.  You can also get in touch with our local players at the Queen City Sigmar Facebook group located HERE.
URL:https://www.mguinc.com/event/warhammer-age-of-sigmar-meet-up-3/2028-03-23/
LOCATION:Meta-Games Unlimited\, 3309-A E. Sunshine\, Springfield\, Missouri\, 65804
ATTACH;FMTTYPE=image/jpeg:https://www.mguinc.com/wp-content/uploads/2026/01/AOSThur-1.jpg
END:VEVENT
BEGIN:VEVENT
DTSTART;TZID=America/Chicago:20280330T180000
DTEND;TZID=America/Chicago:20280330T220000
DTSTAMP:20260425T113032
CREATED:20260103T181137Z
LAST-MODIFIED:20260103T181522Z
UID:10005242-1838052000-1838066400@www.mguinc.com
SUMMARY:Warhammer: Age of Sigmar Meet Up
DESCRIPTION:Come hang out and play Age of Sigmar with local crew.  You can also get in touch with our local players at the Queen City Sigmar Facebook group located HERE.
URL:https://www.mguinc.com/event/warhammer-age-of-sigmar-meet-up-3/2028-03-30/
LOCATION:Meta-Games Unlimited\, 3309-A E. Sunshine\, Springfield\, Missouri\, 65804
ATTACH;FMTTYPE=image/jpeg:https://www.mguinc.com/wp-content/uploads/2026/01/AOSThur-1.jpg
END:VEVENT
BEGIN:VEVENT
DTSTART;TZID=America/Chicago:20280406T180000
DTEND;TZID=America/Chicago:20280406T220000
DTSTAMP:20260425T113032
CREATED:20260103T181137Z
LAST-MODIFIED:20260103T181522Z
UID:10005243-1838656800-1838671200@www.mguinc.com
SUMMARY:Warhammer: Age of Sigmar Meet Up
DESCRIPTION:Come hang out and play Age of Sigmar with local crew.  You can also get in touch with our local players at the Queen City Sigmar Facebook group located HERE.
URL:https://www.mguinc.com/event/warhammer-age-of-sigmar-meet-up-3/2028-04-06/
LOCATION:Meta-Games Unlimited\, 3309-A E. Sunshine\, Springfield\, Missouri\, 65804
ATTACH;FMTTYPE=image/jpeg:https://www.mguinc.com/wp-content/uploads/2026/01/AOSThur-1.jpg
END:VEVENT
BEGIN:VEVENT
DTSTART;TZID=America/Chicago:20280413T180000
DTEND;TZID=America/Chicago:20280413T220000
DTSTAMP:20260425T113032
CREATED:20260103T181137Z
LAST-MODIFIED:20260103T181522Z
UID:10005244-1839261600-1839276000@www.mguinc.com
SUMMARY:Warhammer: Age of Sigmar Meet Up
DESCRIPTION:Come hang out and play Age of Sigmar with local crew.  You can also get in touch with our local players at the Queen City Sigmar Facebook group located HERE.
URL:https://www.mguinc.com/event/warhammer-age-of-sigmar-meet-up-3/2028-04-13/
LOCATION:Meta-Games Unlimited\, 3309-A E. Sunshine\, Springfield\, Missouri\, 65804
ATTACH;FMTTYPE=image/jpeg:https://www.mguinc.com/wp-content/uploads/2026/01/AOSThur-1.jpg
END:VEVENT
BEGIN:VEVENT
DTSTART;TZID=America/Chicago:20280420T180000
DTEND;TZID=America/Chicago:20280420T220000
DTSTAMP:20260425T113032
CREATED:20260103T181137Z
LAST-MODIFIED:20260103T181522Z
UID:10005245-1839866400-1839880800@www.mguinc.com
SUMMARY:Warhammer: Age of Sigmar Meet Up
DESCRIPTION:Come hang out and play Age of Sigmar with local crew.  You can also get in touch with our local players at the Queen City Sigmar Facebook group located HERE.
URL:https://www.mguinc.com/event/warhammer-age-of-sigmar-meet-up-3/2028-04-20/
LOCATION:Meta-Games Unlimited\, 3309-A E. Sunshine\, Springfield\, Missouri\, 65804
ATTACH;FMTTYPE=image/jpeg:https://www.mguinc.com/wp-content/uploads/2026/01/AOSThur-1.jpg
END:VEVENT
BEGIN:VEVENT
DTSTART;TZID=America/Chicago:20280427T180000
DTEND;TZID=America/Chicago:20280427T220000
DTSTAMP:20260425T113032
CREATED:20260103T181137Z
LAST-MODIFIED:20260103T181522Z
UID:10005246-1840471200-1840485600@www.mguinc.com
SUMMARY:Warhammer: Age of Sigmar Meet Up
DESCRIPTION:Come hang out and play Age of Sigmar with local crew.  You can also get in touch with our local players at the Queen City Sigmar Facebook group located HERE.
URL:https://www.mguinc.com/event/warhammer-age-of-sigmar-meet-up-3/2028-04-27/
LOCATION:Meta-Games Unlimited\, 3309-A E. Sunshine\, Springfield\, Missouri\, 65804
ATTACH;FMTTYPE=image/jpeg:https://www.mguinc.com/wp-content/uploads/2026/01/AOSThur-1.jpg
END:VEVENT
BEGIN:VEVENT
DTSTART;TZID=America/Chicago:20280504T180000
DTEND;TZID=America/Chicago:20280504T220000
DTSTAMP:20260425T113032
CREATED:20260103T181137Z
LAST-MODIFIED:20260103T181522Z
UID:10005247-1841076000-1841090400@www.mguinc.com
SUMMARY:Warhammer: Age of Sigmar Meet Up
DESCRIPTION:Come hang out and play Age of Sigmar with local crew.  You can also get in touch with our local players at the Queen City Sigmar Facebook group located HERE.
URL:https://www.mguinc.com/event/warhammer-age-of-sigmar-meet-up-3/2028-05-04/
LOCATION:Meta-Games Unlimited\, 3309-A E. Sunshine\, Springfield\, Missouri\, 65804
ATTACH;FMTTYPE=image/jpeg:https://www.mguinc.com/wp-content/uploads/2026/01/AOSThur-1.jpg
END:VEVENT
BEGIN:VEVENT
DTSTART;TZID=America/Chicago:20280511T180000
DTEND;TZID=America/Chicago:20280511T220000
DTSTAMP:20260425T113032
CREATED:20260103T181137Z
LAST-MODIFIED:20260103T181522Z
UID:10005248-1841680800-1841695200@www.mguinc.com
SUMMARY:Warhammer: Age of Sigmar Meet Up
DESCRIPTION:Come hang out and play Age of Sigmar with local crew.  You can also get in touch with our local players at the Queen City Sigmar Facebook group located HERE.
URL:https://www.mguinc.com/event/warhammer-age-of-sigmar-meet-up-3/2028-05-11/
LOCATION:Meta-Games Unlimited\, 3309-A E. Sunshine\, Springfield\, Missouri\, 65804
ATTACH;FMTTYPE=image/jpeg:https://www.mguinc.com/wp-content/uploads/2026/01/AOSThur-1.jpg
END:VEVENT
BEGIN:VEVENT
DTSTART;TZID=America/Chicago:20280518T180000
DTEND;TZID=America/Chicago:20280518T220000
DTSTAMP:20260425T113032
CREATED:20260103T181137Z
LAST-MODIFIED:20260103T181522Z
UID:10005249-1842285600-1842300000@www.mguinc.com
SUMMARY:Warhammer: Age of Sigmar Meet Up
DESCRIPTION:Come hang out and play Age of Sigmar with local crew.  You can also get in touch with our local players at the Queen City Sigmar Facebook group located HERE.
URL:https://www.mguinc.com/event/warhammer-age-of-sigmar-meet-up-3/2028-05-18/
LOCATION:Meta-Games Unlimited\, 3309-A E. Sunshine\, Springfield\, Missouri\, 65804
ATTACH;FMTTYPE=image/jpeg:https://www.mguinc.com/wp-content/uploads/2026/01/AOSThur-1.jpg
END:VEVENT
BEGIN:VEVENT
DTSTART;TZID=America/Chicago:20280525T180000
DTEND;TZID=America/Chicago:20280525T220000
DTSTAMP:20260425T113032
CREATED:20260103T181137Z
LAST-MODIFIED:20260103T181522Z
UID:10005250-1842890400-1842904800@www.mguinc.com
SUMMARY:Warhammer: Age of Sigmar Meet Up
DESCRIPTION:Come hang out and play Age of Sigmar with local crew.  You can also get in touch with our local players at the Queen City Sigmar Facebook group located HERE.
URL:https://www.mguinc.com/event/warhammer-age-of-sigmar-meet-up-3/2028-05-25/
LOCATION:Meta-Games Unlimited\, 3309-A E. Sunshine\, Springfield\, Missouri\, 65804
ATTACH;FMTTYPE=image/jpeg:https://www.mguinc.com/wp-content/uploads/2026/01/AOSThur-1.jpg
END:VEVENT
BEGIN:VEVENT
DTSTART;TZID=America/Chicago:20280601T180000
DTEND;TZID=America/Chicago:20280601T220000
DTSTAMP:20260425T113032
CREATED:20260103T181137Z
LAST-MODIFIED:20260103T181522Z
UID:10005251-1843495200-1843509600@www.mguinc.com
SUMMARY:Warhammer: Age of Sigmar Meet Up
DESCRIPTION:Come hang out and play Age of Sigmar with local crew.  You can also get in touch with our local players at the Queen City Sigmar Facebook group located HERE.
URL:https://www.mguinc.com/event/warhammer-age-of-sigmar-meet-up-3/2028-06-01/
LOCATION:Meta-Games Unlimited\, 3309-A E. Sunshine\, Springfield\, Missouri\, 65804
ATTACH;FMTTYPE=image/jpeg:https://www.mguinc.com/wp-content/uploads/2026/01/AOSThur-1.jpg
END:VEVENT
BEGIN:VEVENT
DTSTART;TZID=America/Chicago:20280608T180000
DTEND;TZID=America/Chicago:20280608T220000
DTSTAMP:20260425T113032
CREATED:20260103T181137Z
LAST-MODIFIED:20260103T181522Z
UID:10005252-1844100000-1844114400@www.mguinc.com
SUMMARY:Warhammer: Age of Sigmar Meet Up
DESCRIPTION:Come hang out and play Age of Sigmar with local crew.  You can also get in touch with our local players at the Queen City Sigmar Facebook group located HERE.
URL:https://www.mguinc.com/event/warhammer-age-of-sigmar-meet-up-3/2028-06-08/
LOCATION:Meta-Games Unlimited\, 3309-A E. Sunshine\, Springfield\, Missouri\, 65804
ATTACH;FMTTYPE=image/jpeg:https://www.mguinc.com/wp-content/uploads/2026/01/AOSThur-1.jpg
END:VEVENT
BEGIN:VEVENT
DTSTART;TZID=America/Chicago:20280615T180000
DTEND;TZID=America/Chicago:20280615T220000
DTSTAMP:20260425T113032
CREATED:20260103T181137Z
LAST-MODIFIED:20260103T181522Z
UID:10005253-1844704800-1844719200@www.mguinc.com
SUMMARY:Warhammer: Age of Sigmar Meet Up
DESCRIPTION:Come hang out and play Age of Sigmar with local crew.  You can also get in touch with our local players at the Queen City Sigmar Facebook group located HERE.
URL:https://www.mguinc.com/event/warhammer-age-of-sigmar-meet-up-3/2028-06-15/
LOCATION:Meta-Games Unlimited\, 3309-A E. Sunshine\, Springfield\, Missouri\, 65804
ATTACH;FMTTYPE=image/jpeg:https://www.mguinc.com/wp-content/uploads/2026/01/AOSThur-1.jpg
END:VEVENT
BEGIN:VEVENT
DTSTART;TZID=America/Chicago:20280622T180000
DTEND;TZID=America/Chicago:20280622T220000
DTSTAMP:20260425T113033
CREATED:20260103T181137Z
LAST-MODIFIED:20260103T181522Z
UID:10005254-1845309600-1845324000@www.mguinc.com
SUMMARY:Warhammer: Age of Sigmar Meet Up
DESCRIPTION:Come hang out and play Age of Sigmar with local crew.  You can also get in touch with our local players at the Queen City Sigmar Facebook group located HERE.
URL:https://www.mguinc.com/event/warhammer-age-of-sigmar-meet-up-3/2028-06-22/
LOCATION:Meta-Games Unlimited\, 3309-A E. Sunshine\, Springfield\, Missouri\, 65804
ATTACH;FMTTYPE=image/jpeg:https://www.mguinc.com/wp-content/uploads/2026/01/AOSThur-1.jpg
END:VEVENT
BEGIN:VEVENT
DTSTART;TZID=America/Chicago:20280629T180000
DTEND;TZID=America/Chicago:20280629T220000
DTSTAMP:20260425T113033
CREATED:20260103T181137Z
LAST-MODIFIED:20260103T181522Z
UID:10005255-1845914400-1845928800@www.mguinc.com
SUMMARY:Warhammer: Age of Sigmar Meet Up
DESCRIPTION:Come hang out and play Age of Sigmar with local crew.  You can also get in touch with our local players at the Queen City Sigmar Facebook group located HERE.
URL:https://www.mguinc.com/event/warhammer-age-of-sigmar-meet-up-3/2028-06-29/
LOCATION:Meta-Games Unlimited\, 3309-A E. Sunshine\, Springfield\, Missouri\, 65804
ATTACH;FMTTYPE=image/jpeg:https://www.mguinc.com/wp-content/uploads/2026/01/AOSThur-1.jpg
END:VEVENT
END:VCALENDAR