BEGIN:VCALENDAR
VERSION:2.0
PRODID:-//Meta-Games Unlimited - ECPv6.15.20//NONSGML v1.0//EN
CALSCALE:GREGORIAN
METHOD:PUBLISH
X-WR-CALNAME:Meta-Games Unlimited
X-ORIGINAL-URL:https://www.mguinc.com
X-WR-CALDESC:Events for Meta-Games Unlimited
REFRESH-INTERVAL;VALUE=DURATION:PT1H
X-Robots-Tag:noindex
X-PUBLISHED-TTL:PT1H
BEGIN:VTIMEZONE
TZID:America/Chicago
BEGIN:DAYLIGHT
TZOFFSETFROM:-0600
TZOFFSETTO:-0500
TZNAME:CDT
DTSTART:20260308T080000
END:DAYLIGHT
BEGIN:STANDARD
TZOFFSETFROM:-0500
TZOFFSETTO:-0600
TZNAME:CST
DTSTART:20261101T070000
END:STANDARD
BEGIN:DAYLIGHT
TZOFFSETFROM:-0600
TZOFFSETTO:-0500
TZNAME:CDT
DTSTART:20270314T080000
END:DAYLIGHT
BEGIN:STANDARD
TZOFFSETFROM:-0500
TZOFFSETTO:-0600
TZNAME:CST
DTSTART:20271107T070000
END:STANDARD
BEGIN:DAYLIGHT
TZOFFSETFROM:-0600
TZOFFSETTO:-0500
TZNAME:CDT
DTSTART:20280312T080000
END:DAYLIGHT
BEGIN:STANDARD
TZOFFSETFROM:-0500
TZOFFSETTO:-0600
TZNAME:CST
DTSTART:20281105T070000
END:STANDARD
BEGIN:DAYLIGHT
TZOFFSETFROM:-0600
TZOFFSETTO:-0500
TZNAME:CDT
DTSTART:20290311T080000
END:DAYLIGHT
BEGIN:STANDARD
TZOFFSETFROM:-0500
TZOFFSETTO:-0600
TZNAME:CST
DTSTART:20291104T070000
END:STANDARD
END:VTIMEZONE
BEGIN:VEVENT
DTSTART;TZID=America/Chicago:20270617T180000
DTEND;TZID=America/Chicago:20270617T220000
DTSTAMP:20260423T171919
CREATED:20230325T171833Z
LAST-MODIFIED:20251227T224027Z
UID:10001796-1813255200-1813269600@www.mguinc.com
SUMMARY:Marvel Crisis Protocol Meet-up
DESCRIPTION:Come in and meet up with local Marvel Crisis Protocol players every Thursday night. You can also get in touch with the players on the Ozark Mountain Irregular (our local skirmish miniature game group) Facebook group HERE
URL:https://www.mguinc.com/event/marvel-crisis-protocol-meet-up/2027-06-17/
LOCATION:Meta-Games\, 3309 E Sunshine\, Springfield\, MO\, 65804\, United States
ATTACH;FMTTYPE=image/jpeg:https://www.mguinc.com/wp-content/uploads/2023/03/mcpthur-1.jpg
END:VEVENT
BEGIN:VEVENT
DTSTART;TZID=America/Chicago:20270624T180000
DTEND;TZID=America/Chicago:20270624T220000
DTSTAMP:20260423T171919
CREATED:20230325T171833Z
LAST-MODIFIED:20251227T224027Z
UID:10001797-1813860000-1813874400@www.mguinc.com
SUMMARY:Marvel Crisis Protocol Meet-up
DESCRIPTION:Come in and meet up with local Marvel Crisis Protocol players every Thursday night. You can also get in touch with the players on the Ozark Mountain Irregular (our local skirmish miniature game group) Facebook group HERE
URL:https://www.mguinc.com/event/marvel-crisis-protocol-meet-up/2027-06-24/
LOCATION:Meta-Games\, 3309 E Sunshine\, Springfield\, MO\, 65804\, United States
ATTACH;FMTTYPE=image/jpeg:https://www.mguinc.com/wp-content/uploads/2023/03/mcpthur-1.jpg
END:VEVENT
BEGIN:VEVENT
DTSTART;TZID=America/Chicago:20270701T180000
DTEND;TZID=America/Chicago:20270701T220000
DTSTAMP:20260423T171919
CREATED:20230325T171833Z
LAST-MODIFIED:20251227T224027Z
UID:10001798-1814464800-1814479200@www.mguinc.com
SUMMARY:Marvel Crisis Protocol Meet-up
DESCRIPTION:Come in and meet up with local Marvel Crisis Protocol players every Thursday night. You can also get in touch with the players on the Ozark Mountain Irregular (our local skirmish miniature game group) Facebook group HERE
URL:https://www.mguinc.com/event/marvel-crisis-protocol-meet-up/2027-07-01/
LOCATION:Meta-Games\, 3309 E Sunshine\, Springfield\, MO\, 65804\, United States
ATTACH;FMTTYPE=image/jpeg:https://www.mguinc.com/wp-content/uploads/2023/03/mcpthur-1.jpg
END:VEVENT
BEGIN:VEVENT
DTSTART;TZID=America/Chicago:20270708T180000
DTEND;TZID=America/Chicago:20270708T220000
DTSTAMP:20260423T171919
CREATED:20230325T171833Z
LAST-MODIFIED:20251227T224027Z
UID:10001799-1815069600-1815084000@www.mguinc.com
SUMMARY:Marvel Crisis Protocol Meet-up
DESCRIPTION:Come in and meet up with local Marvel Crisis Protocol players every Thursday night. You can also get in touch with the players on the Ozark Mountain Irregular (our local skirmish miniature game group) Facebook group HERE
URL:https://www.mguinc.com/event/marvel-crisis-protocol-meet-up/2027-07-08/
LOCATION:Meta-Games\, 3309 E Sunshine\, Springfield\, MO\, 65804\, United States
ATTACH;FMTTYPE=image/jpeg:https://www.mguinc.com/wp-content/uploads/2023/03/mcpthur-1.jpg
END:VEVENT
BEGIN:VEVENT
DTSTART;TZID=America/Chicago:20270715T180000
DTEND;TZID=America/Chicago:20270715T220000
DTSTAMP:20260423T171919
CREATED:20230325T171833Z
LAST-MODIFIED:20251227T224027Z
UID:10001800-1815674400-1815688800@www.mguinc.com
SUMMARY:Marvel Crisis Protocol Meet-up
DESCRIPTION:Come in and meet up with local Marvel Crisis Protocol players every Thursday night. You can also get in touch with the players on the Ozark Mountain Irregular (our local skirmish miniature game group) Facebook group HERE
URL:https://www.mguinc.com/event/marvel-crisis-protocol-meet-up/2027-07-15/
LOCATION:Meta-Games\, 3309 E Sunshine\, Springfield\, MO\, 65804\, United States
ATTACH;FMTTYPE=image/jpeg:https://www.mguinc.com/wp-content/uploads/2023/03/mcpthur-1.jpg
END:VEVENT
BEGIN:VEVENT
DTSTART;TZID=America/Chicago:20270722T180000
DTEND;TZID=America/Chicago:20270722T220000
DTSTAMP:20260423T171919
CREATED:20230325T171833Z
LAST-MODIFIED:20251227T224027Z
UID:10001801-1816279200-1816293600@www.mguinc.com
SUMMARY:Marvel Crisis Protocol Meet-up
DESCRIPTION:Come in and meet up with local Marvel Crisis Protocol players every Thursday night. You can also get in touch with the players on the Ozark Mountain Irregular (our local skirmish miniature game group) Facebook group HERE
URL:https://www.mguinc.com/event/marvel-crisis-protocol-meet-up/2027-07-22/
LOCATION:Meta-Games\, 3309 E Sunshine\, Springfield\, MO\, 65804\, United States
ATTACH;FMTTYPE=image/jpeg:https://www.mguinc.com/wp-content/uploads/2023/03/mcpthur-1.jpg
END:VEVENT
BEGIN:VEVENT
DTSTART;TZID=America/Chicago:20270729T180000
DTEND;TZID=America/Chicago:20270729T220000
DTSTAMP:20260423T171919
CREATED:20230325T171833Z
LAST-MODIFIED:20251227T224027Z
UID:10001802-1816884000-1816898400@www.mguinc.com
SUMMARY:Marvel Crisis Protocol Meet-up
DESCRIPTION:Come in and meet up with local Marvel Crisis Protocol players every Thursday night. You can also get in touch with the players on the Ozark Mountain Irregular (our local skirmish miniature game group) Facebook group HERE
URL:https://www.mguinc.com/event/marvel-crisis-protocol-meet-up/2027-07-29/
LOCATION:Meta-Games\, 3309 E Sunshine\, Springfield\, MO\, 65804\, United States
ATTACH;FMTTYPE=image/jpeg:https://www.mguinc.com/wp-content/uploads/2023/03/mcpthur-1.jpg
END:VEVENT
BEGIN:VEVENT
DTSTART;TZID=America/Chicago:20270805T180000
DTEND;TZID=America/Chicago:20270805T220000
DTSTAMP:20260423T171919
CREATED:20230325T171833Z
LAST-MODIFIED:20251227T224027Z
UID:10001803-1817488800-1817503200@www.mguinc.com
SUMMARY:Marvel Crisis Protocol Meet-up
DESCRIPTION:Come in and meet up with local Marvel Crisis Protocol players every Thursday night. You can also get in touch with the players on the Ozark Mountain Irregular (our local skirmish miniature game group) Facebook group HERE
URL:https://www.mguinc.com/event/marvel-crisis-protocol-meet-up/2027-08-05/
LOCATION:Meta-Games\, 3309 E Sunshine\, Springfield\, MO\, 65804\, United States
ATTACH;FMTTYPE=image/jpeg:https://www.mguinc.com/wp-content/uploads/2023/03/mcpthur-1.jpg
END:VEVENT
BEGIN:VEVENT
DTSTART;TZID=America/Chicago:20270812T180000
DTEND;TZID=America/Chicago:20270812T220000
DTSTAMP:20260423T171919
CREATED:20230325T171833Z
LAST-MODIFIED:20251227T224027Z
UID:10001804-1818093600-1818108000@www.mguinc.com
SUMMARY:Marvel Crisis Protocol Meet-up
DESCRIPTION:Come in and meet up with local Marvel Crisis Protocol players every Thursday night. You can also get in touch with the players on the Ozark Mountain Irregular (our local skirmish miniature game group) Facebook group HERE
URL:https://www.mguinc.com/event/marvel-crisis-protocol-meet-up/2027-08-12/
LOCATION:Meta-Games\, 3309 E Sunshine\, Springfield\, MO\, 65804\, United States
ATTACH;FMTTYPE=image/jpeg:https://www.mguinc.com/wp-content/uploads/2023/03/mcpthur-1.jpg
END:VEVENT
BEGIN:VEVENT
DTSTART;TZID=America/Chicago:20270819T180000
DTEND;TZID=America/Chicago:20270819T220000
DTSTAMP:20260423T171919
CREATED:20230325T171833Z
LAST-MODIFIED:20251227T224027Z
UID:10001805-1818698400-1818712800@www.mguinc.com
SUMMARY:Marvel Crisis Protocol Meet-up
DESCRIPTION:Come in and meet up with local Marvel Crisis Protocol players every Thursday night. You can also get in touch with the players on the Ozark Mountain Irregular (our local skirmish miniature game group) Facebook group HERE
URL:https://www.mguinc.com/event/marvel-crisis-protocol-meet-up/2027-08-19/
LOCATION:Meta-Games\, 3309 E Sunshine\, Springfield\, MO\, 65804\, United States
ATTACH;FMTTYPE=image/jpeg:https://www.mguinc.com/wp-content/uploads/2023/03/mcpthur-1.jpg
END:VEVENT
BEGIN:VEVENT
DTSTART;TZID=America/Chicago:20270826T180000
DTEND;TZID=America/Chicago:20270826T220000
DTSTAMP:20260423T171919
CREATED:20230325T171833Z
LAST-MODIFIED:20251227T224027Z
UID:10001806-1819303200-1819317600@www.mguinc.com
SUMMARY:Marvel Crisis Protocol Meet-up
DESCRIPTION:Come in and meet up with local Marvel Crisis Protocol players every Thursday night. You can also get in touch with the players on the Ozark Mountain Irregular (our local skirmish miniature game group) Facebook group HERE
URL:https://www.mguinc.com/event/marvel-crisis-protocol-meet-up/2027-08-26/
LOCATION:Meta-Games\, 3309 E Sunshine\, Springfield\, MO\, 65804\, United States
ATTACH;FMTTYPE=image/jpeg:https://www.mguinc.com/wp-content/uploads/2023/03/mcpthur-1.jpg
END:VEVENT
BEGIN:VEVENT
DTSTART;TZID=America/Chicago:20270902T180000
DTEND;TZID=America/Chicago:20270902T220000
DTSTAMP:20260423T171919
CREATED:20230325T171833Z
LAST-MODIFIED:20251227T224027Z
UID:10001807-1819908000-1819922400@www.mguinc.com
SUMMARY:Marvel Crisis Protocol Meet-up
DESCRIPTION:Come in and meet up with local Marvel Crisis Protocol players every Thursday night. You can also get in touch with the players on the Ozark Mountain Irregular (our local skirmish miniature game group) Facebook group HERE
URL:https://www.mguinc.com/event/marvel-crisis-protocol-meet-up/2027-09-02/
LOCATION:Meta-Games\, 3309 E Sunshine\, Springfield\, MO\, 65804\, United States
ATTACH;FMTTYPE=image/jpeg:https://www.mguinc.com/wp-content/uploads/2023/03/mcpthur-1.jpg
END:VEVENT
BEGIN:VEVENT
DTSTART;TZID=America/Chicago:20270909T180000
DTEND;TZID=America/Chicago:20270909T220000
DTSTAMP:20260423T171919
CREATED:20230325T171833Z
LAST-MODIFIED:20251227T224027Z
UID:10001808-1820512800-1820527200@www.mguinc.com
SUMMARY:Marvel Crisis Protocol Meet-up
DESCRIPTION:Come in and meet up with local Marvel Crisis Protocol players every Thursday night. You can also get in touch with the players on the Ozark Mountain Irregular (our local skirmish miniature game group) Facebook group HERE
URL:https://www.mguinc.com/event/marvel-crisis-protocol-meet-up/2027-09-09/
LOCATION:Meta-Games\, 3309 E Sunshine\, Springfield\, MO\, 65804\, United States
ATTACH;FMTTYPE=image/jpeg:https://www.mguinc.com/wp-content/uploads/2023/03/mcpthur-1.jpg
END:VEVENT
BEGIN:VEVENT
DTSTART;TZID=America/Chicago:20270916T180000
DTEND;TZID=America/Chicago:20270916T220000
DTSTAMP:20260423T171919
CREATED:20230325T171833Z
LAST-MODIFIED:20251227T224027Z
UID:10001809-1821117600-1821132000@www.mguinc.com
SUMMARY:Marvel Crisis Protocol Meet-up
DESCRIPTION:Come in and meet up with local Marvel Crisis Protocol players every Thursday night. You can also get in touch with the players on the Ozark Mountain Irregular (our local skirmish miniature game group) Facebook group HERE
URL:https://www.mguinc.com/event/marvel-crisis-protocol-meet-up/2027-09-16/
LOCATION:Meta-Games\, 3309 E Sunshine\, Springfield\, MO\, 65804\, United States
ATTACH;FMTTYPE=image/jpeg:https://www.mguinc.com/wp-content/uploads/2023/03/mcpthur-1.jpg
END:VEVENT
BEGIN:VEVENT
DTSTART;TZID=America/Chicago:20270923T180000
DTEND;TZID=America/Chicago:20270923T220000
DTSTAMP:20260423T171919
CREATED:20230325T171833Z
LAST-MODIFIED:20251227T224027Z
UID:10001810-1821722400-1821736800@www.mguinc.com
SUMMARY:Marvel Crisis Protocol Meet-up
DESCRIPTION:Come in and meet up with local Marvel Crisis Protocol players every Thursday night. You can also get in touch with the players on the Ozark Mountain Irregular (our local skirmish miniature game group) Facebook group HERE
URL:https://www.mguinc.com/event/marvel-crisis-protocol-meet-up/2027-09-23/
LOCATION:Meta-Games\, 3309 E Sunshine\, Springfield\, MO\, 65804\, United States
ATTACH;FMTTYPE=image/jpeg:https://www.mguinc.com/wp-content/uploads/2023/03/mcpthur-1.jpg
END:VEVENT
BEGIN:VEVENT
DTSTART;TZID=America/Chicago:20270930T180000
DTEND;TZID=America/Chicago:20270930T220000
DTSTAMP:20260423T171919
CREATED:20230325T171833Z
LAST-MODIFIED:20251227T224027Z
UID:10001811-1822327200-1822341600@www.mguinc.com
SUMMARY:Marvel Crisis Protocol Meet-up
DESCRIPTION:Come in and meet up with local Marvel Crisis Protocol players every Thursday night. You can also get in touch with the players on the Ozark Mountain Irregular (our local skirmish miniature game group) Facebook group HERE
URL:https://www.mguinc.com/event/marvel-crisis-protocol-meet-up/2027-09-30/
LOCATION:Meta-Games\, 3309 E Sunshine\, Springfield\, MO\, 65804\, United States
ATTACH;FMTTYPE=image/jpeg:https://www.mguinc.com/wp-content/uploads/2023/03/mcpthur-1.jpg
END:VEVENT
BEGIN:VEVENT
DTSTART;TZID=America/Chicago:20271007T180000
DTEND;TZID=America/Chicago:20271007T220000
DTSTAMP:20260423T171919
CREATED:20230325T171833Z
LAST-MODIFIED:20251227T224027Z
UID:10001812-1822932000-1822946400@www.mguinc.com
SUMMARY:Marvel Crisis Protocol Meet-up
DESCRIPTION:Come in and meet up with local Marvel Crisis Protocol players every Thursday night. You can also get in touch with the players on the Ozark Mountain Irregular (our local skirmish miniature game group) Facebook group HERE
URL:https://www.mguinc.com/event/marvel-crisis-protocol-meet-up/2027-10-07/
LOCATION:Meta-Games\, 3309 E Sunshine\, Springfield\, MO\, 65804\, United States
ATTACH;FMTTYPE=image/jpeg:https://www.mguinc.com/wp-content/uploads/2023/03/mcpthur-1.jpg
END:VEVENT
BEGIN:VEVENT
DTSTART;TZID=America/Chicago:20271014T180000
DTEND;TZID=America/Chicago:20271014T220000
DTSTAMP:20260423T171919
CREATED:20230325T171833Z
LAST-MODIFIED:20251227T224027Z
UID:10001813-1823536800-1823551200@www.mguinc.com
SUMMARY:Marvel Crisis Protocol Meet-up
DESCRIPTION:Come in and meet up with local Marvel Crisis Protocol players every Thursday night. You can also get in touch with the players on the Ozark Mountain Irregular (our local skirmish miniature game group) Facebook group HERE
URL:https://www.mguinc.com/event/marvel-crisis-protocol-meet-up/2027-10-14/
LOCATION:Meta-Games\, 3309 E Sunshine\, Springfield\, MO\, 65804\, United States
ATTACH;FMTTYPE=image/jpeg:https://www.mguinc.com/wp-content/uploads/2023/03/mcpthur-1.jpg
END:VEVENT
BEGIN:VEVENT
DTSTART;TZID=America/Chicago:20271021T180000
DTEND;TZID=America/Chicago:20271021T220000
DTSTAMP:20260423T171919
CREATED:20230325T171833Z
LAST-MODIFIED:20251227T224027Z
UID:10001814-1824141600-1824156000@www.mguinc.com
SUMMARY:Marvel Crisis Protocol Meet-up
DESCRIPTION:Come in and meet up with local Marvel Crisis Protocol players every Thursday night. You can also get in touch with the players on the Ozark Mountain Irregular (our local skirmish miniature game group) Facebook group HERE
URL:https://www.mguinc.com/event/marvel-crisis-protocol-meet-up/2027-10-21/
LOCATION:Meta-Games\, 3309 E Sunshine\, Springfield\, MO\, 65804\, United States
ATTACH;FMTTYPE=image/jpeg:https://www.mguinc.com/wp-content/uploads/2023/03/mcpthur-1.jpg
END:VEVENT
BEGIN:VEVENT
DTSTART;TZID=America/Chicago:20271028T180000
DTEND;TZID=America/Chicago:20271028T220000
DTSTAMP:20260423T171919
CREATED:20230325T171833Z
LAST-MODIFIED:20251227T224027Z
UID:10001815-1824746400-1824760800@www.mguinc.com
SUMMARY:Marvel Crisis Protocol Meet-up
DESCRIPTION:Come in and meet up with local Marvel Crisis Protocol players every Thursday night. You can also get in touch with the players on the Ozark Mountain Irregular (our local skirmish miniature game group) Facebook group HERE
URL:https://www.mguinc.com/event/marvel-crisis-protocol-meet-up/2027-10-28/
LOCATION:Meta-Games\, 3309 E Sunshine\, Springfield\, MO\, 65804\, United States
ATTACH;FMTTYPE=image/jpeg:https://www.mguinc.com/wp-content/uploads/2023/03/mcpthur-1.jpg
END:VEVENT
BEGIN:VEVENT
DTSTART;TZID=America/Chicago:20271104T180000
DTEND;TZID=America/Chicago:20271104T220000
DTSTAMP:20260423T171919
CREATED:20230325T171833Z
LAST-MODIFIED:20251227T224027Z
UID:10001816-1825351200-1825365600@www.mguinc.com
SUMMARY:Marvel Crisis Protocol Meet-up
DESCRIPTION:Come in and meet up with local Marvel Crisis Protocol players every Thursday night. You can also get in touch with the players on the Ozark Mountain Irregular (our local skirmish miniature game group) Facebook group HERE
URL:https://www.mguinc.com/event/marvel-crisis-protocol-meet-up/2027-11-04/
LOCATION:Meta-Games\, 3309 E Sunshine\, Springfield\, MO\, 65804\, United States
ATTACH;FMTTYPE=image/jpeg:https://www.mguinc.com/wp-content/uploads/2023/03/mcpthur-1.jpg
END:VEVENT
BEGIN:VEVENT
DTSTART;TZID=America/Chicago:20271111T180000
DTEND;TZID=America/Chicago:20271111T220000
DTSTAMP:20260423T171919
CREATED:20230325T171833Z
LAST-MODIFIED:20251227T224027Z
UID:10001817-1825956000-1825970400@www.mguinc.com
SUMMARY:Marvel Crisis Protocol Meet-up
DESCRIPTION:Come in and meet up with local Marvel Crisis Protocol players every Thursday night. You can also get in touch with the players on the Ozark Mountain Irregular (our local skirmish miniature game group) Facebook group HERE
URL:https://www.mguinc.com/event/marvel-crisis-protocol-meet-up/2027-11-11/
LOCATION:Meta-Games\, 3309 E Sunshine\, Springfield\, MO\, 65804\, United States
ATTACH;FMTTYPE=image/jpeg:https://www.mguinc.com/wp-content/uploads/2023/03/mcpthur-1.jpg
END:VEVENT
BEGIN:VEVENT
DTSTART;TZID=America/Chicago:20271118T180000
DTEND;TZID=America/Chicago:20271118T220000
DTSTAMP:20260423T171919
CREATED:20230325T171833Z
LAST-MODIFIED:20251227T224027Z
UID:10001818-1826560800-1826575200@www.mguinc.com
SUMMARY:Marvel Crisis Protocol Meet-up
DESCRIPTION:Come in and meet up with local Marvel Crisis Protocol players every Thursday night. You can also get in touch with the players on the Ozark Mountain Irregular (our local skirmish miniature game group) Facebook group HERE
URL:https://www.mguinc.com/event/marvel-crisis-protocol-meet-up/2027-11-18/
LOCATION:Meta-Games\, 3309 E Sunshine\, Springfield\, MO\, 65804\, United States
ATTACH;FMTTYPE=image/jpeg:https://www.mguinc.com/wp-content/uploads/2023/03/mcpthur-1.jpg
END:VEVENT
BEGIN:VEVENT
DTSTART;TZID=America/Chicago:20271125T180000
DTEND;TZID=America/Chicago:20271125T220000
DTSTAMP:20260423T171919
CREATED:20230325T171833Z
LAST-MODIFIED:20251227T224027Z
UID:10001819-1827165600-1827180000@www.mguinc.com
SUMMARY:Marvel Crisis Protocol Meet-up
DESCRIPTION:Come in and meet up with local Marvel Crisis Protocol players every Thursday night. You can also get in touch with the players on the Ozark Mountain Irregular (our local skirmish miniature game group) Facebook group HERE
URL:https://www.mguinc.com/event/marvel-crisis-protocol-meet-up/2027-11-25/
LOCATION:Meta-Games\, 3309 E Sunshine\, Springfield\, MO\, 65804\, United States
ATTACH;FMTTYPE=image/jpeg:https://www.mguinc.com/wp-content/uploads/2023/03/mcpthur-1.jpg
END:VEVENT
BEGIN:VEVENT
DTSTART;TZID=America/Chicago:20271202T180000
DTEND;TZID=America/Chicago:20271202T220000
DTSTAMP:20260423T171919
CREATED:20230325T171833Z
LAST-MODIFIED:20251227T224027Z
UID:10001820-1827770400-1827784800@www.mguinc.com
SUMMARY:Marvel Crisis Protocol Meet-up
DESCRIPTION:Come in and meet up with local Marvel Crisis Protocol players every Thursday night. You can also get in touch with the players on the Ozark Mountain Irregular (our local skirmish miniature game group) Facebook group HERE
URL:https://www.mguinc.com/event/marvel-crisis-protocol-meet-up/2027-12-02/
LOCATION:Meta-Games\, 3309 E Sunshine\, Springfield\, MO\, 65804\, United States
ATTACH;FMTTYPE=image/jpeg:https://www.mguinc.com/wp-content/uploads/2023/03/mcpthur-1.jpg
END:VEVENT
BEGIN:VEVENT
DTSTART;TZID=America/Chicago:20271209T180000
DTEND;TZID=America/Chicago:20271209T220000
DTSTAMP:20260423T171919
CREATED:20230325T171833Z
LAST-MODIFIED:20251227T224027Z
UID:10001821-1828375200-1828389600@www.mguinc.com
SUMMARY:Marvel Crisis Protocol Meet-up
DESCRIPTION:Come in and meet up with local Marvel Crisis Protocol players every Thursday night. You can also get in touch with the players on the Ozark Mountain Irregular (our local skirmish miniature game group) Facebook group HERE
URL:https://www.mguinc.com/event/marvel-crisis-protocol-meet-up/2027-12-09/
LOCATION:Meta-Games\, 3309 E Sunshine\, Springfield\, MO\, 65804\, United States
ATTACH;FMTTYPE=image/jpeg:https://www.mguinc.com/wp-content/uploads/2023/03/mcpthur-1.jpg
END:VEVENT
BEGIN:VEVENT
DTSTART;TZID=America/Chicago:20271216T180000
DTEND;TZID=America/Chicago:20271216T220000
DTSTAMP:20260423T171919
CREATED:20230325T171833Z
LAST-MODIFIED:20251227T224027Z
UID:10001822-1828980000-1828994400@www.mguinc.com
SUMMARY:Marvel Crisis Protocol Meet-up
DESCRIPTION:Come in and meet up with local Marvel Crisis Protocol players every Thursday night. You can also get in touch with the players on the Ozark Mountain Irregular (our local skirmish miniature game group) Facebook group HERE
URL:https://www.mguinc.com/event/marvel-crisis-protocol-meet-up/2027-12-16/
LOCATION:Meta-Games\, 3309 E Sunshine\, Springfield\, MO\, 65804\, United States
ATTACH;FMTTYPE=image/jpeg:https://www.mguinc.com/wp-content/uploads/2023/03/mcpthur-1.jpg
END:VEVENT
BEGIN:VEVENT
DTSTART;TZID=America/Chicago:20271223T180000
DTEND;TZID=America/Chicago:20271223T220000
DTSTAMP:20260423T171919
CREATED:20230325T171833Z
LAST-MODIFIED:20251227T224027Z
UID:10001823-1829584800-1829599200@www.mguinc.com
SUMMARY:Marvel Crisis Protocol Meet-up
DESCRIPTION:Come in and meet up with local Marvel Crisis Protocol players every Thursday night. You can also get in touch with the players on the Ozark Mountain Irregular (our local skirmish miniature game group) Facebook group HERE
URL:https://www.mguinc.com/event/marvel-crisis-protocol-meet-up/2027-12-23/
LOCATION:Meta-Games\, 3309 E Sunshine\, Springfield\, MO\, 65804\, United States
ATTACH;FMTTYPE=image/jpeg:https://www.mguinc.com/wp-content/uploads/2023/03/mcpthur-1.jpg
END:VEVENT
BEGIN:VEVENT
DTSTART;TZID=America/Chicago:20271230T180000
DTEND;TZID=America/Chicago:20271230T220000
DTSTAMP:20260423T171919
CREATED:20230325T171833Z
LAST-MODIFIED:20251227T224027Z
UID:10001824-1830189600-1830204000@www.mguinc.com
SUMMARY:Marvel Crisis Protocol Meet-up
DESCRIPTION:Come in and meet up with local Marvel Crisis Protocol players every Thursday night. You can also get in touch with the players on the Ozark Mountain Irregular (our local skirmish miniature game group) Facebook group HERE
URL:https://www.mguinc.com/event/marvel-crisis-protocol-meet-up/2027-12-30/
LOCATION:Meta-Games\, 3309 E Sunshine\, Springfield\, MO\, 65804\, United States
ATTACH;FMTTYPE=image/jpeg:https://www.mguinc.com/wp-content/uploads/2023/03/mcpthur-1.jpg
END:VEVENT
BEGIN:VEVENT
DTSTART;TZID=America/Chicago:20280106T180000
DTEND;TZID=America/Chicago:20280106T220000
DTSTAMP:20260423T171919
CREATED:20230325T171833Z
LAST-MODIFIED:20251227T224027Z
UID:10001825-1830794400-1830808800@www.mguinc.com
SUMMARY:Marvel Crisis Protocol Meet-up
DESCRIPTION:Come in and meet up with local Marvel Crisis Protocol players every Thursday night. You can also get in touch with the players on the Ozark Mountain Irregular (our local skirmish miniature game group) Facebook group HERE
URL:https://www.mguinc.com/event/marvel-crisis-protocol-meet-up/2028-01-06/
LOCATION:Meta-Games\, 3309 E Sunshine\, Springfield\, MO\, 65804\, United States
ATTACH;FMTTYPE=image/jpeg:https://www.mguinc.com/wp-content/uploads/2023/03/mcpthur-1.jpg
END:VEVENT
END:VCALENDAR