BEGIN:VCALENDAR
VERSION:2.0
PRODID:-//Meta-Games Unlimited - ECPv6.15.20//NONSGML v1.0//EN
CALSCALE:GREGORIAN
METHOD:PUBLISH
X-ORIGINAL-URL:https://www.mguinc.com
X-WR-CALDESC:Events for Meta-Games Unlimited
REFRESH-INTERVAL;VALUE=DURATION:PT1H
X-Robots-Tag:noindex
X-PUBLISHED-TTL:PT1H
BEGIN:VTIMEZONE
TZID:America/Chicago
BEGIN:DAYLIGHT
TZOFFSETFROM:-0600
TZOFFSETTO:-0500
TZNAME:CDT
DTSTART:20250309T080000
END:DAYLIGHT
BEGIN:STANDARD
TZOFFSETFROM:-0500
TZOFFSETTO:-0600
TZNAME:CST
DTSTART:20251102T070000
END:STANDARD
BEGIN:DAYLIGHT
TZOFFSETFROM:-0600
TZOFFSETTO:-0500
TZNAME:CDT
DTSTART:20260308T080000
END:DAYLIGHT
BEGIN:STANDARD
TZOFFSETFROM:-0500
TZOFFSETTO:-0600
TZNAME:CST
DTSTART:20261101T070000
END:STANDARD
BEGIN:DAYLIGHT
TZOFFSETFROM:-0600
TZOFFSETTO:-0500
TZNAME:CDT
DTSTART:20270314T080000
END:DAYLIGHT
BEGIN:STANDARD
TZOFFSETFROM:-0500
TZOFFSETTO:-0600
TZNAME:CST
DTSTART:20271107T070000
END:STANDARD
BEGIN:DAYLIGHT
TZOFFSETFROM:-0600
TZOFFSETTO:-0500
TZNAME:CDT
DTSTART:20280312T080000
END:DAYLIGHT
BEGIN:STANDARD
TZOFFSETFROM:-0500
TZOFFSETTO:-0600
TZNAME:CST
DTSTART:20281105T070000
END:STANDARD
END:VTIMEZONE
BEGIN:VEVENT
DTSTART;TZID=America/Chicago:20261229T180000
DTEND;TZID=America/Chicago:20261229T220000
DTSTAMP:20260421T142239
CREATED:20260103T173346Z
LAST-MODIFIED:20260103T173449Z
UID:10004917-1798567200-1798581600@www.mguinc.com
SUMMARY:Warmachine Meet-UP
DESCRIPTION:Come out and get your minis on the table as we meet up to play Warmachine. This is an open group willing to teach new players and challenge veterans\,
URL:https://www.mguinc.com/event/warmachine-meet-up/2026-12-29/
LOCATION:Meta-Games Unlimited\, 3309-A E. Sunshine\, Springfield\, Missouri\, 65804
ATTACH;FMTTYPE=image/jpeg:https://www.mguinc.com/wp-content/uploads/2026/01/WMtues.jpg
END:VEVENT
BEGIN:VEVENT
DTSTART;TZID=America/Chicago:20270105T180000
DTEND;TZID=America/Chicago:20270105T220000
DTSTAMP:20260421T142239
CREATED:20260103T173346Z
LAST-MODIFIED:20260103T173449Z
UID:10004918-1799172000-1799186400@www.mguinc.com
SUMMARY:Warmachine Meet-UP
DESCRIPTION:Come out and get your minis on the table as we meet up to play Warmachine. This is an open group willing to teach new players and challenge veterans\,
URL:https://www.mguinc.com/event/warmachine-meet-up/2027-01-05/
LOCATION:Meta-Games Unlimited\, 3309-A E. Sunshine\, Springfield\, Missouri\, 65804
ATTACH;FMTTYPE=image/jpeg:https://www.mguinc.com/wp-content/uploads/2026/01/WMtues.jpg
END:VEVENT
BEGIN:VEVENT
DTSTART;TZID=America/Chicago:20270112T180000
DTEND;TZID=America/Chicago:20270112T220000
DTSTAMP:20260421T142239
CREATED:20260103T173346Z
LAST-MODIFIED:20260103T173449Z
UID:10004919-1799776800-1799791200@www.mguinc.com
SUMMARY:Warmachine Meet-UP
DESCRIPTION:Come out and get your minis on the table as we meet up to play Warmachine. This is an open group willing to teach new players and challenge veterans\,
URL:https://www.mguinc.com/event/warmachine-meet-up/2027-01-12/
LOCATION:Meta-Games Unlimited\, 3309-A E. Sunshine\, Springfield\, Missouri\, 65804
ATTACH;FMTTYPE=image/jpeg:https://www.mguinc.com/wp-content/uploads/2026/01/WMtues.jpg
END:VEVENT
BEGIN:VEVENT
DTSTART;TZID=America/Chicago:20270119T180000
DTEND;TZID=America/Chicago:20270119T220000
DTSTAMP:20260421T142239
CREATED:20260103T173346Z
LAST-MODIFIED:20260103T173449Z
UID:10004920-1800381600-1800396000@www.mguinc.com
SUMMARY:Warmachine Meet-UP
DESCRIPTION:Come out and get your minis on the table as we meet up to play Warmachine. This is an open group willing to teach new players and challenge veterans\,
URL:https://www.mguinc.com/event/warmachine-meet-up/2027-01-19/
LOCATION:Meta-Games Unlimited\, 3309-A E. Sunshine\, Springfield\, Missouri\, 65804
ATTACH;FMTTYPE=image/jpeg:https://www.mguinc.com/wp-content/uploads/2026/01/WMtues.jpg
END:VEVENT
BEGIN:VEVENT
DTSTART;TZID=America/Chicago:20270126T180000
DTEND;TZID=America/Chicago:20270126T220000
DTSTAMP:20260421T142239
CREATED:20260103T173346Z
LAST-MODIFIED:20260103T173449Z
UID:10004921-1800986400-1801000800@www.mguinc.com
SUMMARY:Warmachine Meet-UP
DESCRIPTION:Come out and get your minis on the table as we meet up to play Warmachine. This is an open group willing to teach new players and challenge veterans\,
URL:https://www.mguinc.com/event/warmachine-meet-up/2027-01-26/
LOCATION:Meta-Games Unlimited\, 3309-A E. Sunshine\, Springfield\, Missouri\, 65804
ATTACH;FMTTYPE=image/jpeg:https://www.mguinc.com/wp-content/uploads/2026/01/WMtues.jpg
END:VEVENT
BEGIN:VEVENT
DTSTART;TZID=America/Chicago:20270202T180000
DTEND;TZID=America/Chicago:20270202T220000
DTSTAMP:20260421T142239
CREATED:20260103T173346Z
LAST-MODIFIED:20260103T173449Z
UID:10004922-1801591200-1801605600@www.mguinc.com
SUMMARY:Warmachine Meet-UP
DESCRIPTION:Come out and get your minis on the table as we meet up to play Warmachine. This is an open group willing to teach new players and challenge veterans\,
URL:https://www.mguinc.com/event/warmachine-meet-up/2027-02-02/
LOCATION:Meta-Games Unlimited\, 3309-A E. Sunshine\, Springfield\, Missouri\, 65804
ATTACH;FMTTYPE=image/jpeg:https://www.mguinc.com/wp-content/uploads/2026/01/WMtues.jpg
END:VEVENT
BEGIN:VEVENT
DTSTART;TZID=America/Chicago:20270209T180000
DTEND;TZID=America/Chicago:20270209T220000
DTSTAMP:20260421T142239
CREATED:20260103T173346Z
LAST-MODIFIED:20260103T173449Z
UID:10004923-1802196000-1802210400@www.mguinc.com
SUMMARY:Warmachine Meet-UP
DESCRIPTION:Come out and get your minis on the table as we meet up to play Warmachine. This is an open group willing to teach new players and challenge veterans\,
URL:https://www.mguinc.com/event/warmachine-meet-up/2027-02-09/
LOCATION:Meta-Games Unlimited\, 3309-A E. Sunshine\, Springfield\, Missouri\, 65804
ATTACH;FMTTYPE=image/jpeg:https://www.mguinc.com/wp-content/uploads/2026/01/WMtues.jpg
END:VEVENT
BEGIN:VEVENT
DTSTART;TZID=America/Chicago:20270216T180000
DTEND;TZID=America/Chicago:20270216T220000
DTSTAMP:20260421T142239
CREATED:20260103T173346Z
LAST-MODIFIED:20260103T173449Z
UID:10004924-1802800800-1802815200@www.mguinc.com
SUMMARY:Warmachine Meet-UP
DESCRIPTION:Come out and get your minis on the table as we meet up to play Warmachine. This is an open group willing to teach new players and challenge veterans\,
URL:https://www.mguinc.com/event/warmachine-meet-up/2027-02-16/
LOCATION:Meta-Games Unlimited\, 3309-A E. Sunshine\, Springfield\, Missouri\, 65804
ATTACH;FMTTYPE=image/jpeg:https://www.mguinc.com/wp-content/uploads/2026/01/WMtues.jpg
END:VEVENT
BEGIN:VEVENT
DTSTART;TZID=America/Chicago:20270223T180000
DTEND;TZID=America/Chicago:20270223T220000
DTSTAMP:20260421T142239
CREATED:20260103T173346Z
LAST-MODIFIED:20260103T173449Z
UID:10004925-1803405600-1803420000@www.mguinc.com
SUMMARY:Warmachine Meet-UP
DESCRIPTION:Come out and get your minis on the table as we meet up to play Warmachine. This is an open group willing to teach new players and challenge veterans\,
URL:https://www.mguinc.com/event/warmachine-meet-up/2027-02-23/
LOCATION:Meta-Games Unlimited\, 3309-A E. Sunshine\, Springfield\, Missouri\, 65804
ATTACH;FMTTYPE=image/jpeg:https://www.mguinc.com/wp-content/uploads/2026/01/WMtues.jpg
END:VEVENT
BEGIN:VEVENT
DTSTART;TZID=America/Chicago:20270302T180000
DTEND;TZID=America/Chicago:20270302T220000
DTSTAMP:20260421T142239
CREATED:20260103T173346Z
LAST-MODIFIED:20260103T173449Z
UID:10004926-1804010400-1804024800@www.mguinc.com
SUMMARY:Warmachine Meet-UP
DESCRIPTION:Come out and get your minis on the table as we meet up to play Warmachine. This is an open group willing to teach new players and challenge veterans\,
URL:https://www.mguinc.com/event/warmachine-meet-up/2027-03-02/
LOCATION:Meta-Games Unlimited\, 3309-A E. Sunshine\, Springfield\, Missouri\, 65804
ATTACH;FMTTYPE=image/jpeg:https://www.mguinc.com/wp-content/uploads/2026/01/WMtues.jpg
END:VEVENT
BEGIN:VEVENT
DTSTART;TZID=America/Chicago:20270309T180000
DTEND;TZID=America/Chicago:20270309T220000
DTSTAMP:20260421T142239
CREATED:20260103T173346Z
LAST-MODIFIED:20260103T173449Z
UID:10004927-1804615200-1804629600@www.mguinc.com
SUMMARY:Warmachine Meet-UP
DESCRIPTION:Come out and get your minis on the table as we meet up to play Warmachine. This is an open group willing to teach new players and challenge veterans\,
URL:https://www.mguinc.com/event/warmachine-meet-up/2027-03-09/
LOCATION:Meta-Games Unlimited\, 3309-A E. Sunshine\, Springfield\, Missouri\, 65804
ATTACH;FMTTYPE=image/jpeg:https://www.mguinc.com/wp-content/uploads/2026/01/WMtues.jpg
END:VEVENT
BEGIN:VEVENT
DTSTART;TZID=America/Chicago:20270316T180000
DTEND;TZID=America/Chicago:20270316T220000
DTSTAMP:20260421T142239
CREATED:20260103T173346Z
LAST-MODIFIED:20260103T173449Z
UID:10004928-1805220000-1805234400@www.mguinc.com
SUMMARY:Warmachine Meet-UP
DESCRIPTION:Come out and get your minis on the table as we meet up to play Warmachine. This is an open group willing to teach new players and challenge veterans\,
URL:https://www.mguinc.com/event/warmachine-meet-up/2027-03-16/
LOCATION:Meta-Games Unlimited\, 3309-A E. Sunshine\, Springfield\, Missouri\, 65804
ATTACH;FMTTYPE=image/jpeg:https://www.mguinc.com/wp-content/uploads/2026/01/WMtues.jpg
END:VEVENT
BEGIN:VEVENT
DTSTART;TZID=America/Chicago:20270323T180000
DTEND;TZID=America/Chicago:20270323T220000
DTSTAMP:20260421T142239
CREATED:20260103T173346Z
LAST-MODIFIED:20260103T173449Z
UID:10004929-1805824800-1805839200@www.mguinc.com
SUMMARY:Warmachine Meet-UP
DESCRIPTION:Come out and get your minis on the table as we meet up to play Warmachine. This is an open group willing to teach new players and challenge veterans\,
URL:https://www.mguinc.com/event/warmachine-meet-up/2027-03-23/
LOCATION:Meta-Games Unlimited\, 3309-A E. Sunshine\, Springfield\, Missouri\, 65804
ATTACH;FMTTYPE=image/jpeg:https://www.mguinc.com/wp-content/uploads/2026/01/WMtues.jpg
END:VEVENT
BEGIN:VEVENT
DTSTART;TZID=America/Chicago:20270330T180000
DTEND;TZID=America/Chicago:20270330T220000
DTSTAMP:20260421T142239
CREATED:20260103T173346Z
LAST-MODIFIED:20260103T173449Z
UID:10004930-1806429600-1806444000@www.mguinc.com
SUMMARY:Warmachine Meet-UP
DESCRIPTION:Come out and get your minis on the table as we meet up to play Warmachine. This is an open group willing to teach new players and challenge veterans\,
URL:https://www.mguinc.com/event/warmachine-meet-up/2027-03-30/
LOCATION:Meta-Games Unlimited\, 3309-A E. Sunshine\, Springfield\, Missouri\, 65804
ATTACH;FMTTYPE=image/jpeg:https://www.mguinc.com/wp-content/uploads/2026/01/WMtues.jpg
END:VEVENT
BEGIN:VEVENT
DTSTART;TZID=America/Chicago:20270406T180000
DTEND;TZID=America/Chicago:20270406T220000
DTSTAMP:20260421T142239
CREATED:20260103T173346Z
LAST-MODIFIED:20260103T173449Z
UID:10004931-1807034400-1807048800@www.mguinc.com
SUMMARY:Warmachine Meet-UP
DESCRIPTION:Come out and get your minis on the table as we meet up to play Warmachine. This is an open group willing to teach new players and challenge veterans\,
URL:https://www.mguinc.com/event/warmachine-meet-up/2027-04-06/
LOCATION:Meta-Games Unlimited\, 3309-A E. Sunshine\, Springfield\, Missouri\, 65804
ATTACH;FMTTYPE=image/jpeg:https://www.mguinc.com/wp-content/uploads/2026/01/WMtues.jpg
END:VEVENT
BEGIN:VEVENT
DTSTART;TZID=America/Chicago:20270413T180000
DTEND;TZID=America/Chicago:20270413T220000
DTSTAMP:20260421T142239
CREATED:20260103T173346Z
LAST-MODIFIED:20260103T173449Z
UID:10004932-1807639200-1807653600@www.mguinc.com
SUMMARY:Warmachine Meet-UP
DESCRIPTION:Come out and get your minis on the table as we meet up to play Warmachine. This is an open group willing to teach new players and challenge veterans\,
URL:https://www.mguinc.com/event/warmachine-meet-up/2027-04-13/
LOCATION:Meta-Games Unlimited\, 3309-A E. Sunshine\, Springfield\, Missouri\, 65804
ATTACH;FMTTYPE=image/jpeg:https://www.mguinc.com/wp-content/uploads/2026/01/WMtues.jpg
END:VEVENT
BEGIN:VEVENT
DTSTART;TZID=America/Chicago:20270420T180000
DTEND;TZID=America/Chicago:20270420T220000
DTSTAMP:20260421T142239
CREATED:20260103T173346Z
LAST-MODIFIED:20260103T173449Z
UID:10004933-1808244000-1808258400@www.mguinc.com
SUMMARY:Warmachine Meet-UP
DESCRIPTION:Come out and get your minis on the table as we meet up to play Warmachine. This is an open group willing to teach new players and challenge veterans\,
URL:https://www.mguinc.com/event/warmachine-meet-up/2027-04-20/
LOCATION:Meta-Games Unlimited\, 3309-A E. Sunshine\, Springfield\, Missouri\, 65804
ATTACH;FMTTYPE=image/jpeg:https://www.mguinc.com/wp-content/uploads/2026/01/WMtues.jpg
END:VEVENT
BEGIN:VEVENT
DTSTART;TZID=America/Chicago:20270427T180000
DTEND;TZID=America/Chicago:20270427T220000
DTSTAMP:20260421T142239
CREATED:20260103T173346Z
LAST-MODIFIED:20260103T173449Z
UID:10004934-1808848800-1808863200@www.mguinc.com
SUMMARY:Warmachine Meet-UP
DESCRIPTION:Come out and get your minis on the table as we meet up to play Warmachine. This is an open group willing to teach new players and challenge veterans\,
URL:https://www.mguinc.com/event/warmachine-meet-up/2027-04-27/
LOCATION:Meta-Games Unlimited\, 3309-A E. Sunshine\, Springfield\, Missouri\, 65804
ATTACH;FMTTYPE=image/jpeg:https://www.mguinc.com/wp-content/uploads/2026/01/WMtues.jpg
END:VEVENT
BEGIN:VEVENT
DTSTART;TZID=America/Chicago:20270504T180000
DTEND;TZID=America/Chicago:20270504T220000
DTSTAMP:20260421T142239
CREATED:20260103T173346Z
LAST-MODIFIED:20260103T173449Z
UID:10004935-1809453600-1809468000@www.mguinc.com
SUMMARY:Warmachine Meet-UP
DESCRIPTION:Come out and get your minis on the table as we meet up to play Warmachine. This is an open group willing to teach new players and challenge veterans\,
URL:https://www.mguinc.com/event/warmachine-meet-up/2027-05-04/
LOCATION:Meta-Games Unlimited\, 3309-A E. Sunshine\, Springfield\, Missouri\, 65804
ATTACH;FMTTYPE=image/jpeg:https://www.mguinc.com/wp-content/uploads/2026/01/WMtues.jpg
END:VEVENT
BEGIN:VEVENT
DTSTART;TZID=America/Chicago:20270511T180000
DTEND;TZID=America/Chicago:20270511T220000
DTSTAMP:20260421T142239
CREATED:20260103T173346Z
LAST-MODIFIED:20260103T173449Z
UID:10004936-1810058400-1810072800@www.mguinc.com
SUMMARY:Warmachine Meet-UP
DESCRIPTION:Come out and get your minis on the table as we meet up to play Warmachine. This is an open group willing to teach new players and challenge veterans\,
URL:https://www.mguinc.com/event/warmachine-meet-up/2027-05-11/
LOCATION:Meta-Games Unlimited\, 3309-A E. Sunshine\, Springfield\, Missouri\, 65804
ATTACH;FMTTYPE=image/jpeg:https://www.mguinc.com/wp-content/uploads/2026/01/WMtues.jpg
END:VEVENT
BEGIN:VEVENT
DTSTART;TZID=America/Chicago:20270518T180000
DTEND;TZID=America/Chicago:20270518T220000
DTSTAMP:20260421T142239
CREATED:20260103T173346Z
LAST-MODIFIED:20260103T173449Z
UID:10004937-1810663200-1810677600@www.mguinc.com
SUMMARY:Warmachine Meet-UP
DESCRIPTION:Come out and get your minis on the table as we meet up to play Warmachine. This is an open group willing to teach new players and challenge veterans\,
URL:https://www.mguinc.com/event/warmachine-meet-up/2027-05-18/
LOCATION:Meta-Games Unlimited\, 3309-A E. Sunshine\, Springfield\, Missouri\, 65804
ATTACH;FMTTYPE=image/jpeg:https://www.mguinc.com/wp-content/uploads/2026/01/WMtues.jpg
END:VEVENT
BEGIN:VEVENT
DTSTART;TZID=America/Chicago:20270525T180000
DTEND;TZID=America/Chicago:20270525T220000
DTSTAMP:20260421T142239
CREATED:20260103T173346Z
LAST-MODIFIED:20260103T173449Z
UID:10004938-1811268000-1811282400@www.mguinc.com
SUMMARY:Warmachine Meet-UP
DESCRIPTION:Come out and get your minis on the table as we meet up to play Warmachine. This is an open group willing to teach new players and challenge veterans\,
URL:https://www.mguinc.com/event/warmachine-meet-up/2027-05-25/
LOCATION:Meta-Games Unlimited\, 3309-A E. Sunshine\, Springfield\, Missouri\, 65804
ATTACH;FMTTYPE=image/jpeg:https://www.mguinc.com/wp-content/uploads/2026/01/WMtues.jpg
END:VEVENT
BEGIN:VEVENT
DTSTART;TZID=America/Chicago:20270601T180000
DTEND;TZID=America/Chicago:20270601T220000
DTSTAMP:20260421T142239
CREATED:20260103T173346Z
LAST-MODIFIED:20260103T173449Z
UID:10004939-1811872800-1811887200@www.mguinc.com
SUMMARY:Warmachine Meet-UP
DESCRIPTION:Come out and get your minis on the table as we meet up to play Warmachine. This is an open group willing to teach new players and challenge veterans\,
URL:https://www.mguinc.com/event/warmachine-meet-up/2027-06-01/
LOCATION:Meta-Games Unlimited\, 3309-A E. Sunshine\, Springfield\, Missouri\, 65804
ATTACH;FMTTYPE=image/jpeg:https://www.mguinc.com/wp-content/uploads/2026/01/WMtues.jpg
END:VEVENT
BEGIN:VEVENT
DTSTART;TZID=America/Chicago:20270608T180000
DTEND;TZID=America/Chicago:20270608T220000
DTSTAMP:20260421T142239
CREATED:20260103T173346Z
LAST-MODIFIED:20260103T173449Z
UID:10004940-1812477600-1812492000@www.mguinc.com
SUMMARY:Warmachine Meet-UP
DESCRIPTION:Come out and get your minis on the table as we meet up to play Warmachine. This is an open group willing to teach new players and challenge veterans\,
URL:https://www.mguinc.com/event/warmachine-meet-up/2027-06-08/
LOCATION:Meta-Games Unlimited\, 3309-A E. Sunshine\, Springfield\, Missouri\, 65804
ATTACH;FMTTYPE=image/jpeg:https://www.mguinc.com/wp-content/uploads/2026/01/WMtues.jpg
END:VEVENT
BEGIN:VEVENT
DTSTART;TZID=America/Chicago:20270615T180000
DTEND;TZID=America/Chicago:20270615T220000
DTSTAMP:20260421T142239
CREATED:20260103T173346Z
LAST-MODIFIED:20260103T173449Z
UID:10004941-1813082400-1813096800@www.mguinc.com
SUMMARY:Warmachine Meet-UP
DESCRIPTION:Come out and get your minis on the table as we meet up to play Warmachine. This is an open group willing to teach new players and challenge veterans\,
URL:https://www.mguinc.com/event/warmachine-meet-up/2027-06-15/
LOCATION:Meta-Games Unlimited\, 3309-A E. Sunshine\, Springfield\, Missouri\, 65804
ATTACH;FMTTYPE=image/jpeg:https://www.mguinc.com/wp-content/uploads/2026/01/WMtues.jpg
END:VEVENT
BEGIN:VEVENT
DTSTART;TZID=America/Chicago:20270622T180000
DTEND;TZID=America/Chicago:20270622T220000
DTSTAMP:20260421T142239
CREATED:20260103T173346Z
LAST-MODIFIED:20260103T173449Z
UID:10004942-1813687200-1813701600@www.mguinc.com
SUMMARY:Warmachine Meet-UP
DESCRIPTION:Come out and get your minis on the table as we meet up to play Warmachine. This is an open group willing to teach new players and challenge veterans\,
URL:https://www.mguinc.com/event/warmachine-meet-up/2027-06-22/
LOCATION:Meta-Games Unlimited\, 3309-A E. Sunshine\, Springfield\, Missouri\, 65804
ATTACH;FMTTYPE=image/jpeg:https://www.mguinc.com/wp-content/uploads/2026/01/WMtues.jpg
END:VEVENT
BEGIN:VEVENT
DTSTART;TZID=America/Chicago:20270629T180000
DTEND;TZID=America/Chicago:20270629T220000
DTSTAMP:20260421T142239
CREATED:20260103T173346Z
LAST-MODIFIED:20260103T173449Z
UID:10004943-1814292000-1814306400@www.mguinc.com
SUMMARY:Warmachine Meet-UP
DESCRIPTION:Come out and get your minis on the table as we meet up to play Warmachine. This is an open group willing to teach new players and challenge veterans\,
URL:https://www.mguinc.com/event/warmachine-meet-up/2027-06-29/
LOCATION:Meta-Games Unlimited\, 3309-A E. Sunshine\, Springfield\, Missouri\, 65804
ATTACH;FMTTYPE=image/jpeg:https://www.mguinc.com/wp-content/uploads/2026/01/WMtues.jpg
END:VEVENT
BEGIN:VEVENT
DTSTART;TZID=America/Chicago:20270706T180000
DTEND;TZID=America/Chicago:20270706T220000
DTSTAMP:20260421T142239
CREATED:20260103T173346Z
LAST-MODIFIED:20260103T173449Z
UID:10004944-1814896800-1814911200@www.mguinc.com
SUMMARY:Warmachine Meet-UP
DESCRIPTION:Come out and get your minis on the table as we meet up to play Warmachine. This is an open group willing to teach new players and challenge veterans\,
URL:https://www.mguinc.com/event/warmachine-meet-up/2027-07-06/
LOCATION:Meta-Games Unlimited\, 3309-A E. Sunshine\, Springfield\, Missouri\, 65804
ATTACH;FMTTYPE=image/jpeg:https://www.mguinc.com/wp-content/uploads/2026/01/WMtues.jpg
END:VEVENT
BEGIN:VEVENT
DTSTART;TZID=America/Chicago:20270713T180000
DTEND;TZID=America/Chicago:20270713T220000
DTSTAMP:20260421T142239
CREATED:20260103T173346Z
LAST-MODIFIED:20260103T173449Z
UID:10004945-1815501600-1815516000@www.mguinc.com
SUMMARY:Warmachine Meet-UP
DESCRIPTION:Come out and get your minis on the table as we meet up to play Warmachine. This is an open group willing to teach new players and challenge veterans\,
URL:https://www.mguinc.com/event/warmachine-meet-up/2027-07-13/
LOCATION:Meta-Games Unlimited\, 3309-A E. Sunshine\, Springfield\, Missouri\, 65804
ATTACH;FMTTYPE=image/jpeg:https://www.mguinc.com/wp-content/uploads/2026/01/WMtues.jpg
END:VEVENT
BEGIN:VEVENT
DTSTART;TZID=America/Chicago:20270720T180000
DTEND;TZID=America/Chicago:20270720T220000
DTSTAMP:20260421T142239
CREATED:20260103T173346Z
LAST-MODIFIED:20260103T173449Z
UID:10004946-1816106400-1816120800@www.mguinc.com
SUMMARY:Warmachine Meet-UP
DESCRIPTION:Come out and get your minis on the table as we meet up to play Warmachine. This is an open group willing to teach new players and challenge veterans\,
URL:https://www.mguinc.com/event/warmachine-meet-up/2027-07-20/
LOCATION:Meta-Games Unlimited\, 3309-A E. Sunshine\, Springfield\, Missouri\, 65804
ATTACH;FMTTYPE=image/jpeg:https://www.mguinc.com/wp-content/uploads/2026/01/WMtues.jpg
END:VEVENT
END:VCALENDAR