BEGIN:VCALENDAR
VERSION:2.0
PRODID:-//Meta-Games Unlimited - ECPv6.15.20//NONSGML v1.0//EN
CALSCALE:GREGORIAN
METHOD:PUBLISH
X-WR-CALNAME:Meta-Games Unlimited
X-ORIGINAL-URL:https://www.mguinc.com
X-WR-CALDESC:Events for Meta-Games Unlimited
REFRESH-INTERVAL;VALUE=DURATION:PT1H
X-Robots-Tag:noindex
X-PUBLISHED-TTL:PT1H
BEGIN:VTIMEZONE
TZID:America/Chicago
BEGIN:DAYLIGHT
TZOFFSETFROM:-0600
TZOFFSETTO:-0500
TZNAME:CDT
DTSTART:20250309T080000
END:DAYLIGHT
BEGIN:STANDARD
TZOFFSETFROM:-0500
TZOFFSETTO:-0600
TZNAME:CST
DTSTART:20251102T070000
END:STANDARD
BEGIN:DAYLIGHT
TZOFFSETFROM:-0600
TZOFFSETTO:-0500
TZNAME:CDT
DTSTART:20260308T080000
END:DAYLIGHT
BEGIN:STANDARD
TZOFFSETFROM:-0500
TZOFFSETTO:-0600
TZNAME:CST
DTSTART:20261101T070000
END:STANDARD
BEGIN:DAYLIGHT
TZOFFSETFROM:-0600
TZOFFSETTO:-0500
TZNAME:CDT
DTSTART:20270314T080000
END:DAYLIGHT
BEGIN:STANDARD
TZOFFSETFROM:-0500
TZOFFSETTO:-0600
TZNAME:CST
DTSTART:20271107T070000
END:STANDARD
BEGIN:DAYLIGHT
TZOFFSETFROM:-0600
TZOFFSETTO:-0500
TZNAME:CDT
DTSTART:20280312T080000
END:DAYLIGHT
BEGIN:STANDARD
TZOFFSETFROM:-0500
TZOFFSETTO:-0600
TZNAME:CST
DTSTART:20281105T070000
END:STANDARD
END:VTIMEZONE
BEGIN:VEVENT
DTSTART;TZID=America/Chicago:20261231T180000
DTEND;TZID=America/Chicago:20261231T220000
DTSTAMP:20260419T101026
CREATED:20230325T171833Z
LAST-MODIFIED:20251227T224027Z
UID:10001772-1798740000-1798754400@www.mguinc.com
SUMMARY:Marvel Crisis Protocol Meet-up
DESCRIPTION:Come in and meet up with local Marvel Crisis Protocol players every Thursday night. You can also get in touch with the players on the Ozark Mountain Irregular (our local skirmish miniature game group) Facebook group HERE
URL:https://www.mguinc.com/event/marvel-crisis-protocol-meet-up/2026-12-31/
LOCATION:Meta-Games\, 3309 E Sunshine\, Springfield\, MO\, 65804\, United States
ATTACH;FMTTYPE=image/jpeg:https://www.mguinc.com/wp-content/uploads/2023/03/mcpthur-1.jpg
END:VEVENT
BEGIN:VEVENT
DTSTART;TZID=America/Chicago:20270107T180000
DTEND;TZID=America/Chicago:20270107T220000
DTSTAMP:20260419T101026
CREATED:20230325T171833Z
LAST-MODIFIED:20251227T224027Z
UID:10001773-1799344800-1799359200@www.mguinc.com
SUMMARY:Marvel Crisis Protocol Meet-up
DESCRIPTION:Come in and meet up with local Marvel Crisis Protocol players every Thursday night. You can also get in touch with the players on the Ozark Mountain Irregular (our local skirmish miniature game group) Facebook group HERE
URL:https://www.mguinc.com/event/marvel-crisis-protocol-meet-up/2027-01-07/
LOCATION:Meta-Games\, 3309 E Sunshine\, Springfield\, MO\, 65804\, United States
ATTACH;FMTTYPE=image/jpeg:https://www.mguinc.com/wp-content/uploads/2023/03/mcpthur-1.jpg
END:VEVENT
BEGIN:VEVENT
DTSTART;TZID=America/Chicago:20270114T180000
DTEND;TZID=America/Chicago:20270114T220000
DTSTAMP:20260419T101026
CREATED:20230325T171833Z
LAST-MODIFIED:20251227T224027Z
UID:10001774-1799949600-1799964000@www.mguinc.com
SUMMARY:Marvel Crisis Protocol Meet-up
DESCRIPTION:Come in and meet up with local Marvel Crisis Protocol players every Thursday night. You can also get in touch with the players on the Ozark Mountain Irregular (our local skirmish miniature game group) Facebook group HERE
URL:https://www.mguinc.com/event/marvel-crisis-protocol-meet-up/2027-01-14/
LOCATION:Meta-Games\, 3309 E Sunshine\, Springfield\, MO\, 65804\, United States
ATTACH;FMTTYPE=image/jpeg:https://www.mguinc.com/wp-content/uploads/2023/03/mcpthur-1.jpg
END:VEVENT
BEGIN:VEVENT
DTSTART;TZID=America/Chicago:20270121T180000
DTEND;TZID=America/Chicago:20270121T220000
DTSTAMP:20260419T101026
CREATED:20230325T171833Z
LAST-MODIFIED:20251227T224027Z
UID:10001775-1800554400-1800568800@www.mguinc.com
SUMMARY:Marvel Crisis Protocol Meet-up
DESCRIPTION:Come in and meet up with local Marvel Crisis Protocol players every Thursday night. You can also get in touch with the players on the Ozark Mountain Irregular (our local skirmish miniature game group) Facebook group HERE
URL:https://www.mguinc.com/event/marvel-crisis-protocol-meet-up/2027-01-21/
LOCATION:Meta-Games\, 3309 E Sunshine\, Springfield\, MO\, 65804\, United States
ATTACH;FMTTYPE=image/jpeg:https://www.mguinc.com/wp-content/uploads/2023/03/mcpthur-1.jpg
END:VEVENT
BEGIN:VEVENT
DTSTART;TZID=America/Chicago:20270128T180000
DTEND;TZID=America/Chicago:20270128T220000
DTSTAMP:20260419T101026
CREATED:20230325T171833Z
LAST-MODIFIED:20251227T224027Z
UID:10001776-1801159200-1801173600@www.mguinc.com
SUMMARY:Marvel Crisis Protocol Meet-up
DESCRIPTION:Come in and meet up with local Marvel Crisis Protocol players every Thursday night. You can also get in touch with the players on the Ozark Mountain Irregular (our local skirmish miniature game group) Facebook group HERE
URL:https://www.mguinc.com/event/marvel-crisis-protocol-meet-up/2027-01-28/
LOCATION:Meta-Games\, 3309 E Sunshine\, Springfield\, MO\, 65804\, United States
ATTACH;FMTTYPE=image/jpeg:https://www.mguinc.com/wp-content/uploads/2023/03/mcpthur-1.jpg
END:VEVENT
BEGIN:VEVENT
DTSTART;TZID=America/Chicago:20270204T180000
DTEND;TZID=America/Chicago:20270204T220000
DTSTAMP:20260419T101026
CREATED:20230325T171833Z
LAST-MODIFIED:20251227T224027Z
UID:10001777-1801764000-1801778400@www.mguinc.com
SUMMARY:Marvel Crisis Protocol Meet-up
DESCRIPTION:Come in and meet up with local Marvel Crisis Protocol players every Thursday night. You can also get in touch with the players on the Ozark Mountain Irregular (our local skirmish miniature game group) Facebook group HERE
URL:https://www.mguinc.com/event/marvel-crisis-protocol-meet-up/2027-02-04/
LOCATION:Meta-Games\, 3309 E Sunshine\, Springfield\, MO\, 65804\, United States
ATTACH;FMTTYPE=image/jpeg:https://www.mguinc.com/wp-content/uploads/2023/03/mcpthur-1.jpg
END:VEVENT
BEGIN:VEVENT
DTSTART;TZID=America/Chicago:20270211T180000
DTEND;TZID=America/Chicago:20270211T220000
DTSTAMP:20260419T101026
CREATED:20230325T171833Z
LAST-MODIFIED:20251227T224027Z
UID:10001778-1802368800-1802383200@www.mguinc.com
SUMMARY:Marvel Crisis Protocol Meet-up
DESCRIPTION:Come in and meet up with local Marvel Crisis Protocol players every Thursday night. You can also get in touch with the players on the Ozark Mountain Irregular (our local skirmish miniature game group) Facebook group HERE
URL:https://www.mguinc.com/event/marvel-crisis-protocol-meet-up/2027-02-11/
LOCATION:Meta-Games\, 3309 E Sunshine\, Springfield\, MO\, 65804\, United States
ATTACH;FMTTYPE=image/jpeg:https://www.mguinc.com/wp-content/uploads/2023/03/mcpthur-1.jpg
END:VEVENT
BEGIN:VEVENT
DTSTART;TZID=America/Chicago:20270218T180000
DTEND;TZID=America/Chicago:20270218T220000
DTSTAMP:20260419T101026
CREATED:20230325T171833Z
LAST-MODIFIED:20251227T224027Z
UID:10001779-1802973600-1802988000@www.mguinc.com
SUMMARY:Marvel Crisis Protocol Meet-up
DESCRIPTION:Come in and meet up with local Marvel Crisis Protocol players every Thursday night. You can also get in touch with the players on the Ozark Mountain Irregular (our local skirmish miniature game group) Facebook group HERE
URL:https://www.mguinc.com/event/marvel-crisis-protocol-meet-up/2027-02-18/
LOCATION:Meta-Games\, 3309 E Sunshine\, Springfield\, MO\, 65804\, United States
ATTACH;FMTTYPE=image/jpeg:https://www.mguinc.com/wp-content/uploads/2023/03/mcpthur-1.jpg
END:VEVENT
BEGIN:VEVENT
DTSTART;TZID=America/Chicago:20270225T180000
DTEND;TZID=America/Chicago:20270225T220000
DTSTAMP:20260419T101026
CREATED:20230325T171833Z
LAST-MODIFIED:20251227T224027Z
UID:10001780-1803578400-1803592800@www.mguinc.com
SUMMARY:Marvel Crisis Protocol Meet-up
DESCRIPTION:Come in and meet up with local Marvel Crisis Protocol players every Thursday night. You can also get in touch with the players on the Ozark Mountain Irregular (our local skirmish miniature game group) Facebook group HERE
URL:https://www.mguinc.com/event/marvel-crisis-protocol-meet-up/2027-02-25/
LOCATION:Meta-Games\, 3309 E Sunshine\, Springfield\, MO\, 65804\, United States
ATTACH;FMTTYPE=image/jpeg:https://www.mguinc.com/wp-content/uploads/2023/03/mcpthur-1.jpg
END:VEVENT
BEGIN:VEVENT
DTSTART;TZID=America/Chicago:20270304T180000
DTEND;TZID=America/Chicago:20270304T220000
DTSTAMP:20260419T101026
CREATED:20230325T171833Z
LAST-MODIFIED:20251227T224027Z
UID:10001781-1804183200-1804197600@www.mguinc.com
SUMMARY:Marvel Crisis Protocol Meet-up
DESCRIPTION:Come in and meet up with local Marvel Crisis Protocol players every Thursday night. You can also get in touch with the players on the Ozark Mountain Irregular (our local skirmish miniature game group) Facebook group HERE
URL:https://www.mguinc.com/event/marvel-crisis-protocol-meet-up/2027-03-04/
LOCATION:Meta-Games\, 3309 E Sunshine\, Springfield\, MO\, 65804\, United States
ATTACH;FMTTYPE=image/jpeg:https://www.mguinc.com/wp-content/uploads/2023/03/mcpthur-1.jpg
END:VEVENT
BEGIN:VEVENT
DTSTART;TZID=America/Chicago:20270311T180000
DTEND;TZID=America/Chicago:20270311T220000
DTSTAMP:20260419T101026
CREATED:20230325T171833Z
LAST-MODIFIED:20251227T224027Z
UID:10001782-1804788000-1804802400@www.mguinc.com
SUMMARY:Marvel Crisis Protocol Meet-up
DESCRIPTION:Come in and meet up with local Marvel Crisis Protocol players every Thursday night. You can also get in touch with the players on the Ozark Mountain Irregular (our local skirmish miniature game group) Facebook group HERE
URL:https://www.mguinc.com/event/marvel-crisis-protocol-meet-up/2027-03-11/
LOCATION:Meta-Games\, 3309 E Sunshine\, Springfield\, MO\, 65804\, United States
ATTACH;FMTTYPE=image/jpeg:https://www.mguinc.com/wp-content/uploads/2023/03/mcpthur-1.jpg
END:VEVENT
BEGIN:VEVENT
DTSTART;TZID=America/Chicago:20270318T180000
DTEND;TZID=America/Chicago:20270318T220000
DTSTAMP:20260419T101026
CREATED:20230325T171833Z
LAST-MODIFIED:20251227T224027Z
UID:10001783-1805392800-1805407200@www.mguinc.com
SUMMARY:Marvel Crisis Protocol Meet-up
DESCRIPTION:Come in and meet up with local Marvel Crisis Protocol players every Thursday night. You can also get in touch with the players on the Ozark Mountain Irregular (our local skirmish miniature game group) Facebook group HERE
URL:https://www.mguinc.com/event/marvel-crisis-protocol-meet-up/2027-03-18/
LOCATION:Meta-Games\, 3309 E Sunshine\, Springfield\, MO\, 65804\, United States
ATTACH;FMTTYPE=image/jpeg:https://www.mguinc.com/wp-content/uploads/2023/03/mcpthur-1.jpg
END:VEVENT
BEGIN:VEVENT
DTSTART;TZID=America/Chicago:20270325T180000
DTEND;TZID=America/Chicago:20270325T220000
DTSTAMP:20260419T101026
CREATED:20230325T171833Z
LAST-MODIFIED:20251227T224027Z
UID:10001784-1805997600-1806012000@www.mguinc.com
SUMMARY:Marvel Crisis Protocol Meet-up
DESCRIPTION:Come in and meet up with local Marvel Crisis Protocol players every Thursday night. You can also get in touch with the players on the Ozark Mountain Irregular (our local skirmish miniature game group) Facebook group HERE
URL:https://www.mguinc.com/event/marvel-crisis-protocol-meet-up/2027-03-25/
LOCATION:Meta-Games\, 3309 E Sunshine\, Springfield\, MO\, 65804\, United States
ATTACH;FMTTYPE=image/jpeg:https://www.mguinc.com/wp-content/uploads/2023/03/mcpthur-1.jpg
END:VEVENT
BEGIN:VEVENT
DTSTART;TZID=America/Chicago:20270401T180000
DTEND;TZID=America/Chicago:20270401T220000
DTSTAMP:20260419T101026
CREATED:20230325T171833Z
LAST-MODIFIED:20251227T224027Z
UID:10001785-1806602400-1806616800@www.mguinc.com
SUMMARY:Marvel Crisis Protocol Meet-up
DESCRIPTION:Come in and meet up with local Marvel Crisis Protocol players every Thursday night. You can also get in touch with the players on the Ozark Mountain Irregular (our local skirmish miniature game group) Facebook group HERE
URL:https://www.mguinc.com/event/marvel-crisis-protocol-meet-up/2027-04-01/
LOCATION:Meta-Games\, 3309 E Sunshine\, Springfield\, MO\, 65804\, United States
ATTACH;FMTTYPE=image/jpeg:https://www.mguinc.com/wp-content/uploads/2023/03/mcpthur-1.jpg
END:VEVENT
BEGIN:VEVENT
DTSTART;TZID=America/Chicago:20270408T180000
DTEND;TZID=America/Chicago:20270408T220000
DTSTAMP:20260419T101026
CREATED:20230325T171833Z
LAST-MODIFIED:20251227T224027Z
UID:10001786-1807207200-1807221600@www.mguinc.com
SUMMARY:Marvel Crisis Protocol Meet-up
DESCRIPTION:Come in and meet up with local Marvel Crisis Protocol players every Thursday night. You can also get in touch with the players on the Ozark Mountain Irregular (our local skirmish miniature game group) Facebook group HERE
URL:https://www.mguinc.com/event/marvel-crisis-protocol-meet-up/2027-04-08/
LOCATION:Meta-Games\, 3309 E Sunshine\, Springfield\, MO\, 65804\, United States
ATTACH;FMTTYPE=image/jpeg:https://www.mguinc.com/wp-content/uploads/2023/03/mcpthur-1.jpg
END:VEVENT
BEGIN:VEVENT
DTSTART;TZID=America/Chicago:20270415T180000
DTEND;TZID=America/Chicago:20270415T220000
DTSTAMP:20260419T101026
CREATED:20230325T171833Z
LAST-MODIFIED:20251227T224027Z
UID:10001787-1807812000-1807826400@www.mguinc.com
SUMMARY:Marvel Crisis Protocol Meet-up
DESCRIPTION:Come in and meet up with local Marvel Crisis Protocol players every Thursday night. You can also get in touch with the players on the Ozark Mountain Irregular (our local skirmish miniature game group) Facebook group HERE
URL:https://www.mguinc.com/event/marvel-crisis-protocol-meet-up/2027-04-15/
LOCATION:Meta-Games\, 3309 E Sunshine\, Springfield\, MO\, 65804\, United States
ATTACH;FMTTYPE=image/jpeg:https://www.mguinc.com/wp-content/uploads/2023/03/mcpthur-1.jpg
END:VEVENT
BEGIN:VEVENT
DTSTART;TZID=America/Chicago:20270422T180000
DTEND;TZID=America/Chicago:20270422T220000
DTSTAMP:20260419T101026
CREATED:20230325T171833Z
LAST-MODIFIED:20251227T224027Z
UID:10001788-1808416800-1808431200@www.mguinc.com
SUMMARY:Marvel Crisis Protocol Meet-up
DESCRIPTION:Come in and meet up with local Marvel Crisis Protocol players every Thursday night. You can also get in touch with the players on the Ozark Mountain Irregular (our local skirmish miniature game group) Facebook group HERE
URL:https://www.mguinc.com/event/marvel-crisis-protocol-meet-up/2027-04-22/
LOCATION:Meta-Games\, 3309 E Sunshine\, Springfield\, MO\, 65804\, United States
ATTACH;FMTTYPE=image/jpeg:https://www.mguinc.com/wp-content/uploads/2023/03/mcpthur-1.jpg
END:VEVENT
BEGIN:VEVENT
DTSTART;TZID=America/Chicago:20270429T180000
DTEND;TZID=America/Chicago:20270429T220000
DTSTAMP:20260419T101026
CREATED:20230325T171833Z
LAST-MODIFIED:20251227T224027Z
UID:10001789-1809021600-1809036000@www.mguinc.com
SUMMARY:Marvel Crisis Protocol Meet-up
DESCRIPTION:Come in and meet up with local Marvel Crisis Protocol players every Thursday night. You can also get in touch with the players on the Ozark Mountain Irregular (our local skirmish miniature game group) Facebook group HERE
URL:https://www.mguinc.com/event/marvel-crisis-protocol-meet-up/2027-04-29/
LOCATION:Meta-Games\, 3309 E Sunshine\, Springfield\, MO\, 65804\, United States
ATTACH;FMTTYPE=image/jpeg:https://www.mguinc.com/wp-content/uploads/2023/03/mcpthur-1.jpg
END:VEVENT
BEGIN:VEVENT
DTSTART;TZID=America/Chicago:20270506T180000
DTEND;TZID=America/Chicago:20270506T220000
DTSTAMP:20260419T101026
CREATED:20230325T171833Z
LAST-MODIFIED:20251227T224027Z
UID:10001790-1809626400-1809640800@www.mguinc.com
SUMMARY:Marvel Crisis Protocol Meet-up
DESCRIPTION:Come in and meet up with local Marvel Crisis Protocol players every Thursday night. You can also get in touch with the players on the Ozark Mountain Irregular (our local skirmish miniature game group) Facebook group HERE
URL:https://www.mguinc.com/event/marvel-crisis-protocol-meet-up/2027-05-06/
LOCATION:Meta-Games\, 3309 E Sunshine\, Springfield\, MO\, 65804\, United States
ATTACH;FMTTYPE=image/jpeg:https://www.mguinc.com/wp-content/uploads/2023/03/mcpthur-1.jpg
END:VEVENT
BEGIN:VEVENT
DTSTART;TZID=America/Chicago:20270513T180000
DTEND;TZID=America/Chicago:20270513T220000
DTSTAMP:20260419T101026
CREATED:20230325T171833Z
LAST-MODIFIED:20251227T224027Z
UID:10001791-1810231200-1810245600@www.mguinc.com
SUMMARY:Marvel Crisis Protocol Meet-up
DESCRIPTION:Come in and meet up with local Marvel Crisis Protocol players every Thursday night. You can also get in touch with the players on the Ozark Mountain Irregular (our local skirmish miniature game group) Facebook group HERE
URL:https://www.mguinc.com/event/marvel-crisis-protocol-meet-up/2027-05-13/
LOCATION:Meta-Games\, 3309 E Sunshine\, Springfield\, MO\, 65804\, United States
ATTACH;FMTTYPE=image/jpeg:https://www.mguinc.com/wp-content/uploads/2023/03/mcpthur-1.jpg
END:VEVENT
BEGIN:VEVENT
DTSTART;TZID=America/Chicago:20270520T180000
DTEND;TZID=America/Chicago:20270520T220000
DTSTAMP:20260419T101026
CREATED:20230325T171833Z
LAST-MODIFIED:20251227T224027Z
UID:10001792-1810836000-1810850400@www.mguinc.com
SUMMARY:Marvel Crisis Protocol Meet-up
DESCRIPTION:Come in and meet up with local Marvel Crisis Protocol players every Thursday night. You can also get in touch with the players on the Ozark Mountain Irregular (our local skirmish miniature game group) Facebook group HERE
URL:https://www.mguinc.com/event/marvel-crisis-protocol-meet-up/2027-05-20/
LOCATION:Meta-Games\, 3309 E Sunshine\, Springfield\, MO\, 65804\, United States
ATTACH;FMTTYPE=image/jpeg:https://www.mguinc.com/wp-content/uploads/2023/03/mcpthur-1.jpg
END:VEVENT
BEGIN:VEVENT
DTSTART;TZID=America/Chicago:20270527T180000
DTEND;TZID=America/Chicago:20270527T220000
DTSTAMP:20260419T101026
CREATED:20230325T171833Z
LAST-MODIFIED:20251227T224027Z
UID:10001793-1811440800-1811455200@www.mguinc.com
SUMMARY:Marvel Crisis Protocol Meet-up
DESCRIPTION:Come in and meet up with local Marvel Crisis Protocol players every Thursday night. You can also get in touch with the players on the Ozark Mountain Irregular (our local skirmish miniature game group) Facebook group HERE
URL:https://www.mguinc.com/event/marvel-crisis-protocol-meet-up/2027-05-27/
LOCATION:Meta-Games\, 3309 E Sunshine\, Springfield\, MO\, 65804\, United States
ATTACH;FMTTYPE=image/jpeg:https://www.mguinc.com/wp-content/uploads/2023/03/mcpthur-1.jpg
END:VEVENT
BEGIN:VEVENT
DTSTART;TZID=America/Chicago:20270603T180000
DTEND;TZID=America/Chicago:20270603T220000
DTSTAMP:20260419T101026
CREATED:20230325T171833Z
LAST-MODIFIED:20251227T224027Z
UID:10001794-1812045600-1812060000@www.mguinc.com
SUMMARY:Marvel Crisis Protocol Meet-up
DESCRIPTION:Come in and meet up with local Marvel Crisis Protocol players every Thursday night. You can also get in touch with the players on the Ozark Mountain Irregular (our local skirmish miniature game group) Facebook group HERE
URL:https://www.mguinc.com/event/marvel-crisis-protocol-meet-up/2027-06-03/
LOCATION:Meta-Games\, 3309 E Sunshine\, Springfield\, MO\, 65804\, United States
ATTACH;FMTTYPE=image/jpeg:https://www.mguinc.com/wp-content/uploads/2023/03/mcpthur-1.jpg
END:VEVENT
BEGIN:VEVENT
DTSTART;TZID=America/Chicago:20270610T180000
DTEND;TZID=America/Chicago:20270610T220000
DTSTAMP:20260419T101026
CREATED:20230325T171833Z
LAST-MODIFIED:20251227T224027Z
UID:10001795-1812650400-1812664800@www.mguinc.com
SUMMARY:Marvel Crisis Protocol Meet-up
DESCRIPTION:Come in and meet up with local Marvel Crisis Protocol players every Thursday night. You can also get in touch with the players on the Ozark Mountain Irregular (our local skirmish miniature game group) Facebook group HERE
URL:https://www.mguinc.com/event/marvel-crisis-protocol-meet-up/2027-06-10/
LOCATION:Meta-Games\, 3309 E Sunshine\, Springfield\, MO\, 65804\, United States
ATTACH;FMTTYPE=image/jpeg:https://www.mguinc.com/wp-content/uploads/2023/03/mcpthur-1.jpg
END:VEVENT
BEGIN:VEVENT
DTSTART;TZID=America/Chicago:20270617T180000
DTEND;TZID=America/Chicago:20270617T220000
DTSTAMP:20260419T101026
CREATED:20230325T171833Z
LAST-MODIFIED:20251227T224027Z
UID:10001796-1813255200-1813269600@www.mguinc.com
SUMMARY:Marvel Crisis Protocol Meet-up
DESCRIPTION:Come in and meet up with local Marvel Crisis Protocol players every Thursday night. You can also get in touch with the players on the Ozark Mountain Irregular (our local skirmish miniature game group) Facebook group HERE
URL:https://www.mguinc.com/event/marvel-crisis-protocol-meet-up/2027-06-17/
LOCATION:Meta-Games\, 3309 E Sunshine\, Springfield\, MO\, 65804\, United States
ATTACH;FMTTYPE=image/jpeg:https://www.mguinc.com/wp-content/uploads/2023/03/mcpthur-1.jpg
END:VEVENT
BEGIN:VEVENT
DTSTART;TZID=America/Chicago:20270624T180000
DTEND;TZID=America/Chicago:20270624T220000
DTSTAMP:20260419T101026
CREATED:20230325T171833Z
LAST-MODIFIED:20251227T224027Z
UID:10001797-1813860000-1813874400@www.mguinc.com
SUMMARY:Marvel Crisis Protocol Meet-up
DESCRIPTION:Come in and meet up with local Marvel Crisis Protocol players every Thursday night. You can also get in touch with the players on the Ozark Mountain Irregular (our local skirmish miniature game group) Facebook group HERE
URL:https://www.mguinc.com/event/marvel-crisis-protocol-meet-up/2027-06-24/
LOCATION:Meta-Games\, 3309 E Sunshine\, Springfield\, MO\, 65804\, United States
ATTACH;FMTTYPE=image/jpeg:https://www.mguinc.com/wp-content/uploads/2023/03/mcpthur-1.jpg
END:VEVENT
BEGIN:VEVENT
DTSTART;TZID=America/Chicago:20270701T180000
DTEND;TZID=America/Chicago:20270701T220000
DTSTAMP:20260419T101026
CREATED:20230325T171833Z
LAST-MODIFIED:20251227T224027Z
UID:10001798-1814464800-1814479200@www.mguinc.com
SUMMARY:Marvel Crisis Protocol Meet-up
DESCRIPTION:Come in and meet up with local Marvel Crisis Protocol players every Thursday night. You can also get in touch with the players on the Ozark Mountain Irregular (our local skirmish miniature game group) Facebook group HERE
URL:https://www.mguinc.com/event/marvel-crisis-protocol-meet-up/2027-07-01/
LOCATION:Meta-Games\, 3309 E Sunshine\, Springfield\, MO\, 65804\, United States
ATTACH;FMTTYPE=image/jpeg:https://www.mguinc.com/wp-content/uploads/2023/03/mcpthur-1.jpg
END:VEVENT
BEGIN:VEVENT
DTSTART;TZID=America/Chicago:20270708T180000
DTEND;TZID=America/Chicago:20270708T220000
DTSTAMP:20260419T101026
CREATED:20230325T171833Z
LAST-MODIFIED:20251227T224027Z
UID:10001799-1815069600-1815084000@www.mguinc.com
SUMMARY:Marvel Crisis Protocol Meet-up
DESCRIPTION:Come in and meet up with local Marvel Crisis Protocol players every Thursday night. You can also get in touch with the players on the Ozark Mountain Irregular (our local skirmish miniature game group) Facebook group HERE
URL:https://www.mguinc.com/event/marvel-crisis-protocol-meet-up/2027-07-08/
LOCATION:Meta-Games\, 3309 E Sunshine\, Springfield\, MO\, 65804\, United States
ATTACH;FMTTYPE=image/jpeg:https://www.mguinc.com/wp-content/uploads/2023/03/mcpthur-1.jpg
END:VEVENT
BEGIN:VEVENT
DTSTART;TZID=America/Chicago:20270715T180000
DTEND;TZID=America/Chicago:20270715T220000
DTSTAMP:20260419T101026
CREATED:20230325T171833Z
LAST-MODIFIED:20251227T224027Z
UID:10001800-1815674400-1815688800@www.mguinc.com
SUMMARY:Marvel Crisis Protocol Meet-up
DESCRIPTION:Come in and meet up with local Marvel Crisis Protocol players every Thursday night. You can also get in touch with the players on the Ozark Mountain Irregular (our local skirmish miniature game group) Facebook group HERE
URL:https://www.mguinc.com/event/marvel-crisis-protocol-meet-up/2027-07-15/
LOCATION:Meta-Games\, 3309 E Sunshine\, Springfield\, MO\, 65804\, United States
ATTACH;FMTTYPE=image/jpeg:https://www.mguinc.com/wp-content/uploads/2023/03/mcpthur-1.jpg
END:VEVENT
BEGIN:VEVENT
DTSTART;TZID=America/Chicago:20270722T180000
DTEND;TZID=America/Chicago:20270722T220000
DTSTAMP:20260419T101026
CREATED:20230325T171833Z
LAST-MODIFIED:20251227T224027Z
UID:10001801-1816279200-1816293600@www.mguinc.com
SUMMARY:Marvel Crisis Protocol Meet-up
DESCRIPTION:Come in and meet up with local Marvel Crisis Protocol players every Thursday night. You can also get in touch with the players on the Ozark Mountain Irregular (our local skirmish miniature game group) Facebook group HERE
URL:https://www.mguinc.com/event/marvel-crisis-protocol-meet-up/2027-07-22/
LOCATION:Meta-Games\, 3309 E Sunshine\, Springfield\, MO\, 65804\, United States
ATTACH;FMTTYPE=image/jpeg:https://www.mguinc.com/wp-content/uploads/2023/03/mcpthur-1.jpg
END:VEVENT
END:VCALENDAR