BEGIN:VCALENDAR
VERSION:2.0
PRODID:-//Meta-Games Unlimited - ECPv6.15.20//NONSGML v1.0//EN
CALSCALE:GREGORIAN
METHOD:PUBLISH
X-ORIGINAL-URL:https://www.mguinc.com
X-WR-CALDESC:Events for Meta-Games Unlimited
REFRESH-INTERVAL;VALUE=DURATION:PT1H
X-Robots-Tag:noindex
X-PUBLISHED-TTL:PT1H
BEGIN:VTIMEZONE
TZID:America/Chicago
BEGIN:DAYLIGHT
TZOFFSETFROM:-0600
TZOFFSETTO:-0500
TZNAME:CDT
DTSTART:20250309T080000
END:DAYLIGHT
BEGIN:STANDARD
TZOFFSETFROM:-0500
TZOFFSETTO:-0600
TZNAME:CST
DTSTART:20251102T070000
END:STANDARD
BEGIN:DAYLIGHT
TZOFFSETFROM:-0600
TZOFFSETTO:-0500
TZNAME:CDT
DTSTART:20260308T080000
END:DAYLIGHT
BEGIN:STANDARD
TZOFFSETFROM:-0500
TZOFFSETTO:-0600
TZNAME:CST
DTSTART:20261101T070000
END:STANDARD
BEGIN:DAYLIGHT
TZOFFSETFROM:-0600
TZOFFSETTO:-0500
TZNAME:CDT
DTSTART:20270314T080000
END:DAYLIGHT
BEGIN:STANDARD
TZOFFSETFROM:-0500
TZOFFSETTO:-0600
TZNAME:CST
DTSTART:20271107T070000
END:STANDARD
BEGIN:DAYLIGHT
TZOFFSETFROM:-0600
TZOFFSETTO:-0500
TZNAME:CDT
DTSTART:20280312T080000
END:DAYLIGHT
BEGIN:STANDARD
TZOFFSETFROM:-0500
TZOFFSETTO:-0600
TZNAME:CST
DTSTART:20281105T070000
END:STANDARD
END:VTIMEZONE
BEGIN:VEVENT
DTSTART;TZID=America/Chicago:20260714T180000
DTEND;TZID=America/Chicago:20260714T220000
DTSTAMP:20260419T172052
CREATED:20260103T173346Z
LAST-MODIFIED:20260103T173449Z
UID:10004893-1784052000-1784066400@www.mguinc.com
SUMMARY:Warmachine Meet-UP
DESCRIPTION:Come out and get your minis on the table as we meet up to play Warmachine. This is an open group willing to teach new players and challenge veterans\,
URL:https://www.mguinc.com/event/warmachine-meet-up/2026-07-14/
LOCATION:Meta-Games Unlimited\, 3309-A E. Sunshine\, Springfield\, Missouri\, 65804
ATTACH;FMTTYPE=image/jpeg:https://www.mguinc.com/wp-content/uploads/2026/01/WMtues.jpg
END:VEVENT
BEGIN:VEVENT
DTSTART;TZID=America/Chicago:20260721T180000
DTEND;TZID=America/Chicago:20260721T220000
DTSTAMP:20260419T172052
CREATED:20260103T173346Z
LAST-MODIFIED:20260103T173449Z
UID:10004894-1784656800-1784671200@www.mguinc.com
SUMMARY:Warmachine Meet-UP
DESCRIPTION:Come out and get your minis on the table as we meet up to play Warmachine. This is an open group willing to teach new players and challenge veterans\,
URL:https://www.mguinc.com/event/warmachine-meet-up/2026-07-21/
LOCATION:Meta-Games Unlimited\, 3309-A E. Sunshine\, Springfield\, Missouri\, 65804
ATTACH;FMTTYPE=image/jpeg:https://www.mguinc.com/wp-content/uploads/2026/01/WMtues.jpg
END:VEVENT
BEGIN:VEVENT
DTSTART;TZID=America/Chicago:20260728T180000
DTEND;TZID=America/Chicago:20260728T220000
DTSTAMP:20260419T172052
CREATED:20260103T173346Z
LAST-MODIFIED:20260103T173449Z
UID:10004895-1785261600-1785276000@www.mguinc.com
SUMMARY:Warmachine Meet-UP
DESCRIPTION:Come out and get your minis on the table as we meet up to play Warmachine. This is an open group willing to teach new players and challenge veterans\,
URL:https://www.mguinc.com/event/warmachine-meet-up/2026-07-28/
LOCATION:Meta-Games Unlimited\, 3309-A E. Sunshine\, Springfield\, Missouri\, 65804
ATTACH;FMTTYPE=image/jpeg:https://www.mguinc.com/wp-content/uploads/2026/01/WMtues.jpg
END:VEVENT
BEGIN:VEVENT
DTSTART;TZID=America/Chicago:20260804T180000
DTEND;TZID=America/Chicago:20260804T220000
DTSTAMP:20260419T172052
CREATED:20260103T173346Z
LAST-MODIFIED:20260103T173449Z
UID:10004896-1785866400-1785880800@www.mguinc.com
SUMMARY:Warmachine Meet-UP
DESCRIPTION:Come out and get your minis on the table as we meet up to play Warmachine. This is an open group willing to teach new players and challenge veterans\,
URL:https://www.mguinc.com/event/warmachine-meet-up/2026-08-04/
LOCATION:Meta-Games Unlimited\, 3309-A E. Sunshine\, Springfield\, Missouri\, 65804
ATTACH;FMTTYPE=image/jpeg:https://www.mguinc.com/wp-content/uploads/2026/01/WMtues.jpg
END:VEVENT
BEGIN:VEVENT
DTSTART;TZID=America/Chicago:20260811T180000
DTEND;TZID=America/Chicago:20260811T220000
DTSTAMP:20260419T172052
CREATED:20260103T173346Z
LAST-MODIFIED:20260103T173449Z
UID:10004897-1786471200-1786485600@www.mguinc.com
SUMMARY:Warmachine Meet-UP
DESCRIPTION:Come out and get your minis on the table as we meet up to play Warmachine. This is an open group willing to teach new players and challenge veterans\,
URL:https://www.mguinc.com/event/warmachine-meet-up/2026-08-11/
LOCATION:Meta-Games Unlimited\, 3309-A E. Sunshine\, Springfield\, Missouri\, 65804
ATTACH;FMTTYPE=image/jpeg:https://www.mguinc.com/wp-content/uploads/2026/01/WMtues.jpg
END:VEVENT
BEGIN:VEVENT
DTSTART;TZID=America/Chicago:20260818T180000
DTEND;TZID=America/Chicago:20260818T220000
DTSTAMP:20260419T172052
CREATED:20260103T173346Z
LAST-MODIFIED:20260103T173449Z
UID:10004898-1787076000-1787090400@www.mguinc.com
SUMMARY:Warmachine Meet-UP
DESCRIPTION:Come out and get your minis on the table as we meet up to play Warmachine. This is an open group willing to teach new players and challenge veterans\,
URL:https://www.mguinc.com/event/warmachine-meet-up/2026-08-18/
LOCATION:Meta-Games Unlimited\, 3309-A E. Sunshine\, Springfield\, Missouri\, 65804
ATTACH;FMTTYPE=image/jpeg:https://www.mguinc.com/wp-content/uploads/2026/01/WMtues.jpg
END:VEVENT
BEGIN:VEVENT
DTSTART;TZID=America/Chicago:20260825T180000
DTEND;TZID=America/Chicago:20260825T220000
DTSTAMP:20260419T172052
CREATED:20260103T173346Z
LAST-MODIFIED:20260103T173449Z
UID:10004899-1787680800-1787695200@www.mguinc.com
SUMMARY:Warmachine Meet-UP
DESCRIPTION:Come out and get your minis on the table as we meet up to play Warmachine. This is an open group willing to teach new players and challenge veterans\,
URL:https://www.mguinc.com/event/warmachine-meet-up/2026-08-25/
LOCATION:Meta-Games Unlimited\, 3309-A E. Sunshine\, Springfield\, Missouri\, 65804
ATTACH;FMTTYPE=image/jpeg:https://www.mguinc.com/wp-content/uploads/2026/01/WMtues.jpg
END:VEVENT
BEGIN:VEVENT
DTSTART;TZID=America/Chicago:20260901T180000
DTEND;TZID=America/Chicago:20260901T220000
DTSTAMP:20260419T172052
CREATED:20260103T173346Z
LAST-MODIFIED:20260103T173449Z
UID:10004900-1788285600-1788300000@www.mguinc.com
SUMMARY:Warmachine Meet-UP
DESCRIPTION:Come out and get your minis on the table as we meet up to play Warmachine. This is an open group willing to teach new players and challenge veterans\,
URL:https://www.mguinc.com/event/warmachine-meet-up/2026-09-01/
LOCATION:Meta-Games Unlimited\, 3309-A E. Sunshine\, Springfield\, Missouri\, 65804
ATTACH;FMTTYPE=image/jpeg:https://www.mguinc.com/wp-content/uploads/2026/01/WMtues.jpg
END:VEVENT
BEGIN:VEVENT
DTSTART;TZID=America/Chicago:20260908T180000
DTEND;TZID=America/Chicago:20260908T220000
DTSTAMP:20260419T172052
CREATED:20260103T173346Z
LAST-MODIFIED:20260103T173449Z
UID:10004901-1788890400-1788904800@www.mguinc.com
SUMMARY:Warmachine Meet-UP
DESCRIPTION:Come out and get your minis on the table as we meet up to play Warmachine. This is an open group willing to teach new players and challenge veterans\,
URL:https://www.mguinc.com/event/warmachine-meet-up/2026-09-08/
LOCATION:Meta-Games Unlimited\, 3309-A E. Sunshine\, Springfield\, Missouri\, 65804
ATTACH;FMTTYPE=image/jpeg:https://www.mguinc.com/wp-content/uploads/2026/01/WMtues.jpg
END:VEVENT
BEGIN:VEVENT
DTSTART;TZID=America/Chicago:20260915T180000
DTEND;TZID=America/Chicago:20260915T220000
DTSTAMP:20260419T172052
CREATED:20260103T173346Z
LAST-MODIFIED:20260103T173449Z
UID:10004902-1789495200-1789509600@www.mguinc.com
SUMMARY:Warmachine Meet-UP
DESCRIPTION:Come out and get your minis on the table as we meet up to play Warmachine. This is an open group willing to teach new players and challenge veterans\,
URL:https://www.mguinc.com/event/warmachine-meet-up/2026-09-15/
LOCATION:Meta-Games Unlimited\, 3309-A E. Sunshine\, Springfield\, Missouri\, 65804
ATTACH;FMTTYPE=image/jpeg:https://www.mguinc.com/wp-content/uploads/2026/01/WMtues.jpg
END:VEVENT
BEGIN:VEVENT
DTSTART;TZID=America/Chicago:20260922T180000
DTEND;TZID=America/Chicago:20260922T220000
DTSTAMP:20260419T172052
CREATED:20260103T173346Z
LAST-MODIFIED:20260103T173449Z
UID:10004903-1790100000-1790114400@www.mguinc.com
SUMMARY:Warmachine Meet-UP
DESCRIPTION:Come out and get your minis on the table as we meet up to play Warmachine. This is an open group willing to teach new players and challenge veterans\,
URL:https://www.mguinc.com/event/warmachine-meet-up/2026-09-22/
LOCATION:Meta-Games Unlimited\, 3309-A E. Sunshine\, Springfield\, Missouri\, 65804
ATTACH;FMTTYPE=image/jpeg:https://www.mguinc.com/wp-content/uploads/2026/01/WMtues.jpg
END:VEVENT
BEGIN:VEVENT
DTSTART;TZID=America/Chicago:20260929T180000
DTEND;TZID=America/Chicago:20260929T220000
DTSTAMP:20260419T172052
CREATED:20260103T173346Z
LAST-MODIFIED:20260103T173449Z
UID:10004904-1790704800-1790719200@www.mguinc.com
SUMMARY:Warmachine Meet-UP
DESCRIPTION:Come out and get your minis on the table as we meet up to play Warmachine. This is an open group willing to teach new players and challenge veterans\,
URL:https://www.mguinc.com/event/warmachine-meet-up/2026-09-29/
LOCATION:Meta-Games Unlimited\, 3309-A E. Sunshine\, Springfield\, Missouri\, 65804
ATTACH;FMTTYPE=image/jpeg:https://www.mguinc.com/wp-content/uploads/2026/01/WMtues.jpg
END:VEVENT
BEGIN:VEVENT
DTSTART;TZID=America/Chicago:20261006T180000
DTEND;TZID=America/Chicago:20261006T220000
DTSTAMP:20260419T172052
CREATED:20260103T173346Z
LAST-MODIFIED:20260103T173449Z
UID:10004905-1791309600-1791324000@www.mguinc.com
SUMMARY:Warmachine Meet-UP
DESCRIPTION:Come out and get your minis on the table as we meet up to play Warmachine. This is an open group willing to teach new players and challenge veterans\,
URL:https://www.mguinc.com/event/warmachine-meet-up/2026-10-06/
LOCATION:Meta-Games Unlimited\, 3309-A E. Sunshine\, Springfield\, Missouri\, 65804
ATTACH;FMTTYPE=image/jpeg:https://www.mguinc.com/wp-content/uploads/2026/01/WMtues.jpg
END:VEVENT
BEGIN:VEVENT
DTSTART;TZID=America/Chicago:20261013T180000
DTEND;TZID=America/Chicago:20261013T220000
DTSTAMP:20260419T172052
CREATED:20260103T173346Z
LAST-MODIFIED:20260103T173449Z
UID:10004906-1791914400-1791928800@www.mguinc.com
SUMMARY:Warmachine Meet-UP
DESCRIPTION:Come out and get your minis on the table as we meet up to play Warmachine. This is an open group willing to teach new players and challenge veterans\,
URL:https://www.mguinc.com/event/warmachine-meet-up/2026-10-13/
LOCATION:Meta-Games Unlimited\, 3309-A E. Sunshine\, Springfield\, Missouri\, 65804
ATTACH;FMTTYPE=image/jpeg:https://www.mguinc.com/wp-content/uploads/2026/01/WMtues.jpg
END:VEVENT
BEGIN:VEVENT
DTSTART;TZID=America/Chicago:20261020T180000
DTEND;TZID=America/Chicago:20261020T220000
DTSTAMP:20260419T172052
CREATED:20260103T173346Z
LAST-MODIFIED:20260103T173449Z
UID:10004907-1792519200-1792533600@www.mguinc.com
SUMMARY:Warmachine Meet-UP
DESCRIPTION:Come out and get your minis on the table as we meet up to play Warmachine. This is an open group willing to teach new players and challenge veterans\,
URL:https://www.mguinc.com/event/warmachine-meet-up/2026-10-20/
LOCATION:Meta-Games Unlimited\, 3309-A E. Sunshine\, Springfield\, Missouri\, 65804
ATTACH;FMTTYPE=image/jpeg:https://www.mguinc.com/wp-content/uploads/2026/01/WMtues.jpg
END:VEVENT
BEGIN:VEVENT
DTSTART;TZID=America/Chicago:20261027T180000
DTEND;TZID=America/Chicago:20261027T220000
DTSTAMP:20260419T172052
CREATED:20260103T173346Z
LAST-MODIFIED:20260103T173449Z
UID:10004908-1793124000-1793138400@www.mguinc.com
SUMMARY:Warmachine Meet-UP
DESCRIPTION:Come out and get your minis on the table as we meet up to play Warmachine. This is an open group willing to teach new players and challenge veterans\,
URL:https://www.mguinc.com/event/warmachine-meet-up/2026-10-27/
LOCATION:Meta-Games Unlimited\, 3309-A E. Sunshine\, Springfield\, Missouri\, 65804
ATTACH;FMTTYPE=image/jpeg:https://www.mguinc.com/wp-content/uploads/2026/01/WMtues.jpg
END:VEVENT
BEGIN:VEVENT
DTSTART;TZID=America/Chicago:20261103T180000
DTEND;TZID=America/Chicago:20261103T220000
DTSTAMP:20260419T172052
CREATED:20260103T173346Z
LAST-MODIFIED:20260103T173449Z
UID:10004909-1793728800-1793743200@www.mguinc.com
SUMMARY:Warmachine Meet-UP
DESCRIPTION:Come out and get your minis on the table as we meet up to play Warmachine. This is an open group willing to teach new players and challenge veterans\,
URL:https://www.mguinc.com/event/warmachine-meet-up/2026-11-03/
LOCATION:Meta-Games Unlimited\, 3309-A E. Sunshine\, Springfield\, Missouri\, 65804
ATTACH;FMTTYPE=image/jpeg:https://www.mguinc.com/wp-content/uploads/2026/01/WMtues.jpg
END:VEVENT
BEGIN:VEVENT
DTSTART;TZID=America/Chicago:20261110T180000
DTEND;TZID=America/Chicago:20261110T220000
DTSTAMP:20260419T172052
CREATED:20260103T173346Z
LAST-MODIFIED:20260103T173449Z
UID:10004910-1794333600-1794348000@www.mguinc.com
SUMMARY:Warmachine Meet-UP
DESCRIPTION:Come out and get your minis on the table as we meet up to play Warmachine. This is an open group willing to teach new players and challenge veterans\,
URL:https://www.mguinc.com/event/warmachine-meet-up/2026-11-10/
LOCATION:Meta-Games Unlimited\, 3309-A E. Sunshine\, Springfield\, Missouri\, 65804
ATTACH;FMTTYPE=image/jpeg:https://www.mguinc.com/wp-content/uploads/2026/01/WMtues.jpg
END:VEVENT
BEGIN:VEVENT
DTSTART;TZID=America/Chicago:20261117T180000
DTEND;TZID=America/Chicago:20261117T220000
DTSTAMP:20260419T172052
CREATED:20260103T173346Z
LAST-MODIFIED:20260103T173449Z
UID:10004911-1794938400-1794952800@www.mguinc.com
SUMMARY:Warmachine Meet-UP
DESCRIPTION:Come out and get your minis on the table as we meet up to play Warmachine. This is an open group willing to teach new players and challenge veterans\,
URL:https://www.mguinc.com/event/warmachine-meet-up/2026-11-17/
LOCATION:Meta-Games Unlimited\, 3309-A E. Sunshine\, Springfield\, Missouri\, 65804
ATTACH;FMTTYPE=image/jpeg:https://www.mguinc.com/wp-content/uploads/2026/01/WMtues.jpg
END:VEVENT
BEGIN:VEVENT
DTSTART;TZID=America/Chicago:20261124T180000
DTEND;TZID=America/Chicago:20261124T220000
DTSTAMP:20260419T172052
CREATED:20260103T173346Z
LAST-MODIFIED:20260103T173449Z
UID:10004912-1795543200-1795557600@www.mguinc.com
SUMMARY:Warmachine Meet-UP
DESCRIPTION:Come out and get your minis on the table as we meet up to play Warmachine. This is an open group willing to teach new players and challenge veterans\,
URL:https://www.mguinc.com/event/warmachine-meet-up/2026-11-24/
LOCATION:Meta-Games Unlimited\, 3309-A E. Sunshine\, Springfield\, Missouri\, 65804
ATTACH;FMTTYPE=image/jpeg:https://www.mguinc.com/wp-content/uploads/2026/01/WMtues.jpg
END:VEVENT
BEGIN:VEVENT
DTSTART;TZID=America/Chicago:20261201T180000
DTEND;TZID=America/Chicago:20261201T220000
DTSTAMP:20260419T172052
CREATED:20260103T173346Z
LAST-MODIFIED:20260103T173449Z
UID:10004913-1796148000-1796162400@www.mguinc.com
SUMMARY:Warmachine Meet-UP
DESCRIPTION:Come out and get your minis on the table as we meet up to play Warmachine. This is an open group willing to teach new players and challenge veterans\,
URL:https://www.mguinc.com/event/warmachine-meet-up/2026-12-01/
LOCATION:Meta-Games Unlimited\, 3309-A E. Sunshine\, Springfield\, Missouri\, 65804
ATTACH;FMTTYPE=image/jpeg:https://www.mguinc.com/wp-content/uploads/2026/01/WMtues.jpg
END:VEVENT
BEGIN:VEVENT
DTSTART;TZID=America/Chicago:20261208T180000
DTEND;TZID=America/Chicago:20261208T220000
DTSTAMP:20260419T172052
CREATED:20260103T173346Z
LAST-MODIFIED:20260103T173449Z
UID:10004914-1796752800-1796767200@www.mguinc.com
SUMMARY:Warmachine Meet-UP
DESCRIPTION:Come out and get your minis on the table as we meet up to play Warmachine. This is an open group willing to teach new players and challenge veterans\,
URL:https://www.mguinc.com/event/warmachine-meet-up/2026-12-08/
LOCATION:Meta-Games Unlimited\, 3309-A E. Sunshine\, Springfield\, Missouri\, 65804
ATTACH;FMTTYPE=image/jpeg:https://www.mguinc.com/wp-content/uploads/2026/01/WMtues.jpg
END:VEVENT
BEGIN:VEVENT
DTSTART;TZID=America/Chicago:20261215T180000
DTEND;TZID=America/Chicago:20261215T220000
DTSTAMP:20260419T172052
CREATED:20260103T173346Z
LAST-MODIFIED:20260103T173449Z
UID:10004915-1797357600-1797372000@www.mguinc.com
SUMMARY:Warmachine Meet-UP
DESCRIPTION:Come out and get your minis on the table as we meet up to play Warmachine. This is an open group willing to teach new players and challenge veterans\,
URL:https://www.mguinc.com/event/warmachine-meet-up/2026-12-15/
LOCATION:Meta-Games Unlimited\, 3309-A E. Sunshine\, Springfield\, Missouri\, 65804
ATTACH;FMTTYPE=image/jpeg:https://www.mguinc.com/wp-content/uploads/2026/01/WMtues.jpg
END:VEVENT
BEGIN:VEVENT
DTSTART;TZID=America/Chicago:20261222T180000
DTEND;TZID=America/Chicago:20261222T220000
DTSTAMP:20260419T172052
CREATED:20260103T173346Z
LAST-MODIFIED:20260103T173449Z
UID:10004916-1797962400-1797976800@www.mguinc.com
SUMMARY:Warmachine Meet-UP
DESCRIPTION:Come out and get your minis on the table as we meet up to play Warmachine. This is an open group willing to teach new players and challenge veterans\,
URL:https://www.mguinc.com/event/warmachine-meet-up/2026-12-22/
LOCATION:Meta-Games Unlimited\, 3309-A E. Sunshine\, Springfield\, Missouri\, 65804
ATTACH;FMTTYPE=image/jpeg:https://www.mguinc.com/wp-content/uploads/2026/01/WMtues.jpg
END:VEVENT
BEGIN:VEVENT
DTSTART;TZID=America/Chicago:20261229T180000
DTEND;TZID=America/Chicago:20261229T220000
DTSTAMP:20260419T172052
CREATED:20260103T173346Z
LAST-MODIFIED:20260103T173449Z
UID:10004917-1798567200-1798581600@www.mguinc.com
SUMMARY:Warmachine Meet-UP
DESCRIPTION:Come out and get your minis on the table as we meet up to play Warmachine. This is an open group willing to teach new players and challenge veterans\,
URL:https://www.mguinc.com/event/warmachine-meet-up/2026-12-29/
LOCATION:Meta-Games Unlimited\, 3309-A E. Sunshine\, Springfield\, Missouri\, 65804
ATTACH;FMTTYPE=image/jpeg:https://www.mguinc.com/wp-content/uploads/2026/01/WMtues.jpg
END:VEVENT
BEGIN:VEVENT
DTSTART;TZID=America/Chicago:20270105T180000
DTEND;TZID=America/Chicago:20270105T220000
DTSTAMP:20260419T172052
CREATED:20260103T173346Z
LAST-MODIFIED:20260103T173449Z
UID:10004918-1799172000-1799186400@www.mguinc.com
SUMMARY:Warmachine Meet-UP
DESCRIPTION:Come out and get your minis on the table as we meet up to play Warmachine. This is an open group willing to teach new players and challenge veterans\,
URL:https://www.mguinc.com/event/warmachine-meet-up/2027-01-05/
LOCATION:Meta-Games Unlimited\, 3309-A E. Sunshine\, Springfield\, Missouri\, 65804
ATTACH;FMTTYPE=image/jpeg:https://www.mguinc.com/wp-content/uploads/2026/01/WMtues.jpg
END:VEVENT
BEGIN:VEVENT
DTSTART;TZID=America/Chicago:20270112T180000
DTEND;TZID=America/Chicago:20270112T220000
DTSTAMP:20260419T172052
CREATED:20260103T173346Z
LAST-MODIFIED:20260103T173449Z
UID:10004919-1799776800-1799791200@www.mguinc.com
SUMMARY:Warmachine Meet-UP
DESCRIPTION:Come out and get your minis on the table as we meet up to play Warmachine. This is an open group willing to teach new players and challenge veterans\,
URL:https://www.mguinc.com/event/warmachine-meet-up/2027-01-12/
LOCATION:Meta-Games Unlimited\, 3309-A E. Sunshine\, Springfield\, Missouri\, 65804
ATTACH;FMTTYPE=image/jpeg:https://www.mguinc.com/wp-content/uploads/2026/01/WMtues.jpg
END:VEVENT
BEGIN:VEVENT
DTSTART;TZID=America/Chicago:20270119T180000
DTEND;TZID=America/Chicago:20270119T220000
DTSTAMP:20260419T172052
CREATED:20260103T173346Z
LAST-MODIFIED:20260103T173449Z
UID:10004920-1800381600-1800396000@www.mguinc.com
SUMMARY:Warmachine Meet-UP
DESCRIPTION:Come out and get your minis on the table as we meet up to play Warmachine. This is an open group willing to teach new players and challenge veterans\,
URL:https://www.mguinc.com/event/warmachine-meet-up/2027-01-19/
LOCATION:Meta-Games Unlimited\, 3309-A E. Sunshine\, Springfield\, Missouri\, 65804
ATTACH;FMTTYPE=image/jpeg:https://www.mguinc.com/wp-content/uploads/2026/01/WMtues.jpg
END:VEVENT
BEGIN:VEVENT
DTSTART;TZID=America/Chicago:20270126T180000
DTEND;TZID=America/Chicago:20270126T220000
DTSTAMP:20260419T172052
CREATED:20260103T173346Z
LAST-MODIFIED:20260103T173449Z
UID:10004921-1800986400-1801000800@www.mguinc.com
SUMMARY:Warmachine Meet-UP
DESCRIPTION:Come out and get your minis on the table as we meet up to play Warmachine. This is an open group willing to teach new players and challenge veterans\,
URL:https://www.mguinc.com/event/warmachine-meet-up/2027-01-26/
LOCATION:Meta-Games Unlimited\, 3309-A E. Sunshine\, Springfield\, Missouri\, 65804
ATTACH;FMTTYPE=image/jpeg:https://www.mguinc.com/wp-content/uploads/2026/01/WMtues.jpg
END:VEVENT
BEGIN:VEVENT
DTSTART;TZID=America/Chicago:20270202T180000
DTEND;TZID=America/Chicago:20270202T220000
DTSTAMP:20260419T172052
CREATED:20260103T173346Z
LAST-MODIFIED:20260103T173449Z
UID:10004922-1801591200-1801605600@www.mguinc.com
SUMMARY:Warmachine Meet-UP
DESCRIPTION:Come out and get your minis on the table as we meet up to play Warmachine. This is an open group willing to teach new players and challenge veterans\,
URL:https://www.mguinc.com/event/warmachine-meet-up/2027-02-02/
LOCATION:Meta-Games Unlimited\, 3309-A E. Sunshine\, Springfield\, Missouri\, 65804
ATTACH;FMTTYPE=image/jpeg:https://www.mguinc.com/wp-content/uploads/2026/01/WMtues.jpg
END:VEVENT
END:VCALENDAR