BEGIN:VCALENDAR
VERSION:2.0
PRODID:-//Meta-Games Unlimited - ECPv6.15.20//NONSGML v1.0//EN
CALSCALE:GREGORIAN
METHOD:PUBLISH
X-WR-CALNAME:Meta-Games Unlimited
X-ORIGINAL-URL:https://www.mguinc.com
X-WR-CALDESC:Events for Meta-Games Unlimited
REFRESH-INTERVAL;VALUE=DURATION:PT1H
X-Robots-Tag:noindex
X-PUBLISHED-TTL:PT1H
BEGIN:VTIMEZONE
TZID:America/Chicago
BEGIN:DAYLIGHT
TZOFFSETFROM:-0600
TZOFFSETTO:-0500
TZNAME:CDT
DTSTART:20290311T080000
END:DAYLIGHT
BEGIN:STANDARD
TZOFFSETFROM:-0500
TZOFFSETTO:-0600
TZNAME:CST
DTSTART:20291104T070000
END:STANDARD
BEGIN:DAYLIGHT
TZOFFSETFROM:-0600
TZOFFSETTO:-0500
TZNAME:CDT
DTSTART:20300310T080000
END:DAYLIGHT
BEGIN:STANDARD
TZOFFSETFROM:-0500
TZOFFSETTO:-0600
TZNAME:CST
DTSTART:20301103T070000
END:STANDARD
BEGIN:DAYLIGHT
TZOFFSETFROM:-0600
TZOFFSETTO:-0500
TZNAME:CDT
DTSTART:20310309T080000
END:DAYLIGHT
BEGIN:STANDARD
TZOFFSETFROM:-0500
TZOFFSETTO:-0600
TZNAME:CST
DTSTART:20311102T070000
END:STANDARD
END:VTIMEZONE
BEGIN:VEVENT
DTSTART;TZID=America/Chicago:20300614T183000
DTEND;TZID=America/Chicago:20300614T220000
DTSTAMP:20260420T170249
CREATED:20240809T233042Z
LAST-MODIFIED:20251227T225153Z
UID:10004306-1907692200-1907704800@www.mguinc.com
SUMMARY:Friday Night Magic
DESCRIPTION:Come by for Friday Night magic and have your choice of playing Standard or Draft. Events start at 6:30pm so make sure to come in a little early to get registered. Entry fee for Standard is $5 and the entry fee for draft is $20 or $25 depending on the set. We also run a FNM Pauper event the first Friday of each month. Something for everyone!
URL:https://www.mguinc.com/event/friday-night-magic-2/2030-06-14/
LOCATION:Meta-Games Unlimited\, 3309-A E. Sunshine\, Springfield\, Missouri\, 65804
ATTACH;FMTTYPE=image/jpeg:https://www.mguinc.com/wp-content/uploads/2024/08/FNMFri-1.jpg
END:VEVENT
BEGIN:VEVENT
DTSTART;TZID=America/Chicago:20300621T183000
DTEND;TZID=America/Chicago:20300621T220000
DTSTAMP:20260420T170249
CREATED:20240809T233042Z
LAST-MODIFIED:20251227T225153Z
UID:10004307-1908297000-1908309600@www.mguinc.com
SUMMARY:Friday Night Magic
DESCRIPTION:Come by for Friday Night magic and have your choice of playing Standard or Draft. Events start at 6:30pm so make sure to come in a little early to get registered. Entry fee for Standard is $5 and the entry fee for draft is $20 or $25 depending on the set. We also run a FNM Pauper event the first Friday of each month. Something for everyone!
URL:https://www.mguinc.com/event/friday-night-magic-2/2030-06-21/
LOCATION:Meta-Games Unlimited\, 3309-A E. Sunshine\, Springfield\, Missouri\, 65804
ATTACH;FMTTYPE=image/jpeg:https://www.mguinc.com/wp-content/uploads/2024/08/FNMFri-1.jpg
END:VEVENT
BEGIN:VEVENT
DTSTART;TZID=America/Chicago:20300628T183000
DTEND;TZID=America/Chicago:20300628T220000
DTSTAMP:20260420T170249
CREATED:20240809T233042Z
LAST-MODIFIED:20251227T225153Z
UID:10004308-1908901800-1908914400@www.mguinc.com
SUMMARY:Friday Night Magic
DESCRIPTION:Come by for Friday Night magic and have your choice of playing Standard or Draft. Events start at 6:30pm so make sure to come in a little early to get registered. Entry fee for Standard is $5 and the entry fee for draft is $20 or $25 depending on the set. We also run a FNM Pauper event the first Friday of each month. Something for everyone!
URL:https://www.mguinc.com/event/friday-night-magic-2/2030-06-28/
LOCATION:Meta-Games Unlimited\, 3309-A E. Sunshine\, Springfield\, Missouri\, 65804
ATTACH;FMTTYPE=image/jpeg:https://www.mguinc.com/wp-content/uploads/2024/08/FNMFri-1.jpg
END:VEVENT
BEGIN:VEVENT
DTSTART;TZID=America/Chicago:20300705T183000
DTEND;TZID=America/Chicago:20300705T220000
DTSTAMP:20260420T170249
CREATED:20240809T233042Z
LAST-MODIFIED:20251227T225153Z
UID:10004309-1909506600-1909519200@www.mguinc.com
SUMMARY:Friday Night Magic
DESCRIPTION:Come by for Friday Night magic and have your choice of playing Standard or Draft. Events start at 6:30pm so make sure to come in a little early to get registered. Entry fee for Standard is $5 and the entry fee for draft is $20 or $25 depending on the set. We also run a FNM Pauper event the first Friday of each month. Something for everyone!
URL:https://www.mguinc.com/event/friday-night-magic-2/2030-07-05/
LOCATION:Meta-Games Unlimited\, 3309-A E. Sunshine\, Springfield\, Missouri\, 65804
ATTACH;FMTTYPE=image/jpeg:https://www.mguinc.com/wp-content/uploads/2024/08/FNMFri-1.jpg
END:VEVENT
BEGIN:VEVENT
DTSTART;TZID=America/Chicago:20300712T183000
DTEND;TZID=America/Chicago:20300712T220000
DTSTAMP:20260420T170249
CREATED:20240809T233042Z
LAST-MODIFIED:20251227T225153Z
UID:10004310-1910111400-1910124000@www.mguinc.com
SUMMARY:Friday Night Magic
DESCRIPTION:Come by for Friday Night magic and have your choice of playing Standard or Draft. Events start at 6:30pm so make sure to come in a little early to get registered. Entry fee for Standard is $5 and the entry fee for draft is $20 or $25 depending on the set. We also run a FNM Pauper event the first Friday of each month. Something for everyone!
URL:https://www.mguinc.com/event/friday-night-magic-2/2030-07-12/
LOCATION:Meta-Games Unlimited\, 3309-A E. Sunshine\, Springfield\, Missouri\, 65804
ATTACH;FMTTYPE=image/jpeg:https://www.mguinc.com/wp-content/uploads/2024/08/FNMFri-1.jpg
END:VEVENT
BEGIN:VEVENT
DTSTART;TZID=America/Chicago:20300719T183000
DTEND;TZID=America/Chicago:20300719T220000
DTSTAMP:20260420T170249
CREATED:20240809T233042Z
LAST-MODIFIED:20251227T225153Z
UID:10004311-1910716200-1910728800@www.mguinc.com
SUMMARY:Friday Night Magic
DESCRIPTION:Come by for Friday Night magic and have your choice of playing Standard or Draft. Events start at 6:30pm so make sure to come in a little early to get registered. Entry fee for Standard is $5 and the entry fee for draft is $20 or $25 depending on the set. We also run a FNM Pauper event the first Friday of each month. Something for everyone!
URL:https://www.mguinc.com/event/friday-night-magic-2/2030-07-19/
LOCATION:Meta-Games Unlimited\, 3309-A E. Sunshine\, Springfield\, Missouri\, 65804
ATTACH;FMTTYPE=image/jpeg:https://www.mguinc.com/wp-content/uploads/2024/08/FNMFri-1.jpg
END:VEVENT
BEGIN:VEVENT
DTSTART;TZID=America/Chicago:20300726T183000
DTEND;TZID=America/Chicago:20300726T220000
DTSTAMP:20260420T170249
CREATED:20240809T233042Z
LAST-MODIFIED:20251227T225153Z
UID:10004312-1911321000-1911333600@www.mguinc.com
SUMMARY:Friday Night Magic
DESCRIPTION:Come by for Friday Night magic and have your choice of playing Standard or Draft. Events start at 6:30pm so make sure to come in a little early to get registered. Entry fee for Standard is $5 and the entry fee for draft is $20 or $25 depending on the set. We also run a FNM Pauper event the first Friday of each month. Something for everyone!
URL:https://www.mguinc.com/event/friday-night-magic-2/2030-07-26/
LOCATION:Meta-Games Unlimited\, 3309-A E. Sunshine\, Springfield\, Missouri\, 65804
ATTACH;FMTTYPE=image/jpeg:https://www.mguinc.com/wp-content/uploads/2024/08/FNMFri-1.jpg
END:VEVENT
BEGIN:VEVENT
DTSTART;TZID=America/Chicago:20300802T183000
DTEND;TZID=America/Chicago:20300802T220000
DTSTAMP:20260420T170249
CREATED:20240809T233042Z
LAST-MODIFIED:20251227T225153Z
UID:10004313-1911925800-1911938400@www.mguinc.com
SUMMARY:Friday Night Magic
DESCRIPTION:Come by for Friday Night magic and have your choice of playing Standard or Draft. Events start at 6:30pm so make sure to come in a little early to get registered. Entry fee for Standard is $5 and the entry fee for draft is $20 or $25 depending on the set. We also run a FNM Pauper event the first Friday of each month. Something for everyone!
URL:https://www.mguinc.com/event/friday-night-magic-2/2030-08-02/
LOCATION:Meta-Games Unlimited\, 3309-A E. Sunshine\, Springfield\, Missouri\, 65804
ATTACH;FMTTYPE=image/jpeg:https://www.mguinc.com/wp-content/uploads/2024/08/FNMFri-1.jpg
END:VEVENT
BEGIN:VEVENT
DTSTART;TZID=America/Chicago:20300809T183000
DTEND;TZID=America/Chicago:20300809T220000
DTSTAMP:20260420T170249
CREATED:20240809T233042Z
LAST-MODIFIED:20251227T225153Z
UID:10004314-1912530600-1912543200@www.mguinc.com
SUMMARY:Friday Night Magic
DESCRIPTION:Come by for Friday Night magic and have your choice of playing Standard or Draft. Events start at 6:30pm so make sure to come in a little early to get registered. Entry fee for Standard is $5 and the entry fee for draft is $20 or $25 depending on the set. We also run a FNM Pauper event the first Friday of each month. Something for everyone!
URL:https://www.mguinc.com/event/friday-night-magic-2/2030-08-09/
LOCATION:Meta-Games Unlimited\, 3309-A E. Sunshine\, Springfield\, Missouri\, 65804
ATTACH;FMTTYPE=image/jpeg:https://www.mguinc.com/wp-content/uploads/2024/08/FNMFri-1.jpg
END:VEVENT
BEGIN:VEVENT
DTSTART;TZID=America/Chicago:20300816T183000
DTEND;TZID=America/Chicago:20300816T220000
DTSTAMP:20260420T170249
CREATED:20240809T233042Z
LAST-MODIFIED:20251227T225153Z
UID:10004315-1913135400-1913148000@www.mguinc.com
SUMMARY:Friday Night Magic
DESCRIPTION:Come by for Friday Night magic and have your choice of playing Standard or Draft. Events start at 6:30pm so make sure to come in a little early to get registered. Entry fee for Standard is $5 and the entry fee for draft is $20 or $25 depending on the set. We also run a FNM Pauper event the first Friday of each month. Something for everyone!
URL:https://www.mguinc.com/event/friday-night-magic-2/2030-08-16/
LOCATION:Meta-Games Unlimited\, 3309-A E. Sunshine\, Springfield\, Missouri\, 65804
ATTACH;FMTTYPE=image/jpeg:https://www.mguinc.com/wp-content/uploads/2024/08/FNMFri-1.jpg
END:VEVENT
BEGIN:VEVENT
DTSTART;TZID=America/Chicago:20300823T183000
DTEND;TZID=America/Chicago:20300823T220000
DTSTAMP:20260420T170249
CREATED:20240809T233042Z
LAST-MODIFIED:20251227T225153Z
UID:10004316-1913740200-1913752800@www.mguinc.com
SUMMARY:Friday Night Magic
DESCRIPTION:Come by for Friday Night magic and have your choice of playing Standard or Draft. Events start at 6:30pm so make sure to come in a little early to get registered. Entry fee for Standard is $5 and the entry fee for draft is $20 or $25 depending on the set. We also run a FNM Pauper event the first Friday of each month. Something for everyone!
URL:https://www.mguinc.com/event/friday-night-magic-2/2030-08-23/
LOCATION:Meta-Games Unlimited\, 3309-A E. Sunshine\, Springfield\, Missouri\, 65804
ATTACH;FMTTYPE=image/jpeg:https://www.mguinc.com/wp-content/uploads/2024/08/FNMFri-1.jpg
END:VEVENT
BEGIN:VEVENT
DTSTART;TZID=America/Chicago:20300830T183000
DTEND;TZID=America/Chicago:20300830T220000
DTSTAMP:20260420T170249
CREATED:20240809T233042Z
LAST-MODIFIED:20251227T225153Z
UID:10004317-1914345000-1914357600@www.mguinc.com
SUMMARY:Friday Night Magic
DESCRIPTION:Come by for Friday Night magic and have your choice of playing Standard or Draft. Events start at 6:30pm so make sure to come in a little early to get registered. Entry fee for Standard is $5 and the entry fee for draft is $20 or $25 depending on the set. We also run a FNM Pauper event the first Friday of each month. Something for everyone!
URL:https://www.mguinc.com/event/friday-night-magic-2/2030-08-30/
LOCATION:Meta-Games Unlimited\, 3309-A E. Sunshine\, Springfield\, Missouri\, 65804
ATTACH;FMTTYPE=image/jpeg:https://www.mguinc.com/wp-content/uploads/2024/08/FNMFri-1.jpg
END:VEVENT
BEGIN:VEVENT
DTSTART;TZID=America/Chicago:20300906T183000
DTEND;TZID=America/Chicago:20300906T220000
DTSTAMP:20260420T170249
CREATED:20240809T233042Z
LAST-MODIFIED:20251227T225153Z
UID:10004318-1914949800-1914962400@www.mguinc.com
SUMMARY:Friday Night Magic
DESCRIPTION:Come by for Friday Night magic and have your choice of playing Standard or Draft. Events start at 6:30pm so make sure to come in a little early to get registered. Entry fee for Standard is $5 and the entry fee for draft is $20 or $25 depending on the set. We also run a FNM Pauper event the first Friday of each month. Something for everyone!
URL:https://www.mguinc.com/event/friday-night-magic-2/2030-09-06/
LOCATION:Meta-Games Unlimited\, 3309-A E. Sunshine\, Springfield\, Missouri\, 65804
ATTACH;FMTTYPE=image/jpeg:https://www.mguinc.com/wp-content/uploads/2024/08/FNMFri-1.jpg
END:VEVENT
BEGIN:VEVENT
DTSTART;TZID=America/Chicago:20300913T183000
DTEND;TZID=America/Chicago:20300913T220000
DTSTAMP:20260420T170249
CREATED:20240809T233042Z
LAST-MODIFIED:20251227T225153Z
UID:10004319-1915554600-1915567200@www.mguinc.com
SUMMARY:Friday Night Magic
DESCRIPTION:Come by for Friday Night magic and have your choice of playing Standard or Draft. Events start at 6:30pm so make sure to come in a little early to get registered. Entry fee for Standard is $5 and the entry fee for draft is $20 or $25 depending on the set. We also run a FNM Pauper event the first Friday of each month. Something for everyone!
URL:https://www.mguinc.com/event/friday-night-magic-2/2030-09-13/
LOCATION:Meta-Games Unlimited\, 3309-A E. Sunshine\, Springfield\, Missouri\, 65804
ATTACH;FMTTYPE=image/jpeg:https://www.mguinc.com/wp-content/uploads/2024/08/FNMFri-1.jpg
END:VEVENT
BEGIN:VEVENT
DTSTART;TZID=America/Chicago:20300920T183000
DTEND;TZID=America/Chicago:20300920T220000
DTSTAMP:20260420T170249
CREATED:20240809T233042Z
LAST-MODIFIED:20251227T225153Z
UID:10004320-1916159400-1916172000@www.mguinc.com
SUMMARY:Friday Night Magic
DESCRIPTION:Come by for Friday Night magic and have your choice of playing Standard or Draft. Events start at 6:30pm so make sure to come in a little early to get registered. Entry fee for Standard is $5 and the entry fee for draft is $20 or $25 depending on the set. We also run a FNM Pauper event the first Friday of each month. Something for everyone!
URL:https://www.mguinc.com/event/friday-night-magic-2/2030-09-20/
LOCATION:Meta-Games Unlimited\, 3309-A E. Sunshine\, Springfield\, Missouri\, 65804
ATTACH;FMTTYPE=image/jpeg:https://www.mguinc.com/wp-content/uploads/2024/08/FNMFri-1.jpg
END:VEVENT
BEGIN:VEVENT
DTSTART;TZID=America/Chicago:20300927T183000
DTEND;TZID=America/Chicago:20300927T220000
DTSTAMP:20260420T170249
CREATED:20240809T233042Z
LAST-MODIFIED:20251227T225153Z
UID:10004321-1916764200-1916776800@www.mguinc.com
SUMMARY:Friday Night Magic
DESCRIPTION:Come by for Friday Night magic and have your choice of playing Standard or Draft. Events start at 6:30pm so make sure to come in a little early to get registered. Entry fee for Standard is $5 and the entry fee for draft is $20 or $25 depending on the set. We also run a FNM Pauper event the first Friday of each month. Something for everyone!
URL:https://www.mguinc.com/event/friday-night-magic-2/2030-09-27/
LOCATION:Meta-Games Unlimited\, 3309-A E. Sunshine\, Springfield\, Missouri\, 65804
ATTACH;FMTTYPE=image/jpeg:https://www.mguinc.com/wp-content/uploads/2024/08/FNMFri-1.jpg
END:VEVENT
BEGIN:VEVENT
DTSTART;TZID=America/Chicago:20301004T183000
DTEND;TZID=America/Chicago:20301004T220000
DTSTAMP:20260420T170249
CREATED:20240809T233042Z
LAST-MODIFIED:20251227T225153Z
UID:10004322-1917369000-1917381600@www.mguinc.com
SUMMARY:Friday Night Magic
DESCRIPTION:Come by for Friday Night magic and have your choice of playing Standard or Draft. Events start at 6:30pm so make sure to come in a little early to get registered. Entry fee for Standard is $5 and the entry fee for draft is $20 or $25 depending on the set. We also run a FNM Pauper event the first Friday of each month. Something for everyone!
URL:https://www.mguinc.com/event/friday-night-magic-2/2030-10-04/
LOCATION:Meta-Games Unlimited\, 3309-A E. Sunshine\, Springfield\, Missouri\, 65804
ATTACH;FMTTYPE=image/jpeg:https://www.mguinc.com/wp-content/uploads/2024/08/FNMFri-1.jpg
END:VEVENT
BEGIN:VEVENT
DTSTART;TZID=America/Chicago:20301011T183000
DTEND;TZID=America/Chicago:20301011T220000
DTSTAMP:20260420T170249
CREATED:20240809T233042Z
LAST-MODIFIED:20251227T225153Z
UID:10004323-1917973800-1917986400@www.mguinc.com
SUMMARY:Friday Night Magic
DESCRIPTION:Come by for Friday Night magic and have your choice of playing Standard or Draft. Events start at 6:30pm so make sure to come in a little early to get registered. Entry fee for Standard is $5 and the entry fee for draft is $20 or $25 depending on the set. We also run a FNM Pauper event the first Friday of each month. Something for everyone!
URL:https://www.mguinc.com/event/friday-night-magic-2/2030-10-11/
LOCATION:Meta-Games Unlimited\, 3309-A E. Sunshine\, Springfield\, Missouri\, 65804
ATTACH;FMTTYPE=image/jpeg:https://www.mguinc.com/wp-content/uploads/2024/08/FNMFri-1.jpg
END:VEVENT
BEGIN:VEVENT
DTSTART;TZID=America/Chicago:20301018T183000
DTEND;TZID=America/Chicago:20301018T220000
DTSTAMP:20260420T170249
CREATED:20240809T233042Z
LAST-MODIFIED:20251227T225153Z
UID:10004324-1918578600-1918591200@www.mguinc.com
SUMMARY:Friday Night Magic
DESCRIPTION:Come by for Friday Night magic and have your choice of playing Standard or Draft. Events start at 6:30pm so make sure to come in a little early to get registered. Entry fee for Standard is $5 and the entry fee for draft is $20 or $25 depending on the set. We also run a FNM Pauper event the first Friday of each month. Something for everyone!
URL:https://www.mguinc.com/event/friday-night-magic-2/2030-10-18/
LOCATION:Meta-Games Unlimited\, 3309-A E. Sunshine\, Springfield\, Missouri\, 65804
ATTACH;FMTTYPE=image/jpeg:https://www.mguinc.com/wp-content/uploads/2024/08/FNMFri-1.jpg
END:VEVENT
BEGIN:VEVENT
DTSTART;TZID=America/Chicago:20301025T183000
DTEND;TZID=America/Chicago:20301025T220000
DTSTAMP:20260420T170249
CREATED:20240809T233042Z
LAST-MODIFIED:20251227T225153Z
UID:10004325-1919183400-1919196000@www.mguinc.com
SUMMARY:Friday Night Magic
DESCRIPTION:Come by for Friday Night magic and have your choice of playing Standard or Draft. Events start at 6:30pm so make sure to come in a little early to get registered. Entry fee for Standard is $5 and the entry fee for draft is $20 or $25 depending on the set. We also run a FNM Pauper event the first Friday of each month. Something for everyone!
URL:https://www.mguinc.com/event/friday-night-magic-2/2030-10-25/
LOCATION:Meta-Games Unlimited\, 3309-A E. Sunshine\, Springfield\, Missouri\, 65804
ATTACH;FMTTYPE=image/jpeg:https://www.mguinc.com/wp-content/uploads/2024/08/FNMFri-1.jpg
END:VEVENT
BEGIN:VEVENT
DTSTART;TZID=America/Chicago:20301101T183000
DTEND;TZID=America/Chicago:20301101T220000
DTSTAMP:20260420T170249
CREATED:20240809T233042Z
LAST-MODIFIED:20251227T225153Z
UID:10004326-1919788200-1919800800@www.mguinc.com
SUMMARY:Friday Night Magic
DESCRIPTION:Come by for Friday Night magic and have your choice of playing Standard or Draft. Events start at 6:30pm so make sure to come in a little early to get registered. Entry fee for Standard is $5 and the entry fee for draft is $20 or $25 depending on the set. We also run a FNM Pauper event the first Friday of each month. Something for everyone!
URL:https://www.mguinc.com/event/friday-night-magic-2/2030-11-01/
LOCATION:Meta-Games Unlimited\, 3309-A E. Sunshine\, Springfield\, Missouri\, 65804
ATTACH;FMTTYPE=image/jpeg:https://www.mguinc.com/wp-content/uploads/2024/08/FNMFri-1.jpg
END:VEVENT
BEGIN:VEVENT
DTSTART;TZID=America/Chicago:20301108T183000
DTEND;TZID=America/Chicago:20301108T220000
DTSTAMP:20260420T170249
CREATED:20240809T233042Z
LAST-MODIFIED:20251227T225153Z
UID:10004327-1920393000-1920405600@www.mguinc.com
SUMMARY:Friday Night Magic
DESCRIPTION:Come by for Friday Night magic and have your choice of playing Standard or Draft. Events start at 6:30pm so make sure to come in a little early to get registered. Entry fee for Standard is $5 and the entry fee for draft is $20 or $25 depending on the set. We also run a FNM Pauper event the first Friday of each month. Something for everyone!
URL:https://www.mguinc.com/event/friday-night-magic-2/2030-11-08/
LOCATION:Meta-Games Unlimited\, 3309-A E. Sunshine\, Springfield\, Missouri\, 65804
ATTACH;FMTTYPE=image/jpeg:https://www.mguinc.com/wp-content/uploads/2024/08/FNMFri-1.jpg
END:VEVENT
BEGIN:VEVENT
DTSTART;TZID=America/Chicago:20301115T183000
DTEND;TZID=America/Chicago:20301115T220000
DTSTAMP:20260420T170249
CREATED:20240809T233042Z
LAST-MODIFIED:20251227T225153Z
UID:10004328-1920997800-1921010400@www.mguinc.com
SUMMARY:Friday Night Magic
DESCRIPTION:Come by for Friday Night magic and have your choice of playing Standard or Draft. Events start at 6:30pm so make sure to come in a little early to get registered. Entry fee for Standard is $5 and the entry fee for draft is $20 or $25 depending on the set. We also run a FNM Pauper event the first Friday of each month. Something for everyone!
URL:https://www.mguinc.com/event/friday-night-magic-2/2030-11-15/
LOCATION:Meta-Games Unlimited\, 3309-A E. Sunshine\, Springfield\, Missouri\, 65804
ATTACH;FMTTYPE=image/jpeg:https://www.mguinc.com/wp-content/uploads/2024/08/FNMFri-1.jpg
END:VEVENT
BEGIN:VEVENT
DTSTART;TZID=America/Chicago:20301122T183000
DTEND;TZID=America/Chicago:20301122T220000
DTSTAMP:20260420T170249
CREATED:20240809T233042Z
LAST-MODIFIED:20251227T225153Z
UID:10004329-1921602600-1921615200@www.mguinc.com
SUMMARY:Friday Night Magic
DESCRIPTION:Come by for Friday Night magic and have your choice of playing Standard or Draft. Events start at 6:30pm so make sure to come in a little early to get registered. Entry fee for Standard is $5 and the entry fee for draft is $20 or $25 depending on the set. We also run a FNM Pauper event the first Friday of each month. Something for everyone!
URL:https://www.mguinc.com/event/friday-night-magic-2/2030-11-22/
LOCATION:Meta-Games Unlimited\, 3309-A E. Sunshine\, Springfield\, Missouri\, 65804
ATTACH;FMTTYPE=image/jpeg:https://www.mguinc.com/wp-content/uploads/2024/08/FNMFri-1.jpg
END:VEVENT
BEGIN:VEVENT
DTSTART;TZID=America/Chicago:20301129T183000
DTEND;TZID=America/Chicago:20301129T220000
DTSTAMP:20260420T170249
CREATED:20240809T233042Z
LAST-MODIFIED:20251227T225153Z
UID:10004330-1922207400-1922220000@www.mguinc.com
SUMMARY:Friday Night Magic
DESCRIPTION:Come by for Friday Night magic and have your choice of playing Standard or Draft. Events start at 6:30pm so make sure to come in a little early to get registered. Entry fee for Standard is $5 and the entry fee for draft is $20 or $25 depending on the set. We also run a FNM Pauper event the first Friday of each month. Something for everyone!
URL:https://www.mguinc.com/event/friday-night-magic-2/2030-11-29/
LOCATION:Meta-Games Unlimited\, 3309-A E. Sunshine\, Springfield\, Missouri\, 65804
ATTACH;FMTTYPE=image/jpeg:https://www.mguinc.com/wp-content/uploads/2024/08/FNMFri-1.jpg
END:VEVENT
BEGIN:VEVENT
DTSTART;TZID=America/Chicago:20301206T183000
DTEND;TZID=America/Chicago:20301206T220000
DTSTAMP:20260420T170249
CREATED:20240809T233042Z
LAST-MODIFIED:20251227T225153Z
UID:10004331-1922812200-1922824800@www.mguinc.com
SUMMARY:Friday Night Magic
DESCRIPTION:Come by for Friday Night magic and have your choice of playing Standard or Draft. Events start at 6:30pm so make sure to come in a little early to get registered. Entry fee for Standard is $5 and the entry fee for draft is $20 or $25 depending on the set. We also run a FNM Pauper event the first Friday of each month. Something for everyone!
URL:https://www.mguinc.com/event/friday-night-magic-2/2030-12-06/
LOCATION:Meta-Games Unlimited\, 3309-A E. Sunshine\, Springfield\, Missouri\, 65804
ATTACH;FMTTYPE=image/jpeg:https://www.mguinc.com/wp-content/uploads/2024/08/FNMFri-1.jpg
END:VEVENT
BEGIN:VEVENT
DTSTART;TZID=America/Chicago:20301213T183000
DTEND;TZID=America/Chicago:20301213T220000
DTSTAMP:20260420T170249
CREATED:20240809T233042Z
LAST-MODIFIED:20251227T225153Z
UID:10004332-1923417000-1923429600@www.mguinc.com
SUMMARY:Friday Night Magic
DESCRIPTION:Come by for Friday Night magic and have your choice of playing Standard or Draft. Events start at 6:30pm so make sure to come in a little early to get registered. Entry fee for Standard is $5 and the entry fee for draft is $20 or $25 depending on the set. We also run a FNM Pauper event the first Friday of each month. Something for everyone!
URL:https://www.mguinc.com/event/friday-night-magic-2/2030-12-13/
LOCATION:Meta-Games Unlimited\, 3309-A E. Sunshine\, Springfield\, Missouri\, 65804
ATTACH;FMTTYPE=image/jpeg:https://www.mguinc.com/wp-content/uploads/2024/08/FNMFri-1.jpg
END:VEVENT
BEGIN:VEVENT
DTSTART;TZID=America/Chicago:20301220T183000
DTEND;TZID=America/Chicago:20301220T220000
DTSTAMP:20260420T170249
CREATED:20240809T233042Z
LAST-MODIFIED:20251227T225153Z
UID:10004333-1924021800-1924034400@www.mguinc.com
SUMMARY:Friday Night Magic
DESCRIPTION:Come by for Friday Night magic and have your choice of playing Standard or Draft. Events start at 6:30pm so make sure to come in a little early to get registered. Entry fee for Standard is $5 and the entry fee for draft is $20 or $25 depending on the set. We also run a FNM Pauper event the first Friday of each month. Something for everyone!
URL:https://www.mguinc.com/event/friday-night-magic-2/2030-12-20/
LOCATION:Meta-Games Unlimited\, 3309-A E. Sunshine\, Springfield\, Missouri\, 65804
ATTACH;FMTTYPE=image/jpeg:https://www.mguinc.com/wp-content/uploads/2024/08/FNMFri-1.jpg
END:VEVENT
BEGIN:VEVENT
DTSTART;TZID=America/Chicago:20301227T183000
DTEND;TZID=America/Chicago:20301227T220000
DTSTAMP:20260420T170249
CREATED:20240809T233042Z
LAST-MODIFIED:20251227T225153Z
UID:10004334-1924626600-1924639200@www.mguinc.com
SUMMARY:Friday Night Magic
DESCRIPTION:Come by for Friday Night magic and have your choice of playing Standard or Draft. Events start at 6:30pm so make sure to come in a little early to get registered. Entry fee for Standard is $5 and the entry fee for draft is $20 or $25 depending on the set. We also run a FNM Pauper event the first Friday of each month. Something for everyone!
URL:https://www.mguinc.com/event/friday-night-magic-2/2030-12-27/
LOCATION:Meta-Games Unlimited\, 3309-A E. Sunshine\, Springfield\, Missouri\, 65804
ATTACH;FMTTYPE=image/jpeg:https://www.mguinc.com/wp-content/uploads/2024/08/FNMFri-1.jpg
END:VEVENT
END:VCALENDAR