BEGIN:VCALENDAR
VERSION:2.0
PRODID:-//Meta-Games Unlimited - ECPv6.15.20//NONSGML v1.0//EN
CALSCALE:GREGORIAN
METHOD:PUBLISH
X-ORIGINAL-URL:https://www.mguinc.com
X-WR-CALDESC:Events for Meta-Games Unlimited
REFRESH-INTERVAL;VALUE=DURATION:PT1H
X-Robots-Tag:noindex
X-PUBLISHED-TTL:PT1H
BEGIN:VTIMEZONE
TZID:America/Chicago
BEGIN:DAYLIGHT
TZOFFSETFROM:-0600
TZOFFSETTO:-0500
TZNAME:CDT
DTSTART:20280312T080000
END:DAYLIGHT
BEGIN:STANDARD
TZOFFSETFROM:-0500
TZOFFSETTO:-0600
TZNAME:CST
DTSTART:20281105T070000
END:STANDARD
BEGIN:DAYLIGHT
TZOFFSETFROM:-0600
TZOFFSETTO:-0500
TZNAME:CDT
DTSTART:20290311T080000
END:DAYLIGHT
BEGIN:STANDARD
TZOFFSETFROM:-0500
TZOFFSETTO:-0600
TZNAME:CST
DTSTART:20291104T070000
END:STANDARD
BEGIN:DAYLIGHT
TZOFFSETFROM:-0600
TZOFFSETTO:-0500
TZNAME:CDT
DTSTART:20300310T080000
END:DAYLIGHT
BEGIN:STANDARD
TZOFFSETFROM:-0500
TZOFFSETTO:-0600
TZNAME:CST
DTSTART:20301103T070000
END:STANDARD
BEGIN:DAYLIGHT
TZOFFSETFROM:-0600
TZOFFSETTO:-0500
TZNAME:CDT
DTSTART:20310309T080000
END:DAYLIGHT
BEGIN:STANDARD
TZOFFSETFROM:-0500
TZOFFSETTO:-0600
TZNAME:CST
DTSTART:20311102T070000
END:STANDARD
END:VTIMEZONE
BEGIN:VEVENT
DTSTART;TZID=America/Chicago:20291005T183000
DTEND;TZID=America/Chicago:20291005T220000
DTSTAMP:20260419T190947
CREATED:20240809T233042Z
LAST-MODIFIED:20251227T225153Z
UID:10004270-1885919400-1885932000@www.mguinc.com
SUMMARY:Friday Night Magic
DESCRIPTION:Come by for Friday Night magic and have your choice of playing Standard or Draft. Events start at 6:30pm so make sure to come in a little early to get registered. Entry fee for Standard is $5 and the entry fee for draft is $20 or $25 depending on the set. We also run a FNM Pauper event the first Friday of each month. Something for everyone!
URL:https://www.mguinc.com/event/friday-night-magic-2/2029-10-05/
LOCATION:Meta-Games Unlimited\, 3309-A E. Sunshine\, Springfield\, Missouri\, 65804
ATTACH;FMTTYPE=image/jpeg:https://www.mguinc.com/wp-content/uploads/2024/08/FNMFri-1.jpg
END:VEVENT
BEGIN:VEVENT
DTSTART;TZID=America/Chicago:20291012T183000
DTEND;TZID=America/Chicago:20291012T220000
DTSTAMP:20260419T190947
CREATED:20240809T233042Z
LAST-MODIFIED:20251227T225153Z
UID:10004271-1886524200-1886536800@www.mguinc.com
SUMMARY:Friday Night Magic
DESCRIPTION:Come by for Friday Night magic and have your choice of playing Standard or Draft. Events start at 6:30pm so make sure to come in a little early to get registered. Entry fee for Standard is $5 and the entry fee for draft is $20 or $25 depending on the set. We also run a FNM Pauper event the first Friday of each month. Something for everyone!
URL:https://www.mguinc.com/event/friday-night-magic-2/2029-10-12/
LOCATION:Meta-Games Unlimited\, 3309-A E. Sunshine\, Springfield\, Missouri\, 65804
ATTACH;FMTTYPE=image/jpeg:https://www.mguinc.com/wp-content/uploads/2024/08/FNMFri-1.jpg
END:VEVENT
BEGIN:VEVENT
DTSTART;TZID=America/Chicago:20291019T183000
DTEND;TZID=America/Chicago:20291019T220000
DTSTAMP:20260419T190947
CREATED:20240809T233042Z
LAST-MODIFIED:20251227T225153Z
UID:10004272-1887129000-1887141600@www.mguinc.com
SUMMARY:Friday Night Magic
DESCRIPTION:Come by for Friday Night magic and have your choice of playing Standard or Draft. Events start at 6:30pm so make sure to come in a little early to get registered. Entry fee for Standard is $5 and the entry fee for draft is $20 or $25 depending on the set. We also run a FNM Pauper event the first Friday of each month. Something for everyone!
URL:https://www.mguinc.com/event/friday-night-magic-2/2029-10-19/
LOCATION:Meta-Games Unlimited\, 3309-A E. Sunshine\, Springfield\, Missouri\, 65804
ATTACH;FMTTYPE=image/jpeg:https://www.mguinc.com/wp-content/uploads/2024/08/FNMFri-1.jpg
END:VEVENT
BEGIN:VEVENT
DTSTART;TZID=America/Chicago:20291026T183000
DTEND;TZID=America/Chicago:20291026T220000
DTSTAMP:20260419T190947
CREATED:20240809T233042Z
LAST-MODIFIED:20251227T225153Z
UID:10004273-1887733800-1887746400@www.mguinc.com
SUMMARY:Friday Night Magic
DESCRIPTION:Come by for Friday Night magic and have your choice of playing Standard or Draft. Events start at 6:30pm so make sure to come in a little early to get registered. Entry fee for Standard is $5 and the entry fee for draft is $20 or $25 depending on the set. We also run a FNM Pauper event the first Friday of each month. Something for everyone!
URL:https://www.mguinc.com/event/friday-night-magic-2/2029-10-26/
LOCATION:Meta-Games Unlimited\, 3309-A E. Sunshine\, Springfield\, Missouri\, 65804
ATTACH;FMTTYPE=image/jpeg:https://www.mguinc.com/wp-content/uploads/2024/08/FNMFri-1.jpg
END:VEVENT
BEGIN:VEVENT
DTSTART;TZID=America/Chicago:20291102T183000
DTEND;TZID=America/Chicago:20291102T220000
DTSTAMP:20260419T190947
CREATED:20240809T233042Z
LAST-MODIFIED:20251227T225153Z
UID:10004274-1888338600-1888351200@www.mguinc.com
SUMMARY:Friday Night Magic
DESCRIPTION:Come by for Friday Night magic and have your choice of playing Standard or Draft. Events start at 6:30pm so make sure to come in a little early to get registered. Entry fee for Standard is $5 and the entry fee for draft is $20 or $25 depending on the set. We also run a FNM Pauper event the first Friday of each month. Something for everyone!
URL:https://www.mguinc.com/event/friday-night-magic-2/2029-11-02/
LOCATION:Meta-Games Unlimited\, 3309-A E. Sunshine\, Springfield\, Missouri\, 65804
ATTACH;FMTTYPE=image/jpeg:https://www.mguinc.com/wp-content/uploads/2024/08/FNMFri-1.jpg
END:VEVENT
BEGIN:VEVENT
DTSTART;TZID=America/Chicago:20291109T183000
DTEND;TZID=America/Chicago:20291109T220000
DTSTAMP:20260419T190947
CREATED:20240809T233042Z
LAST-MODIFIED:20251227T225153Z
UID:10004275-1888943400-1888956000@www.mguinc.com
SUMMARY:Friday Night Magic
DESCRIPTION:Come by for Friday Night magic and have your choice of playing Standard or Draft. Events start at 6:30pm so make sure to come in a little early to get registered. Entry fee for Standard is $5 and the entry fee for draft is $20 or $25 depending on the set. We also run a FNM Pauper event the first Friday of each month. Something for everyone!
URL:https://www.mguinc.com/event/friday-night-magic-2/2029-11-09/
LOCATION:Meta-Games Unlimited\, 3309-A E. Sunshine\, Springfield\, Missouri\, 65804
ATTACH;FMTTYPE=image/jpeg:https://www.mguinc.com/wp-content/uploads/2024/08/FNMFri-1.jpg
END:VEVENT
BEGIN:VEVENT
DTSTART;TZID=America/Chicago:20291116T183000
DTEND;TZID=America/Chicago:20291116T220000
DTSTAMP:20260419T190947
CREATED:20240809T233042Z
LAST-MODIFIED:20251227T225153Z
UID:10004276-1889548200-1889560800@www.mguinc.com
SUMMARY:Friday Night Magic
DESCRIPTION:Come by for Friday Night magic and have your choice of playing Standard or Draft. Events start at 6:30pm so make sure to come in a little early to get registered. Entry fee for Standard is $5 and the entry fee for draft is $20 or $25 depending on the set. We also run a FNM Pauper event the first Friday of each month. Something for everyone!
URL:https://www.mguinc.com/event/friday-night-magic-2/2029-11-16/
LOCATION:Meta-Games Unlimited\, 3309-A E. Sunshine\, Springfield\, Missouri\, 65804
ATTACH;FMTTYPE=image/jpeg:https://www.mguinc.com/wp-content/uploads/2024/08/FNMFri-1.jpg
END:VEVENT
BEGIN:VEVENT
DTSTART;TZID=America/Chicago:20291123T183000
DTEND;TZID=America/Chicago:20291123T220000
DTSTAMP:20260419T190947
CREATED:20240809T233042Z
LAST-MODIFIED:20251227T225153Z
UID:10004277-1890153000-1890165600@www.mguinc.com
SUMMARY:Friday Night Magic
DESCRIPTION:Come by for Friday Night magic and have your choice of playing Standard or Draft. Events start at 6:30pm so make sure to come in a little early to get registered. Entry fee for Standard is $5 and the entry fee for draft is $20 or $25 depending on the set. We also run a FNM Pauper event the first Friday of each month. Something for everyone!
URL:https://www.mguinc.com/event/friday-night-magic-2/2029-11-23/
LOCATION:Meta-Games Unlimited\, 3309-A E. Sunshine\, Springfield\, Missouri\, 65804
ATTACH;FMTTYPE=image/jpeg:https://www.mguinc.com/wp-content/uploads/2024/08/FNMFri-1.jpg
END:VEVENT
BEGIN:VEVENT
DTSTART;TZID=America/Chicago:20291130T183000
DTEND;TZID=America/Chicago:20291130T220000
DTSTAMP:20260419T190947
CREATED:20240809T233042Z
LAST-MODIFIED:20251227T225153Z
UID:10004278-1890757800-1890770400@www.mguinc.com
SUMMARY:Friday Night Magic
DESCRIPTION:Come by for Friday Night magic and have your choice of playing Standard or Draft. Events start at 6:30pm so make sure to come in a little early to get registered. Entry fee for Standard is $5 and the entry fee for draft is $20 or $25 depending on the set. We also run a FNM Pauper event the first Friday of each month. Something for everyone!
URL:https://www.mguinc.com/event/friday-night-magic-2/2029-11-30/
LOCATION:Meta-Games Unlimited\, 3309-A E. Sunshine\, Springfield\, Missouri\, 65804
ATTACH;FMTTYPE=image/jpeg:https://www.mguinc.com/wp-content/uploads/2024/08/FNMFri-1.jpg
END:VEVENT
BEGIN:VEVENT
DTSTART;TZID=America/Chicago:20291207T183000
DTEND;TZID=America/Chicago:20291207T220000
DTSTAMP:20260419T190947
CREATED:20240809T233042Z
LAST-MODIFIED:20251227T225153Z
UID:10004279-1891362600-1891375200@www.mguinc.com
SUMMARY:Friday Night Magic
DESCRIPTION:Come by for Friday Night magic and have your choice of playing Standard or Draft. Events start at 6:30pm so make sure to come in a little early to get registered. Entry fee for Standard is $5 and the entry fee for draft is $20 or $25 depending on the set. We also run a FNM Pauper event the first Friday of each month. Something for everyone!
URL:https://www.mguinc.com/event/friday-night-magic-2/2029-12-07/
LOCATION:Meta-Games Unlimited\, 3309-A E. Sunshine\, Springfield\, Missouri\, 65804
ATTACH;FMTTYPE=image/jpeg:https://www.mguinc.com/wp-content/uploads/2024/08/FNMFri-1.jpg
END:VEVENT
BEGIN:VEVENT
DTSTART;TZID=America/Chicago:20291214T183000
DTEND;TZID=America/Chicago:20291214T220000
DTSTAMP:20260419T190947
CREATED:20240809T233042Z
LAST-MODIFIED:20251227T225153Z
UID:10004280-1891967400-1891980000@www.mguinc.com
SUMMARY:Friday Night Magic
DESCRIPTION:Come by for Friday Night magic and have your choice of playing Standard or Draft. Events start at 6:30pm so make sure to come in a little early to get registered. Entry fee for Standard is $5 and the entry fee for draft is $20 or $25 depending on the set. We also run a FNM Pauper event the first Friday of each month. Something for everyone!
URL:https://www.mguinc.com/event/friday-night-magic-2/2029-12-14/
LOCATION:Meta-Games Unlimited\, 3309-A E. Sunshine\, Springfield\, Missouri\, 65804
ATTACH;FMTTYPE=image/jpeg:https://www.mguinc.com/wp-content/uploads/2024/08/FNMFri-1.jpg
END:VEVENT
BEGIN:VEVENT
DTSTART;TZID=America/Chicago:20291221T183000
DTEND;TZID=America/Chicago:20291221T220000
DTSTAMP:20260419T190947
CREATED:20240809T233042Z
LAST-MODIFIED:20251227T225153Z
UID:10004281-1892572200-1892584800@www.mguinc.com
SUMMARY:Friday Night Magic
DESCRIPTION:Come by for Friday Night magic and have your choice of playing Standard or Draft. Events start at 6:30pm so make sure to come in a little early to get registered. Entry fee for Standard is $5 and the entry fee for draft is $20 or $25 depending on the set. We also run a FNM Pauper event the first Friday of each month. Something for everyone!
URL:https://www.mguinc.com/event/friday-night-magic-2/2029-12-21/
LOCATION:Meta-Games Unlimited\, 3309-A E. Sunshine\, Springfield\, Missouri\, 65804
ATTACH;FMTTYPE=image/jpeg:https://www.mguinc.com/wp-content/uploads/2024/08/FNMFri-1.jpg
END:VEVENT
BEGIN:VEVENT
DTSTART;TZID=America/Chicago:20291228T183000
DTEND;TZID=America/Chicago:20291228T220000
DTSTAMP:20260419T190947
CREATED:20240809T233042Z
LAST-MODIFIED:20251227T225153Z
UID:10004282-1893177000-1893189600@www.mguinc.com
SUMMARY:Friday Night Magic
DESCRIPTION:Come by for Friday Night magic and have your choice of playing Standard or Draft. Events start at 6:30pm so make sure to come in a little early to get registered. Entry fee for Standard is $5 and the entry fee for draft is $20 or $25 depending on the set. We also run a FNM Pauper event the first Friday of each month. Something for everyone!
URL:https://www.mguinc.com/event/friday-night-magic-2/2029-12-28/
LOCATION:Meta-Games Unlimited\, 3309-A E. Sunshine\, Springfield\, Missouri\, 65804
ATTACH;FMTTYPE=image/jpeg:https://www.mguinc.com/wp-content/uploads/2024/08/FNMFri-1.jpg
END:VEVENT
BEGIN:VEVENT
DTSTART;TZID=America/Chicago:20300104T183000
DTEND;TZID=America/Chicago:20300104T220000
DTSTAMP:20260419T190947
CREATED:20240809T233042Z
LAST-MODIFIED:20251227T225153Z
UID:10004283-1893781800-1893794400@www.mguinc.com
SUMMARY:Friday Night Magic
DESCRIPTION:Come by for Friday Night magic and have your choice of playing Standard or Draft. Events start at 6:30pm so make sure to come in a little early to get registered. Entry fee for Standard is $5 and the entry fee for draft is $20 or $25 depending on the set. We also run a FNM Pauper event the first Friday of each month. Something for everyone!
URL:https://www.mguinc.com/event/friday-night-magic-2/2030-01-04/
LOCATION:Meta-Games Unlimited\, 3309-A E. Sunshine\, Springfield\, Missouri\, 65804
ATTACH;FMTTYPE=image/jpeg:https://www.mguinc.com/wp-content/uploads/2024/08/FNMFri-1.jpg
END:VEVENT
BEGIN:VEVENT
DTSTART;TZID=America/Chicago:20300111T183000
DTEND;TZID=America/Chicago:20300111T220000
DTSTAMP:20260419T190947
CREATED:20240809T233042Z
LAST-MODIFIED:20251227T225153Z
UID:10004284-1894386600-1894399200@www.mguinc.com
SUMMARY:Friday Night Magic
DESCRIPTION:Come by for Friday Night magic and have your choice of playing Standard or Draft. Events start at 6:30pm so make sure to come in a little early to get registered. Entry fee for Standard is $5 and the entry fee for draft is $20 or $25 depending on the set. We also run a FNM Pauper event the first Friday of each month. Something for everyone!
URL:https://www.mguinc.com/event/friday-night-magic-2/2030-01-11/
LOCATION:Meta-Games Unlimited\, 3309-A E. Sunshine\, Springfield\, Missouri\, 65804
ATTACH;FMTTYPE=image/jpeg:https://www.mguinc.com/wp-content/uploads/2024/08/FNMFri-1.jpg
END:VEVENT
BEGIN:VEVENT
DTSTART;TZID=America/Chicago:20300118T183000
DTEND;TZID=America/Chicago:20300118T220000
DTSTAMP:20260419T190947
CREATED:20240809T233042Z
LAST-MODIFIED:20251227T225153Z
UID:10004285-1894991400-1895004000@www.mguinc.com
SUMMARY:Friday Night Magic
DESCRIPTION:Come by for Friday Night magic and have your choice of playing Standard or Draft. Events start at 6:30pm so make sure to come in a little early to get registered. Entry fee for Standard is $5 and the entry fee for draft is $20 or $25 depending on the set. We also run a FNM Pauper event the first Friday of each month. Something for everyone!
URL:https://www.mguinc.com/event/friday-night-magic-2/2030-01-18/
LOCATION:Meta-Games Unlimited\, 3309-A E. Sunshine\, Springfield\, Missouri\, 65804
ATTACH;FMTTYPE=image/jpeg:https://www.mguinc.com/wp-content/uploads/2024/08/FNMFri-1.jpg
END:VEVENT
BEGIN:VEVENT
DTSTART;TZID=America/Chicago:20300125T183000
DTEND;TZID=America/Chicago:20300125T220000
DTSTAMP:20260419T190947
CREATED:20240809T233042Z
LAST-MODIFIED:20251227T225153Z
UID:10004286-1895596200-1895608800@www.mguinc.com
SUMMARY:Friday Night Magic
DESCRIPTION:Come by for Friday Night magic and have your choice of playing Standard or Draft. Events start at 6:30pm so make sure to come in a little early to get registered. Entry fee for Standard is $5 and the entry fee for draft is $20 or $25 depending on the set. We also run a FNM Pauper event the first Friday of each month. Something for everyone!
URL:https://www.mguinc.com/event/friday-night-magic-2/2030-01-25/
LOCATION:Meta-Games Unlimited\, 3309-A E. Sunshine\, Springfield\, Missouri\, 65804
ATTACH;FMTTYPE=image/jpeg:https://www.mguinc.com/wp-content/uploads/2024/08/FNMFri-1.jpg
END:VEVENT
BEGIN:VEVENT
DTSTART;TZID=America/Chicago:20300201T183000
DTEND;TZID=America/Chicago:20300201T220000
DTSTAMP:20260419T190947
CREATED:20240809T233042Z
LAST-MODIFIED:20251227T225153Z
UID:10004287-1896201000-1896213600@www.mguinc.com
SUMMARY:Friday Night Magic
DESCRIPTION:Come by for Friday Night magic and have your choice of playing Standard or Draft. Events start at 6:30pm so make sure to come in a little early to get registered. Entry fee for Standard is $5 and the entry fee for draft is $20 or $25 depending on the set. We also run a FNM Pauper event the first Friday of each month. Something for everyone!
URL:https://www.mguinc.com/event/friday-night-magic-2/2030-02-01/
LOCATION:Meta-Games Unlimited\, 3309-A E. Sunshine\, Springfield\, Missouri\, 65804
ATTACH;FMTTYPE=image/jpeg:https://www.mguinc.com/wp-content/uploads/2024/08/FNMFri-1.jpg
END:VEVENT
BEGIN:VEVENT
DTSTART;TZID=America/Chicago:20300208T183000
DTEND;TZID=America/Chicago:20300208T220000
DTSTAMP:20260419T190947
CREATED:20240809T233042Z
LAST-MODIFIED:20251227T225153Z
UID:10004288-1896805800-1896818400@www.mguinc.com
SUMMARY:Friday Night Magic
DESCRIPTION:Come by for Friday Night magic and have your choice of playing Standard or Draft. Events start at 6:30pm so make sure to come in a little early to get registered. Entry fee for Standard is $5 and the entry fee for draft is $20 or $25 depending on the set. We also run a FNM Pauper event the first Friday of each month. Something for everyone!
URL:https://www.mguinc.com/event/friday-night-magic-2/2030-02-08/
LOCATION:Meta-Games Unlimited\, 3309-A E. Sunshine\, Springfield\, Missouri\, 65804
ATTACH;FMTTYPE=image/jpeg:https://www.mguinc.com/wp-content/uploads/2024/08/FNMFri-1.jpg
END:VEVENT
BEGIN:VEVENT
DTSTART;TZID=America/Chicago:20300215T183000
DTEND;TZID=America/Chicago:20300215T220000
DTSTAMP:20260419T190947
CREATED:20240809T233042Z
LAST-MODIFIED:20251227T225153Z
UID:10004289-1897410600-1897423200@www.mguinc.com
SUMMARY:Friday Night Magic
DESCRIPTION:Come by for Friday Night magic and have your choice of playing Standard or Draft. Events start at 6:30pm so make sure to come in a little early to get registered. Entry fee for Standard is $5 and the entry fee for draft is $20 or $25 depending on the set. We also run a FNM Pauper event the first Friday of each month. Something for everyone!
URL:https://www.mguinc.com/event/friday-night-magic-2/2030-02-15/
LOCATION:Meta-Games Unlimited\, 3309-A E. Sunshine\, Springfield\, Missouri\, 65804
ATTACH;FMTTYPE=image/jpeg:https://www.mguinc.com/wp-content/uploads/2024/08/FNMFri-1.jpg
END:VEVENT
BEGIN:VEVENT
DTSTART;TZID=America/Chicago:20300222T183000
DTEND;TZID=America/Chicago:20300222T220000
DTSTAMP:20260419T190947
CREATED:20240809T233042Z
LAST-MODIFIED:20251227T225153Z
UID:10004290-1898015400-1898028000@www.mguinc.com
SUMMARY:Friday Night Magic
DESCRIPTION:Come by for Friday Night magic and have your choice of playing Standard or Draft. Events start at 6:30pm so make sure to come in a little early to get registered. Entry fee for Standard is $5 and the entry fee for draft is $20 or $25 depending on the set. We also run a FNM Pauper event the first Friday of each month. Something for everyone!
URL:https://www.mguinc.com/event/friday-night-magic-2/2030-02-22/
LOCATION:Meta-Games Unlimited\, 3309-A E. Sunshine\, Springfield\, Missouri\, 65804
ATTACH;FMTTYPE=image/jpeg:https://www.mguinc.com/wp-content/uploads/2024/08/FNMFri-1.jpg
END:VEVENT
BEGIN:VEVENT
DTSTART;TZID=America/Chicago:20300301T183000
DTEND;TZID=America/Chicago:20300301T220000
DTSTAMP:20260419T190947
CREATED:20240809T233042Z
LAST-MODIFIED:20251227T225153Z
UID:10004291-1898620200-1898632800@www.mguinc.com
SUMMARY:Friday Night Magic
DESCRIPTION:Come by for Friday Night magic and have your choice of playing Standard or Draft. Events start at 6:30pm so make sure to come in a little early to get registered. Entry fee for Standard is $5 and the entry fee for draft is $20 or $25 depending on the set. We also run a FNM Pauper event the first Friday of each month. Something for everyone!
URL:https://www.mguinc.com/event/friday-night-magic-2/2030-03-01/
LOCATION:Meta-Games Unlimited\, 3309-A E. Sunshine\, Springfield\, Missouri\, 65804
ATTACH;FMTTYPE=image/jpeg:https://www.mguinc.com/wp-content/uploads/2024/08/FNMFri-1.jpg
END:VEVENT
BEGIN:VEVENT
DTSTART;TZID=America/Chicago:20300308T183000
DTEND;TZID=America/Chicago:20300308T220000
DTSTAMP:20260419T190947
CREATED:20240809T233042Z
LAST-MODIFIED:20251227T225153Z
UID:10004292-1899225000-1899237600@www.mguinc.com
SUMMARY:Friday Night Magic
DESCRIPTION:Come by for Friday Night magic and have your choice of playing Standard or Draft. Events start at 6:30pm so make sure to come in a little early to get registered. Entry fee for Standard is $5 and the entry fee for draft is $20 or $25 depending on the set. We also run a FNM Pauper event the first Friday of each month. Something for everyone!
URL:https://www.mguinc.com/event/friday-night-magic-2/2030-03-08/
LOCATION:Meta-Games Unlimited\, 3309-A E. Sunshine\, Springfield\, Missouri\, 65804
ATTACH;FMTTYPE=image/jpeg:https://www.mguinc.com/wp-content/uploads/2024/08/FNMFri-1.jpg
END:VEVENT
BEGIN:VEVENT
DTSTART;TZID=America/Chicago:20300315T183000
DTEND;TZID=America/Chicago:20300315T220000
DTSTAMP:20260419T190947
CREATED:20240809T233042Z
LAST-MODIFIED:20251227T225153Z
UID:10004293-1899829800-1899842400@www.mguinc.com
SUMMARY:Friday Night Magic
DESCRIPTION:Come by for Friday Night magic and have your choice of playing Standard or Draft. Events start at 6:30pm so make sure to come in a little early to get registered. Entry fee for Standard is $5 and the entry fee for draft is $20 or $25 depending on the set. We also run a FNM Pauper event the first Friday of each month. Something for everyone!
URL:https://www.mguinc.com/event/friday-night-magic-2/2030-03-15/
LOCATION:Meta-Games Unlimited\, 3309-A E. Sunshine\, Springfield\, Missouri\, 65804
ATTACH;FMTTYPE=image/jpeg:https://www.mguinc.com/wp-content/uploads/2024/08/FNMFri-1.jpg
END:VEVENT
BEGIN:VEVENT
DTSTART;TZID=America/Chicago:20300322T183000
DTEND;TZID=America/Chicago:20300322T220000
DTSTAMP:20260419T190947
CREATED:20240809T233042Z
LAST-MODIFIED:20251227T225153Z
UID:10004294-1900434600-1900447200@www.mguinc.com
SUMMARY:Friday Night Magic
DESCRIPTION:Come by for Friday Night magic and have your choice of playing Standard or Draft. Events start at 6:30pm so make sure to come in a little early to get registered. Entry fee for Standard is $5 and the entry fee for draft is $20 or $25 depending on the set. We also run a FNM Pauper event the first Friday of each month. Something for everyone!
URL:https://www.mguinc.com/event/friday-night-magic-2/2030-03-22/
LOCATION:Meta-Games Unlimited\, 3309-A E. Sunshine\, Springfield\, Missouri\, 65804
ATTACH;FMTTYPE=image/jpeg:https://www.mguinc.com/wp-content/uploads/2024/08/FNMFri-1.jpg
END:VEVENT
BEGIN:VEVENT
DTSTART;TZID=America/Chicago:20300329T183000
DTEND;TZID=America/Chicago:20300329T220000
DTSTAMP:20260419T190947
CREATED:20240809T233042Z
LAST-MODIFIED:20251227T225153Z
UID:10004295-1901039400-1901052000@www.mguinc.com
SUMMARY:Friday Night Magic
DESCRIPTION:Come by for Friday Night magic and have your choice of playing Standard or Draft. Events start at 6:30pm so make sure to come in a little early to get registered. Entry fee for Standard is $5 and the entry fee for draft is $20 or $25 depending on the set. We also run a FNM Pauper event the first Friday of each month. Something for everyone!
URL:https://www.mguinc.com/event/friday-night-magic-2/2030-03-29/
LOCATION:Meta-Games Unlimited\, 3309-A E. Sunshine\, Springfield\, Missouri\, 65804
ATTACH;FMTTYPE=image/jpeg:https://www.mguinc.com/wp-content/uploads/2024/08/FNMFri-1.jpg
END:VEVENT
BEGIN:VEVENT
DTSTART;TZID=America/Chicago:20300405T183000
DTEND;TZID=America/Chicago:20300405T220000
DTSTAMP:20260419T190947
CREATED:20240809T233042Z
LAST-MODIFIED:20251227T225153Z
UID:10004296-1901644200-1901656800@www.mguinc.com
SUMMARY:Friday Night Magic
DESCRIPTION:Come by for Friday Night magic and have your choice of playing Standard or Draft. Events start at 6:30pm so make sure to come in a little early to get registered. Entry fee for Standard is $5 and the entry fee for draft is $20 or $25 depending on the set. We also run a FNM Pauper event the first Friday of each month. Something for everyone!
URL:https://www.mguinc.com/event/friday-night-magic-2/2030-04-05/
LOCATION:Meta-Games Unlimited\, 3309-A E. Sunshine\, Springfield\, Missouri\, 65804
ATTACH;FMTTYPE=image/jpeg:https://www.mguinc.com/wp-content/uploads/2024/08/FNMFri-1.jpg
END:VEVENT
BEGIN:VEVENT
DTSTART;TZID=America/Chicago:20300412T183000
DTEND;TZID=America/Chicago:20300412T220000
DTSTAMP:20260419T190947
CREATED:20240809T233042Z
LAST-MODIFIED:20251227T225153Z
UID:10004297-1902249000-1902261600@www.mguinc.com
SUMMARY:Friday Night Magic
DESCRIPTION:Come by for Friday Night magic and have your choice of playing Standard or Draft. Events start at 6:30pm so make sure to come in a little early to get registered. Entry fee for Standard is $5 and the entry fee for draft is $20 or $25 depending on the set. We also run a FNM Pauper event the first Friday of each month. Something for everyone!
URL:https://www.mguinc.com/event/friday-night-magic-2/2030-04-12/
LOCATION:Meta-Games Unlimited\, 3309-A E. Sunshine\, Springfield\, Missouri\, 65804
ATTACH;FMTTYPE=image/jpeg:https://www.mguinc.com/wp-content/uploads/2024/08/FNMFri-1.jpg
END:VEVENT
BEGIN:VEVENT
DTSTART;TZID=America/Chicago:20300419T183000
DTEND;TZID=America/Chicago:20300419T220000
DTSTAMP:20260419T190947
CREATED:20240809T233042Z
LAST-MODIFIED:20251227T225153Z
UID:10004298-1902853800-1902866400@www.mguinc.com
SUMMARY:Friday Night Magic
DESCRIPTION:Come by for Friday Night magic and have your choice of playing Standard or Draft. Events start at 6:30pm so make sure to come in a little early to get registered. Entry fee for Standard is $5 and the entry fee for draft is $20 or $25 depending on the set. We also run a FNM Pauper event the first Friday of each month. Something for everyone!
URL:https://www.mguinc.com/event/friday-night-magic-2/2030-04-19/
LOCATION:Meta-Games Unlimited\, 3309-A E. Sunshine\, Springfield\, Missouri\, 65804
ATTACH;FMTTYPE=image/jpeg:https://www.mguinc.com/wp-content/uploads/2024/08/FNMFri-1.jpg
END:VEVENT
BEGIN:VEVENT
DTSTART;TZID=America/Chicago:20300426T183000
DTEND;TZID=America/Chicago:20300426T220000
DTSTAMP:20260419T190947
CREATED:20240809T233042Z
LAST-MODIFIED:20251227T225153Z
UID:10004299-1903458600-1903471200@www.mguinc.com
SUMMARY:Friday Night Magic
DESCRIPTION:Come by for Friday Night magic and have your choice of playing Standard or Draft. Events start at 6:30pm so make sure to come in a little early to get registered. Entry fee for Standard is $5 and the entry fee for draft is $20 or $25 depending on the set. We also run a FNM Pauper event the first Friday of each month. Something for everyone!
URL:https://www.mguinc.com/event/friday-night-magic-2/2030-04-26/
LOCATION:Meta-Games Unlimited\, 3309-A E. Sunshine\, Springfield\, Missouri\, 65804
ATTACH;FMTTYPE=image/jpeg:https://www.mguinc.com/wp-content/uploads/2024/08/FNMFri-1.jpg
END:VEVENT
END:VCALENDAR