BEGIN:VCALENDAR
VERSION:2.0
PRODID:-//Meta-Games Unlimited - ECPv6.15.20//NONSGML v1.0//EN
CALSCALE:GREGORIAN
METHOD:PUBLISH
X-WR-CALNAME:Meta-Games Unlimited
X-ORIGINAL-URL:https://www.mguinc.com
X-WR-CALDESC:Events for Meta-Games Unlimited
REFRESH-INTERVAL;VALUE=DURATION:PT1H
X-Robots-Tag:noindex
X-PUBLISHED-TTL:PT1H
BEGIN:VTIMEZONE
TZID:America/Chicago
BEGIN:DAYLIGHT
TZOFFSETFROM:-0600
TZOFFSETTO:-0500
TZNAME:CDT
DTSTART:20230312T080000
END:DAYLIGHT
BEGIN:STANDARD
TZOFFSETFROM:-0500
TZOFFSETTO:-0600
TZNAME:CST
DTSTART:20231105T070000
END:STANDARD
BEGIN:DAYLIGHT
TZOFFSETFROM:-0600
TZOFFSETTO:-0500
TZNAME:CDT
DTSTART:20240310T080000
END:DAYLIGHT
BEGIN:STANDARD
TZOFFSETFROM:-0500
TZOFFSETTO:-0600
TZNAME:CST
DTSTART:20241103T070000
END:STANDARD
BEGIN:DAYLIGHT
TZOFFSETFROM:-0600
TZOFFSETTO:-0500
TZNAME:CDT
DTSTART:20250309T080000
END:DAYLIGHT
BEGIN:STANDARD
TZOFFSETFROM:-0500
TZOFFSETTO:-0600
TZNAME:CST
DTSTART:20251102T070000
END:STANDARD
END:VTIMEZONE
BEGIN:VEVENT
DTSTART;TZID=America/Chicago:20240824T090000
DTEND;TZID=America/Chicago:20240824T170000
DTSTAMP:20260423T074228
CREATED:20240801T221556Z
LAST-MODIFIED:20240801T221608Z
UID:10003237-1724490000-1724518800@www.mguinc.com
SUMMARY:Warhammer 40\,000 August 2000pt Tournament
DESCRIPTION:August Warhammer 40K Tournament2000 points$10 Entry FeeSign-In 9amRound 1 starts at 10amPrizes based on attendanceSign Up at the BCP link:https://www.bestcoastpairings.com/event/N1NPW9EN09
URL:https://www.mguinc.com/event/warhammer-40000-august-2000pt-tournament/
LOCATION:Meta-Games\, 3309 E Sunshine\, Springfield\, MO\, 65804\, United States
ATTACH;FMTTYPE=image/jpeg:https://www.mguinc.com/wp-content/uploads/2024/08/40k82424.jpg
END:VEVENT
BEGIN:VEVENT
DTSTART;TZID=America/Chicago:20240824T110000
DTEND;TZID=America/Chicago:20240824T140000
DTSTAMP:20260423T074228
CREATED:20240817T204819Z
LAST-MODIFIED:20240823T230335Z
UID:10003244-1724497200-1724508000@www.mguinc.com
SUMMARY:Kodama Demo Day
DESCRIPTION:Come and learn Kodama: The Tree Spirits!  \n\n\n\nBoard Game Geek Description:The forest is growing fast! As caretakers for Kodama\, the tree spirits\, you must keep the forest a healthy and lush home for your little friends. Over three growing seasons\, you must cultivate trees with the right mix of flowers\, insects\, and branch arrangements to make your Kodama as happy as possible. Whoever cares for their Kodama best will be remembered for generations! \n\n\n\nFrom the designer of the hit game Kigi\, Kodama: The Tree Spirits branches out into a fun new way to play! Grow your tree by placing cards in clever arrangements\, being careful to leave room for future growth. At the end of each season\, one Kodama will award you points for how well your tree suits its needs. With beautiful art and innovative mechanics\, Kodama is an inTREEguing game for the whole family.
URL:https://www.mguinc.com/event/kodama-demo-day/
LOCATION:Meta-Games\, 3309 E Sunshine\, Springfield\, MO\, 65804\, United States
ATTACH;FMTTYPE=image/jpeg:https://www.mguinc.com/wp-content/uploads/2024/08/kodama824insta2.0.jpg
END:VEVENT
END:VCALENDAR